BEGIN:VCALENDAR
VERSION:2.0
PRODID:-//Kino Tuškanac//Filmski programi//HR
URL:http://kinotuskanac/calendar/cycle/345
NAME:Kino Tuškanac ciklus Tri filma iz arhive Media Acquisitions
X-WR-CALNAME:Kino Tuškanac ciklus Tri filma iz arhive Media Acquisitions
TIMEZONE-ID:Europe/Zagreb
X-WR-TIMEZONE:Europe/Zagreb
REFRESH-INTERVAL;VALUE=DURATION:PT12H
X-PUBLISHED-TTL:PT12H
METHOD:PUBLISH
BEGIN:VEVENT
UID:c403bf607501327c9127679e5d740058@kinotuskanac.hr
DTSTAMP:20260423T195944Z
DTSTART:20130610T190000
DTEND:20130610T210000
SUMMARY:Borbene djevojke
LOCATION:Kino Tuškanac
DESCRIPTION:Kriegerin, Njemačka, 2011 R: David Wnendt
END:VEVENT

BEGIN:VEVENT
UID:86089d3a4be486b52752c423256c1279@kinotuskanac.hr
DTSTAMP:20260423T195944Z
DTSTART:20130611T210000
DTEND:20130611T230000
SUMMARY:Borbene djevojke
LOCATION:Kino Tuškanac
DESCRIPTION:Kriegerin, Njemačka, 2011 R: David Wnendt
END:VEVENT

BEGIN:VEVENT
UID:887b5449fbd735a51cb6ff809fd22e81@kinotuskanac.hr
DTSTAMP:20260423T195944Z
DTSTART:20130610T210000
DTEND:20130610T230000
SUMMARY:Šangaj
LOCATION:Kino Tuškanac
DESCRIPTION:Shanghai Gypsy, Slovenija, 2012 R: Marko Naberšnik
END:VEVENT

BEGIN:VEVENT
UID:75d1b1fe282e45a28ae05da8138beb0d@kinotuskanac.hr
DTSTAMP:20260423T195944Z
DTSTART:20130612T190000
DTEND:20130612T210000
SUMMARY:Šangaj
LOCATION:Kino Tuškanac
DESCRIPTION:Shanghai Gypsy, Slovenija, 2012 R: Marko Naberšnik
END:VEVENT

BEGIN:VEVENT
UID:18c58f0c5dce14cb946fcc28a3a40788@kinotuskanac.hr
DTSTAMP:20260423T195944Z
DTSTART:20130611T190000
DTEND:20130611T210000
SUMMARY:Posljednja postaja 174
LOCATION:Kino Tuškanac
DESCRIPTION:Última Parada 174, Brazil/Francuska, 2008 R: Bruno Barreto
END:VEVENT

BEGIN:VEVENT
UID:5dc1395657e5c27f1a428d86713af952@kinotuskanac.hr
DTSTAMP:20260423T195944Z
DTSTART:20130612T210000
DTEND:20130612T230000
SUMMARY:Posljednja postaja 174
LOCATION:Kino Tuškanac
DESCRIPTION:Última Parada 174, Brazil/Francuska, 2008 R: Bruno Barreto
END:VEVENT
END:VCALENDAR