BEGIN:VCALENDAR
VERSION:2.0
PRODID:-//Kino Tuškanac//Filmski programi//HR
URL:http://kinotuskanac/calendar/cycle/346
NAME:Kino Tuškanac ciklus Vikend Hrvatske kinoteke
X-WR-CALNAME:Kino Tuškanac ciklus Vikend Hrvatske kinoteke
TIMEZONE-ID:Europe/Zagreb
X-WR-TIMEZONE:Europe/Zagreb
REFRESH-INTERVAL;VALUE=DURATION:PT12H
X-PUBLISHED-TTL:PT12H
METHOD:PUBLISH
BEGIN:VEVENT
UID:a56774b4d4641335ab13f9dd17f9689e@kinotuskanac.hr
DTSTAMP:20260420T130417Z
DTSTART:20130531T190000
DTEND:20130531T210000
SUMMARY:Ključ
LOCATION:Kino Tuškanac
DESCRIPTION:1965 R: Vanča Kljaković, Krsto Papić, Antun Vrdoljak
END:VEVENT

BEGIN:VEVENT
UID:62c3164a3c0fb1e4c246450f2215c780@kinotuskanac.hr
DTSTAMP:20260420T130417Z
DTSTART:20130531T210000
DTEND:20130531T230000
SUMMARY:24 sata
LOCATION:Kino Tuškanac
DESCRIPTION:Inter film, 2002 R: Goran Kulenović, Kristijan Milić
END:VEVENT

BEGIN:VEVENT
UID:170f2af4a08e7944d5ecacdc2871b566@kinotuskanac.hr
DTSTAMP:20260420T130417Z
DTSTART:20130601T190000
DTEND:20130601T210000
SUMMARY:Seks, piće i krvoproliće
LOCATION:Kino Tuškanac
DESCRIPTION:Propeler film, 2004 R: Zvonimir Jurić, Boris T. Matić, Antonio Nuić
END:VEVENT

BEGIN:VEVENT
UID:0af43b5ffec252bc2423626cb02c07bd@kinotuskanac.hr
DTSTAMP:20260420T130417Z
DTSTART:20130601T210000
DTEND:20130601T230000
SUMMARY:Zagrebačke priče
LOCATION:Kino Tuškanac
DESCRIPTION:Propeler film, 2009 R: Branko Ištvančić
END:VEVENT
END:VCALENDAR