BEGIN:VCALENDAR
VERSION:2.0
PRODID:-//Kino Tuškanac//Filmski programi//HR
URL:http://kinotuskanac/calendar/cycle/352
NAME:Kino Tuškanac ciklus Ciklus korejskog filma - 2013
X-WR-CALNAME:Kino Tuškanac ciklus Ciklus korejskog filma - 2013
TIMEZONE-ID:Europe/Zagreb
X-WR-TIMEZONE:Europe/Zagreb
REFRESH-INTERVAL;VALUE=DURATION:PT12H
X-PUBLISHED-TTL:PT12H
METHOD:PUBLISH
BEGIN:VEVENT
UID:e7e5e1f9c9dfd6c06bac4d395a8bf67f@kinotuskanac.hr
DTSTAMP:20260423T150035Z
DTSTART:20131209T180000
DTEND:20131209T200000
SUMMARY:Kralj i klaun
LOCATION:Kino Tuškanac
DESCRIPTION:Wang-ui namja, 2005. R: Joon-ik Lee
END:VEVENT

BEGIN:VEVENT
UID:552145f9dbee7c41933dcc908c56e1df@kinotuskanac.hr
DTSTAMP:20260423T150035Z
DTSTART:20131210T190000
DTEND:20131210T210000
SUMMARY:Kralj i klaun
LOCATION:Kino Tuškanac
DESCRIPTION:Wang-ui namja, 2005. R: Joon-ik Lee
END:VEVENT

BEGIN:VEVENT
UID:e6f74da39a4b53a886874b42b805ed4c@kinotuskanac.hr
DTSTAMP:20260423T150035Z
DTSTART:20131210T210000
DTEND:20131210T230000
SUMMARY:Vozeći se s ljubavnikom moje žene
LOCATION:Kino Tuškanac
DESCRIPTION:Ane-eui aein-eul mannada, 2006. R: Tai-sik Kim
END:VEVENT

BEGIN:VEVENT
UID:cc67c42f6532acd7214fc187a68d3ef9@kinotuskanac.hr
DTSTAMP:20260423T150035Z
DTSTART:20131211T190000
DTEND:20131211T210000
SUMMARY:Vozeći se s ljubavnikom moje žene
LOCATION:Kino Tuškanac
DESCRIPTION:Ane-eui aein-eul mannada, 2006. R: Tai-sik Kim
END:VEVENT

BEGIN:VEVENT
UID:fbfe9a95d3409ebef7985a27fc42a98e@kinotuskanac.hr
DTSTAMP:20260423T150035Z
DTSTART:20131211T210000
DTEND:20131211T230000
SUMMARY:Tajno sunce
LOCATION:Kino Tuškanac
DESCRIPTION:Milyang, 2007. R: Chang-dong Lee
END:VEVENT

BEGIN:VEVENT
UID:88a70dca8393ffad0cb0a49a5cb50050@kinotuskanac.hr
DTSTAMP:20260423T150035Z
DTSTART:20131212T190000
DTEND:20131212T210000
SUMMARY:Tajno sunce
LOCATION:Kino Tuškanac
DESCRIPTION:Milyang, 2007. R: Chang-dong Lee
END:VEVENT

BEGIN:VEVENT
UID:7a58f6ca89710f1e9bab36bbe7ee0ccb@kinotuskanac.hr
DTSTAMP:20260423T150035Z
DTSTART:20131212T210000
DTEND:20131212T230000
SUMMARY:Iza godina
LOCATION:Kino Tuškanac
DESCRIPTION:Chun nyun hack, 2007. R: Kwon-taek Im
END:VEVENT

BEGIN:VEVENT
UID:4e5a20b92adc4527b346177d015884d5@kinotuskanac.hr
DTSTAMP:20260423T150035Z
DTSTART:20131213T190000
DTEND:20131213T210000
SUMMARY:Iza godina
LOCATION:Kino Tuškanac
DESCRIPTION:Chun nyun hack, 2007. R: Kwon-taek Im
END:VEVENT

BEGIN:VEVENT
UID:69e0c69fa479167ff45999e0dc46eeb8@kinotuskanac.hr
DTSTAMP:20260423T150035Z
DTSTART:20131213T210000
DTEND:20131213T230000
SUMMARY:Bez krvi, bez suza
LOCATION:Kino Tuškanac
DESCRIPTION:Pido nunmuldo eobshi, 2002. R: Seung-wan Ryoo
END:VEVENT

BEGIN:VEVENT
UID:874b156ea12ab94b2fc71983379f23a6@kinotuskanac.hr
DTSTAMP:20260423T150035Z
DTSTART:20131214T190000
DTEND:20131214T210000
SUMMARY:Bez krvi, bez suza
LOCATION:Kino Tuškanac
DESCRIPTION:Pido nunmuldo eobshi, 2002. R: Seung-wan Ryoo
END:VEVENT

BEGIN:VEVENT
UID:c8e36090910998baaa90be4bcdab88cc@kinotuskanac.hr
DTSTAMP:20260423T150035Z
DTSTART:20131214T210000
DTEND:20131214T230000
SUMMARY:Božić u kolovozu
LOCATION:Kino Tuškanac
DESCRIPTION:Palwolui Christmas, 1998. R: Jin-ho Hur
END:VEVENT

BEGIN:VEVENT
UID:911266b3db1c734eddab624a414534f2@kinotuskanac.hr
DTSTAMP:20260423T150035Z
DTSTART:20131216T190000
DTEND:20131216T210000
SUMMARY:Božić u kolovozu
LOCATION:Kino Tuškanac
DESCRIPTION:Palwolui Christmas, 1998. R: Jin-ho Hur
END:VEVENT

BEGIN:VEVENT
UID:118a74f084f34d7fd9a9a8a4fc888a8b@kinotuskanac.hr
DTSTAMP:20260423T150035Z
DTSTART:20131216T210000
DTEND:20131216T230000
SUMMARY:Zrno u uhu
LOCATION:Kino Tuškanac
DESCRIPTION:Mang zhong, 2005. R: Lu Zhang
END:VEVENT

BEGIN:VEVENT
UID:9ff69b4d4fba808c346a73c0656f3c52@kinotuskanac.hr
DTSTAMP:20260423T150035Z
DTSTART:20131217T190000
DTEND:20131217T210000
SUMMARY:Zrno u uhu
LOCATION:Kino Tuškanac
DESCRIPTION:Mang zhong, 2005. R: Lu Zhang
END:VEVENT

BEGIN:VEVENT
UID:77e9543e74b04db3a80f27e7bb74697b@kinotuskanac.hr
DTSTAMP:20260423T150035Z
DTSTART:20131218T190000
DTEND:20131218T210000
SUMMARY:Čovjek s tri lijesa
LOCATION:Kino Tuškanac
DESCRIPTION:Nageuneneun kileseodo swiji anhneunda, 1987. R: Jang-ho Lee
END:VEVENT

BEGIN:VEVENT
UID:ab1aa9250d3e13d8f864d96392b696d4@kinotuskanac.hr
DTSTAMP:20260423T150035Z
DTSTART:20131218T210000
DTEND:20131218T230000
SUMMARY:Kasni cvat
LOCATION:Kino Tuškanac
DESCRIPTION:Geu-dae-leul Sa-rang-hab-ni-da, 2011. R: Chang-min Choo
END:VEVENT

BEGIN:VEVENT
UID:e78934d1ea8345f59dc4f02efc8373b6@kinotuskanac.hr
DTSTAMP:20260423T150035Z
DTSTART:20131219T190000
DTEND:20131219T210000
SUMMARY:Kasni cvat
LOCATION:Kino Tuškanac
DESCRIPTION:Geu-dae-leul Sa-rang-hab-ni-da, 2011. R: Chang-min Choo
END:VEVENT

BEGIN:VEVENT
UID:6f5021b86172a8a65293a76e22ab628d@kinotuskanac.hr
DTSTAMP:20260423T150035Z
DTSTART:20131219T210000
DTEND:20131219T230000
SUMMARY:Čovjek s tri lijesa
LOCATION:Kino Tuškanac
DESCRIPTION:Nageuneneun kileseodo swiji anhneunda, 1987. R: Jang-ho Lee
END:VEVENT
END:VCALENDAR