BEGIN:VCALENDAR
VERSION:2.0
PRODID:-//Kino Tuškanac//Filmski programi//HR
URL:http://kinotuskanac/calendar/cycle/353
NAME:Kino Tuškanac ciklus Ciklus iberoameričkog filma VI
X-WR-CALNAME:Kino Tuškanac ciklus Ciklus iberoameričkog filma VI
TIMEZONE-ID:Europe/Zagreb
X-WR-TIMEZONE:Europe/Zagreb
REFRESH-INTERVAL;VALUE=DURATION:PT12H
X-PUBLISHED-TTL:PT12H
METHOD:PUBLISH
BEGIN:VEVENT
UID:7b65360fff889e38f5c3f2a4dca200f2@kinotuskanac.hr
DTSTAMP:20260419T155421Z
DTSTART:20131104T190000
DTEND:20131104T210000
SUMMARY:Poklon
LOCATION:Kino Tuškanac
DESCRIPTION:El regalo, 2008. R: Cristian Galaz
END:VEVENT

BEGIN:VEVENT
UID:949aa86541bf70870bbfda458c58cefc@kinotuskanac.hr
DTSTAMP:20260419T155421Z
DTSTART:20131105T190000
DTEND:20131105T210000
SUMMARY:Poklon
LOCATION:Kino Tuškanac
DESCRIPTION:El regalo, 2008. R: Cristian Galaz
END:VEVENT

BEGIN:VEVENT
UID:12e9e633bc54b45bc340da60a88bac09@kinotuskanac.hr
DTSTAMP:20260419T155421Z
DTSTART:20131105T210000
DTEND:20131105T230000
SUMMARY:Uredski izlet
LOCATION:Kino Tuškanac
DESCRIPTION:Paseo de Oficina, 2012 R: Roberto Artiagoitía
END:VEVENT

BEGIN:VEVENT
UID:f92ef635a518666df58f1b4436b79774@kinotuskanac.hr
DTSTAMP:20260419T155421Z
DTSTART:20131106T190000
DTEND:20131106T210000
SUMMARY:Uredski izlet
LOCATION:Kino Tuškanac
DESCRIPTION:Paseo de Oficina, 2012 R: Roberto Artiagoitía
END:VEVENT

BEGIN:VEVENT
UID:129f8e88175a7c1d556bc3c3314fd84b@kinotuskanac.hr
DTSTAMP:20260419T155421Z
DTSTART:20131106T210000
DTEND:20131106T230000
SUMMARY:Aballay neustrašivi
LOCATION:Kino Tuškanac
DESCRIPTION:Aballay, el hombre sin miedo, Argentina, 2010 R: Fernando Spiner
END:VEVENT

BEGIN:VEVENT
UID:3dd0b9bf52a402980e85dc7cc1271cfc@kinotuskanac.hr
DTSTAMP:20260419T155421Z
DTSTART:20131107T180000
DTEND:20131107T200000
SUMMARY:Aballay neustrašivi
LOCATION:Kino Tuškanac
DESCRIPTION:Aballay, el hombre sin miedo, Argentina, 2010 R: Fernando Spiner
END:VEVENT

BEGIN:VEVENT
UID:73ee57a6348c8ec91744261f214bfb38@kinotuskanac.hr
DTSTAMP:20260419T155421Z
DTSTART:20131107T210000
DTEND:20131107T230000
SUMMARY:Susjed
LOCATION:Kino Tuškanac
DESCRIPTION:El hombre de al lado, Argentina, 2009 R: Mariano Cohn
END:VEVENT

BEGIN:VEVENT
UID:b932fe586a3e737f59932e83777a37c0@kinotuskanac.hr
DTSTAMP:20260419T155421Z
DTSTART:20131108T190000
DTEND:20131108T210000
SUMMARY:Susjed
LOCATION:Kino Tuškanac
DESCRIPTION:El hombre de al lado, Argentina, 2009 R: Mariano Cohn
END:VEVENT

BEGIN:VEVENT
UID:7133790025691f5d473abcf6cab36e68@kinotuskanac.hr
DTSTAMP:20260419T155421Z
DTSTART:20131108T210000
DTEND:20131108T230000
SUMMARY:Heleno
LOCATION:Kino Tuškanac
DESCRIPTION:Brazil, 2011 R: José Fonseca
END:VEVENT

BEGIN:VEVENT
UID:9b6e0814b4ae2e6133b75c669a0f5ea5@kinotuskanac.hr
DTSTAMP:20260419T155421Z
DTSTART:20131109T190000
DTEND:20131109T210000
SUMMARY:Heleno
LOCATION:Kino Tuškanac
DESCRIPTION:Brazil, 2011 R: José Fonseca
END:VEVENT

BEGIN:VEVENT
UID:28fec6d158653e9ea0e0e430b9094781@kinotuskanac.hr
DTSTAMP:20260419T155421Z
DTSTART:20131109T210000
DTEND:20131109T230000
SUMMARY:Godina kad su moji roditelji otišli na odmor
LOCATION:Kino Tuškanac
DESCRIPTION:O Ano em que Meus Pais Saíram de Férias, Brazil, 2006 R: Cao Hamburger
END:VEVENT

BEGIN:VEVENT
UID:688419db6a0d0a40196d62431751ac58@kinotuskanac.hr
DTSTAMP:20260419T155421Z
DTSTART:20131111T190000
DTEND:20131111T210000
SUMMARY:Godina kad su moji roditelji otišli na odmor
LOCATION:Kino Tuškanac
DESCRIPTION:O Ano em que Meus Pais Saíram de Férias, Brazil, 2006 R: Cao Hamburger
END:VEVENT

BEGIN:VEVENT
UID:357d5bcefd4ed8b707fa3bf1b8bc9a72@kinotuskanac.hr
DTSTAMP:20260419T155421Z
DTSTART:20131111T210000
DTEND:20131111T230000
SUMMARY:Florbela
LOCATION:Kino Tuškanac
DESCRIPTION:Portugal, 2012 R: Vicente Alves do Ó
END:VEVENT

BEGIN:VEVENT
UID:3e50c9bf6d7752137b7fedca5b8587d9@kinotuskanac.hr
DTSTAMP:20260419T155421Z
DTSTART:20131113T190000
DTEND:20131113T210000
SUMMARY:Florbela
LOCATION:Kino Tuškanac
DESCRIPTION:Portugal, 2012 R: Vicente Alves do Ó
END:VEVENT

BEGIN:VEVENT
UID:60a8019d62abe521dab36ea0d0bb49d7@kinotuskanac.hr
DTSTAMP:20260419T155421Z
DTSTART:20131113T210000
DTEND:20131113T230000
SUMMARY:Posebnosti plavokose djevojke
LOCATION:Kino Tuškanac
DESCRIPTION:Singularidades de uma Rapariga Loura, Portugal, 2009 R: Manoel de Oliveira
END:VEVENT

BEGIN:VEVENT
UID:dc1ec9949f2d667b94e1574e3bf96249@kinotuskanac.hr
DTSTAMP:20260419T155421Z
DTSTART:20131114T190000
DTEND:20131114T210000
SUMMARY:Posebnosti plavokose djevojke
LOCATION:Kino Tuškanac
DESCRIPTION:Singularidades de uma Rapariga Loura, Portugal, 2009 R: Manoel de Oliveira
END:VEVENT

BEGIN:VEVENT
UID:f74b0d8279a10e686337a09462e4e096@kinotuskanac.hr
DTSTAMP:20260419T155421Z
DTSTART:20131114T210000
DTEND:20131114T230000
SUMMARY:Nema mira za grešnike
LOCATION:Kino Tuškanac
DESCRIPTION:No habrá paz para los malvados, 2011 R: Enrique Urbizu
END:VEVENT

BEGIN:VEVENT
UID:9df9141f51e10529f1c97c478a36126b@kinotuskanac.hr
DTSTAMP:20260419T155421Z
DTSTART:20131115T190000
DTEND:20131115T210000
SUMMARY:Nema mira za grešnike
LOCATION:Kino Tuškanac
DESCRIPTION:No habrá paz para los malvados, 2011 R: Enrique Urbizu
END:VEVENT

BEGIN:VEVENT
UID:c77aa5161401c536a1b3c6c92ecac348@kinotuskanac.hr
DTSTAMP:20260419T155421Z
DTSTART:20131115T210000
DTEND:20131115T230000
SUMMARY:Bez straha
LOCATION:Kino Tuškanac
DESCRIPTION:No tengas miedo, 2011 R: Montxo Armendáriz
END:VEVENT

BEGIN:VEVENT
UID:9f07197f5bcfa6f8e0feafe1c620ff06@kinotuskanac.hr
DTSTAMP:20260419T155421Z
DTSTART:20131116T190000
DTEND:20131116T210000
SUMMARY:Bez straha
LOCATION:Kino Tuškanac
DESCRIPTION:No tengas miedo, 2011 R: Montxo Armendáriz
END:VEVENT
END:VCALENDAR