BEGIN:VCALENDAR
VERSION:2.0
PRODID:-//Kino Tuškanac//Filmski programi//HR
URL:http://kinotuskanac/calendar/cycle/367
NAME:Kino Tuškanac ciklus In memoriam… Eleanor Parker	
X-WR-CALNAME:Kino Tuškanac ciklus In memoriam… Eleanor Parker	
TIMEZONE-ID:Europe/Zagreb
X-WR-TIMEZONE:Europe/Zagreb
REFRESH-INTERVAL;VALUE=DURATION:PT12H
X-PUBLISHED-TTL:PT12H
METHOD:PUBLISH
BEGIN:VEVENT
UID:b5108e3abe8f3d311446c0f46568fa95@kinotuskanac.hr
DTSTAMP:20260424T065746Z
DTSTART:20140127T210000
DTEND:20140127T230000
SUMMARY:Detektivska priča
LOCATION:Kino Tuškanac
DESCRIPTION:Detective Story, SAD, 1951 R: William Wyler
END:VEVENT

BEGIN:VEVENT
UID:663aaba39b769420a68a031db0c1d55b@kinotuskanac.hr
DTSTAMP:20260424T065746Z
DTSTART:20140128T190000
DTEND:20140128T210000
SUMMARY:Detektivska priča
LOCATION:Kino Tuškanac
DESCRIPTION:Detective Story, SAD, 1951 R: William Wyler
END:VEVENT
END:VCALENDAR