BEGIN:VCALENDAR
VERSION:2.0
PRODID:-//Kino Tuškanac//Filmski programi//HR
URL:http://kinotuskanac/calendar/cycle/381
NAME:Kino Tuškanac ciklus Frankofonija u Tuškancu
X-WR-CALNAME:Kino Tuškanac ciklus Frankofonija u Tuškancu
TIMEZONE-ID:Europe/Zagreb
X-WR-TIMEZONE:Europe/Zagreb
REFRESH-INTERVAL;VALUE=DURATION:PT12H
X-PUBLISHED-TTL:PT12H
METHOD:PUBLISH
BEGIN:VEVENT
UID:a6dadbebf6cfc7c2d421cd47c7aaea61@kinotuskanac.hr
DTSTAMP:20260423T143616Z
DTSTART:20140303T190000
DTEND:20140303T210000
SUMMARY:Dobar policajac, loš policajac
LOCATION:Kino Tuškanac
DESCRIPTION:Bon Cop, Bad Cop, Kanada, 2006 R: Eric Canuel
END:VEVENT

BEGIN:VEVENT
UID:bd0cbe630d0229e97735806514f0250c@kinotuskanac.hr
DTSTAMP:20260423T143616Z
DTSTART:20140304T190000
DTEND:20140304T210000
SUMMARY:Koncert (2009)
LOCATION:Kino Tuškanac
DESCRIPTION:Le concert, Rumunjska, 2009 R: Radu Mihaileanu
END:VEVENT

BEGIN:VEVENT
UID:ac95be7b8cc119bcc957f446a4ceda09@kinotuskanac.hr
DTSTAMP:20260423T143616Z
DTSTART:20140304T210000
DTEND:20140304T230000
SUMMARY:Nova Francuska
LOCATION:Kino Tuškanac
DESCRIPTION:Nouvelle France, Kanada, 2005 R: Jean Beaudin
END:VEVENT

BEGIN:VEVENT
UID:24d9b373720924a8a632541c1221d024@kinotuskanac.hr
DTSTAMP:20260423T143616Z
DTSTART:20140305T190000
DTEND:20140305T210000
SUMMARY:Sestra
LOCATION:Kino Tuškanac
DESCRIPTION:L'enfant d'un haut, Francuska, Švicarska, 2012 R: Ursula Meier
END:VEVENT

BEGIN:VEVENT
UID:8498cb80fad6d3443d2895708fbf2743@kinotuskanac.hr
DTSTAMP:20260423T143616Z
DTSTART:20140305T210000
DTEND:20140305T230000
SUMMARY:Mala soba
LOCATION:Kino Tuškanac
DESCRIPTION:La petite chambre, 2010 R: Stéphanie Chuat
END:VEVENT

BEGIN:VEVENT
UID:cf8dda8b94052fd71b5079670a3af214@kinotuskanac.hr
DTSTAMP:20260423T143616Z
DTSTART:20140306T190000
DTEND:20140306T210000
SUMMARY:Izlet
LOCATION:Kino Tuškanac
DESCRIPTION:Un voyage, Slovenija, 2011 R: Nejc Gazvoda
END:VEVENT

BEGIN:VEVENT
UID:2ef6f92b03d95d43fd5e64f095e1fc1c@kinotuskanac.hr
DTSTAMP:20260423T143616Z
DTSTART:20140306T210000
DTEND:20140306T230000
SUMMARY:Mamin dečkić
LOCATION:Kino Tuškanac
DESCRIPTION:Les garçons et Guillaume, à table, Francuska, 2013 R: Guillaume Gallienne
END:VEVENT

BEGIN:VEVENT
UID:7a8f6c90293c3bfb8575803344546e14@kinotuskanac.hr
DTSTAMP:20260423T143616Z
DTSTART:20140307T190000
DTEND:20140307T210000
SUMMARY:Rock the Casbah
LOCATION:Kino Tuškanac
DESCRIPTION:Maroko, 2013 R: Laïla Marrakchi
END:VEVENT

BEGIN:VEVENT
UID:8ccfc6fdfde1da4709341fb8e522ea4c@kinotuskanac.hr
DTSTAMP:20260423T143616Z
DTSTART:20140308T190000
DTEND:20140308T210000
SUMMARY:Kavezi
LOCATION:Kino Tuškanac
DESCRIPTION:Cages, Belgija, 2006 R: Olivier Masset-Depasse
END:VEVENT

BEGIN:VEVENT
UID:7fc64c5e0265d03ab9abbd82db59ac49@kinotuskanac.hr
DTSTAMP:20260423T143616Z
DTSTART:20140628T190000
DTEND:20140628T210000
SUMMARY:Mamin dečkić
LOCATION:Kino Tuškanac
DESCRIPTION:Les garçons et Guillaume, à table, Francuska, 2013 R: Guillaume Gallienne
END:VEVENT
END:VCALENDAR