BEGIN:VCALENDAR
VERSION:2.0
PRODID:-//Kino Tuškanac//Filmski programi//HR
URL:http://kinotuskanac/calendar/cycle/392
NAME:Kino Tuškanac ciklus Praška generacija Lordana Zafranovića
X-WR-CALNAME:Kino Tuškanac ciklus Praška generacija Lordana Zafranovića
TIMEZONE-ID:Europe/Zagreb
X-WR-TIMEZONE:Europe/Zagreb
REFRESH-INTERVAL;VALUE=DURATION:PT12H
X-PUBLISHED-TTL:PT12H
METHOD:PUBLISH
BEGIN:VEVENT
UID:c1d681ed73bcd65a5e0c1df87dac210b@kinotuskanac.hr
DTSTAMP:20260419T173228Z
DTSTART:20140512T190000
DTEND:20140512T210000
SUMMARY:Muke po Mati
LOCATION:Kino Tuškanac
DESCRIPTION:1975 R: Lordan Zafranović
END:VEVENT

BEGIN:VEVENT
UID:ebf207a0ab95e532c270ae1c8545b337@kinotuskanac.hr
DTSTAMP:20260419T173228Z
DTSTART:20140513T190000
DTEND:20140513T210000
SUMMARY:Društvena igra
LOCATION:Kino Tuškanac
DESCRIPTION:1972. R: Srđan Karanović
END:VEVENT

BEGIN:VEVENT
UID:cba9f8555090e279567c3795f58a7480@kinotuskanac.hr
DTSTAMP:20260419T173228Z
DTSTART:20140513T210000
DTEND:20140513T230000
SUMMARY:Kud puklo da puklo
LOCATION:Kino Tuškanac
DESCRIPTION:1974. R: Rajko Grlić
END:VEVENT

BEGIN:VEVENT
UID:7e66720b20b474935c1f1eda564d6bb0@kinotuskanac.hr
DTSTAMP:20260419T173228Z
DTSTART:20140514T190000
DTEND:20140514T210000
SUMMARY:Čuvar plaže u zimskom periodu
LOCATION:Kino Tuškanac
DESCRIPTION:1976. R: Goran Paskaljević
END:VEVENT

BEGIN:VEVENT
UID:b25845e5d562fdebe8824391f89121a4@kinotuskanac.hr
DTSTAMP:20260419T173228Z
DTSTART:20140514T210000
DTEND:20140514T230000
SUMMARY:Specijalno vaspitanje
LOCATION:Kino Tuškanac
DESCRIPTION:Jugoslavija, 1977 R: Goran Marković
END:VEVENT

BEGIN:VEVENT
UID:e9682abce1a616b421459d37444fc361@kinotuskanac.hr
DTSTAMP:20260419T173228Z
DTSTART:20140512T210000
DTEND:20140512T230000
SUMMARY:Razgovor sa sudionicima
LOCATION:Kino Tuškanac
DESCRIPTION:
END:VEVENT
END:VCALENDAR