BEGIN:VCALENDAR
VERSION:2.0
PRODID:-//Kino Tuškanac//Filmski programi//HR
URL:http://kinotuskanac/calendar/cycle/396
NAME:Kino Tuškanac ciklus Ciklus FROOOM
X-WR-CALNAME:Kino Tuškanac ciklus Ciklus FROOOM
TIMEZONE-ID:Europe/Zagreb
X-WR-TIMEZONE:Europe/Zagreb
REFRESH-INTERVAL;VALUE=DURATION:PT12H
X-PUBLISHED-TTL:PT12H
METHOD:PUBLISH
BEGIN:VEVENT
UID:22a483a30a91501509eceb9f624758dc@kinotuskanac.hr
DTSTAMP:20260419T154140Z
DTSTART:20140624T110000
DTEND:20140624T130000
SUMMARY:Kikin servis za dostavljanje
LOCATION:Kino Tuškanac
DESCRIPTION:Majo no takkyűbin, 1989 R: Hayao Miyazaki
END:VEVENT

BEGIN:VEVENT
UID:1f4f44b6e13b72a4bbee14b35283687f@kinotuskanac.hr
DTSTAMP:20260419T154140Z
DTSTART:20140626T110000
DTEND:20140626T130000
SUMMARY:Kekec
LOCATION:Kino Tuškanac
DESCRIPTION:1951. R: Jože Gale
END:VEVENT

BEGIN:VEVENT
UID:a8fc70bb30895c182c5316310440daa2@kinotuskanac.hr
DTSTAMP:20260419T154140Z
DTSTART:20140701T110000
DTEND:20140701T130000
SUMMARY:Princeza Mononoke
LOCATION:Kino Tuškanac
DESCRIPTION:Mononoke-hime, Japan, 1997 | Mjesto prikazivanja filma: Centar za kulturu Histrionski dom (Ilica 90) R: Hayao Miyazaki
END:VEVENT

BEGIN:VEVENT
UID:de2cc1ba3ad5582450b5af91d3e171e3@kinotuskanac.hr
DTSTAMP:20260419T154140Z
DTSTART:20140708T110000
DTEND:20140708T130000
SUMMARY:Sedmi kontinent (1966)
LOCATION:Kino Tuškanac
DESCRIPTION:1966 R: Dušan Vukotić
END:VEVENT

BEGIN:VEVENT
UID:2461b9cc4f9dedf2b2b8207a29b3c8de@kinotuskanac.hr
DTSTAMP:20260419T154140Z
DTSTART:20140710T110000
DTEND:20140710T130000
SUMMARY:Imam dvije mame i dva tate
LOCATION:Kino Tuškanac
DESCRIPTION:1968 R: Krešo Golik
END:VEVENT
END:VCALENDAR