BEGIN:VCALENDAR
VERSION:2.0
PRODID:-//Kino Tuškanac//Filmski programi//HR
URL:http://kinotuskanac/calendar/cycle/399
NAME:Kino Tuškanac ciklus Ciklus japanskoga filma
X-WR-CALNAME:Kino Tuškanac ciklus Ciklus japanskoga filma
TIMEZONE-ID:Europe/Zagreb
X-WR-TIMEZONE:Europe/Zagreb
REFRESH-INTERVAL;VALUE=DURATION:PT12H
X-PUBLISHED-TTL:PT12H
METHOD:PUBLISH
BEGIN:VEVENT
UID:5dae7e59af7140eff3203a87fcc04950@kinotuskanac.hr
DTSTAMP:20260419T155014Z
DTSTART:20140929T200000
DTEND:20140929T220000
SUMMARY:Mačka napušta dom
LOCATION:Kino Tuškanac
DESCRIPTION:Inu neko, 2004. R: Nami Iguchi
END:VEVENT

BEGIN:VEVENT
UID:86e91a89bf9977af69fa2ce3fe5a4ec2@kinotuskanac.hr
DTSTAMP:20260419T155014Z
DTSTART:20140930T200000
DTEND:20140930T220000
SUMMARY:Plavo proljeće
LOCATION:Kino Tuškanac
DESCRIPTION:Aoi haru, 2001. R: Toshiaki Toyoda
END:VEVENT

BEGIN:VEVENT
UID:a13e4c51385a6702831220e88d184be3@kinotuskanac.hr
DTSTAMP:20260419T155014Z
DTSTART:20141001T200000
DTEND:20141001T220000
SUMMARY:Četrnaest
LOCATION:Kino Tuškanac
DESCRIPTION:Ju-yon-sai, 2007. R: Hiromasa Hirosue
END:VEVENT

BEGIN:VEVENT
UID:4f25e62f3c4e641199e4f55f8cd70cc7@kinotuskanac.hr
DTSTAMP:20260419T155014Z
DTSTART:20141002T200000
DTEND:20141002T220000
SUMMARY:Prljava afera Matcugane
LOCATION:Kino Tuškanac
DESCRIPTION:Matsugane ransha jiken, 2006. R: Nobuhiro Yamashita
END:VEVENT

BEGIN:VEVENT
UID:8c527d8ebee3c0d7729de76c9279c23d@kinotuskanac.hr
DTSTAMP:20260419T155014Z
DTSTART:20141003T200000
DTEND:20141003T220000
SUMMARY:Žaba smijalica
LOCATION:Kino Tuškanac
DESCRIPTION:Warau kaeru, 2002. R: Hideyuki Hirayama
END:VEVENT

BEGIN:VEVENT
UID:1c375f35d3475c7aded85f3f8814db01@kinotuskanac.hr
DTSTAMP:20260419T155014Z
DTSTART:20141004T200000
DTEND:20141004T220000
SUMMARY:Žeravica
LOCATION:Kino Tuškanac
DESCRIPTION:Toukou no ki, 2004. R: Kichitaro Negishi
END:VEVENT

BEGIN:VEVENT
UID:6269d30336674d9b6ab7d82249b9f818@kinotuskanac.hr
DTSTAMP:20260419T155014Z
DTSTART:20141005T200000
DTEND:20141005T220000
SUMMARY:Pacchigi! Ljubav i mir
LOCATION:Kino Tuškanac
DESCRIPTION:Pacchigi! Love & Peace, 2007. R: Kazuyuki Izutsu
END:VEVENT

BEGIN:VEVENT
UID:5183ee09321260c4890337a880de3efb@kinotuskanac.hr
DTSTAMP:20260419T155014Z
DTSTART:20141003T180000
DTEND:20141003T200000
SUMMARY:Još jedna borba - Urota
LOCATION:Kino Tuškanac
DESCRIPTION:Shin jingi naki tatakai, Bousatsu, 2002. R: Hajime Hashimoto
END:VEVENT

BEGIN:VEVENT
UID:dc48c5a0fdba880a4c13135f251c1642@kinotuskanac.hr
DTSTAMP:20260419T155014Z
DTSTART:20141004T110000
DTEND:20141004T130000
SUMMARY:Ukleta škola
LOCATION:Kino Tuškanac
DESCRIPTION:Gakkô no kaidan, 1995. R: Hideyuki Hirayama
END:VEVENT

BEGIN:VEVENT
UID:1ff1c5536db6a893e94ddc7b978f0bd6@kinotuskanac.hr
DTSTAMP:20260419T155014Z
DTSTART:20141004T130000
DTEND:20141004T150000
SUMMARY:5 centimetara u sekundi
LOCATION:Kino Tuškanac
DESCRIPTION:Byôsoku 5 senchimêtoru, 2009. R: Makoto Shinkai
END:VEVENT

BEGIN:VEVENT
UID:0560d7947740341807812c87cb4540ae@kinotuskanac.hr
DTSTAMP:20260419T155014Z
DTSTART:20141005T110000
DTEND:20141005T130000
SUMMARY:Ukleta škola 4
LOCATION:Kino Tuškanac
DESCRIPTION:Gakkô no kaidan 4, 1999. R: Hideyuki Hirayama
END:VEVENT

BEGIN:VEVENT
UID:6875e70edd3846233b716e737d5da316@kinotuskanac.hr
DTSTAMP:20260419T155014Z
DTSTART:20141005T130000
DTEND:20141005T150000
SUMMARY:Vrt riječi
LOCATION:Kino Tuškanac
DESCRIPTION:Koto no ha no niwa,  2013. R: Makoto Shinkai
END:VEVENT
END:VCALENDAR