BEGIN:VCALENDAR
VERSION:2.0
PRODID:-//Kino Tuškanac//Filmski programi//HR
URL:http://kinotuskanac/calendar/cycle/40
NAME:Kino Tuškanac ciklus Ciklus filmova Petera Sellersa
X-WR-CALNAME:Kino Tuškanac ciklus Ciklus filmova Petera Sellersa
TIMEZONE-ID:Europe/Zagreb
X-WR-TIMEZONE:Europe/Zagreb
REFRESH-INTERVAL;VALUE=DURATION:PT12H
X-PUBLISHED-TTL:PT12H
METHOD:PUBLISH
BEGIN:VEVENT
UID:573f2d9f9fa479ae837a0b16ff976918@kinotuskanac.hr
DTSTAMP:20260422T054704Z
DTSTART:20030422T210000
DTEND:20030422T230000
SUMMARY:Dr. Strangelove ili: Kako sam naučio prestati brinuti se i zavoljeti atomsku bombu
LOCATION:Kino Tuškanac
DESCRIPTION:Dr. Strangelove or: How I Learned to Stop Worrying and Love the Bomb, UK, 1964 | Mjesto prikazivanja filma: Centar za kulturu Histrionski dom (Ilica 90) R: Stanley Kubrick
END:VEVENT

BEGIN:VEVENT
UID:0404531aab33b81bc457210c025749ed@kinotuskanac.hr
DTSTAMP:20260422T054704Z
DTSTART:20030426T150000
DTEND:20030426T170000
SUMMARY:The Smallest Show on Earth
LOCATION:Kino Tuškanac
DESCRIPTION:1957 R: Basil Dearden
END:VEVENT

BEGIN:VEVENT
UID:183e8bcd45a509603e007cca67cdaf21@kinotuskanac.hr
DTSTAMP:20260422T054704Z
DTSTART:20030426T170000
DTEND:20030426T190000
SUMMARY:Carlton-Browne of the F.O.
LOCATION:Kino Tuškanac
DESCRIPTION:1958 R: Roy Boulting
END:VEVENT

BEGIN:VEVENT
UID:259b65866075443a90e524d1d88e987b@kinotuskanac.hr
DTSTAMP:20260422T054704Z
DTSTART:20030429T190000
DTEND:20030429T210000
SUMMARY:Za igru je potrebno dvoje
LOCATION:Kino Tuškanac
DESCRIPTION:Only Two Can Play, 1962 R: Sidney Gilliat
END:VEVENT

BEGIN:VEVENT
UID:58bbfae80c5eea974f1a703a63b9478b@kinotuskanac.hr
DTSTAMP:20260422T054704Z
DTSTART:20030503T160000
DTEND:20030503T180000
SUMMARY:Film o trčanju, stajanju i skakanju
LOCATION:Kino Tuškanac
DESCRIPTION:The Running Jumping & Standing Still Film, 1959 R: Richard Lester
END:VEVENT

BEGIN:VEVENT
UID:b42e1b0a6dadc214b1d0aefc4fe0f7d2@kinotuskanac.hr
DTSTAMP:20260422T054704Z
DTSTART:20030503T161100
DTEND:20030503T181100
SUMMARY:Lolita
LOCATION:Kino Tuškanac
DESCRIPTION:UK, SAD, 1962 | Mjesto prikazivanja filma: Centar za kulturu Histrionski dom (Ilica 90) R: Stanley Kubrick
END:VEVENT

BEGIN:VEVENT
UID:5efdaea6997e8ffe974f35bee72d6ea4@kinotuskanac.hr
DTSTAMP:20260422T054704Z
DTSTART:20030506T190000
DTEND:20030506T210000
SUMMARY:Ja sam dobro, Jack
LOCATION:Kino Tuškanac
DESCRIPTION:I'm All Right Jack, 1959 R: John Boulting
END:VEVENT

BEGIN:VEVENT
UID:4b444d41ce943f520926cb6ba88848ad@kinotuskanac.hr
DTSTAMP:20260422T054704Z
DTSTART:20030506T210000
DTEND:20030506T230000
SUMMARY:Dobro došli, gospodine Chance
LOCATION:Kino Tuškanac
DESCRIPTION:Being There, SAD, Zapadna Njemačka, 1979 R: Hal Ashby
END:VEVENT
END:VCALENDAR