BEGIN:VCALENDAR
VERSION:2.0
PRODID:-//Kino Tuškanac//Filmski programi//HR
URL:http://kinotuskanac/calendar/cycle/403
NAME:Kino Tuškanac ciklus Sjećanje na Nina Manfredija
X-WR-CALNAME:Kino Tuškanac ciklus Sjećanje na Nina Manfredija
TIMEZONE-ID:Europe/Zagreb
X-WR-TIMEZONE:Europe/Zagreb
REFRESH-INTERVAL;VALUE=DURATION:PT12H
X-PUBLISHED-TTL:PT12H
METHOD:PUBLISH
BEGIN:VEVENT
UID:a8d7ced2e00f6f2753cb511d08a19a88@kinotuskanac.hr
DTSTAMP:20260423T024155Z
DTSTART:20141119T190000
DTEND:20141119T210000
SUMMARY:Odvažan potez obično nepoznatih
LOCATION:Kino Tuškanac
DESCRIPTION:Audace colpo dei soliti ignoti, 1959. R: Nanni Loy
END:VEVENT

BEGIN:VEVENT
UID:b2e46c5b4e4aebd92224c3927f544678@kinotuskanac.hr
DTSTAMP:20260423T024155Z
DTSTART:20141119T210000
DTEND:20141119T230000
SUMMARY:S tigra na konja
LOCATION:Kino Tuškanac
DESCRIPTION:A cavallo dela tigre, 1961. R: Luigi Comencini
END:VEVENT

BEGIN:VEVENT
UID:4cc40c45f0c9bf813f7efa509f3a4a9b@kinotuskanac.hr
DTSTAMP:20260423T024155Z
DTSTART:20141120T190000
DTEND:20141120T210000
SUMMARY:S tigra na konja
LOCATION:Kino Tuškanac
DESCRIPTION:A cavallo dela tigre, 1961. R: Luigi Comencini
END:VEVENT

BEGIN:VEVENT
UID:c6d9b231517e8e3660034d9542370fff@kinotuskanac.hr
DTSTAMP:20260423T024155Z
DTSTART:20141120T210000
DTEND:20141120T230000
SUMMARY:Odvažan potez obično nepoznatih
LOCATION:Kino Tuškanac
DESCRIPTION:Audace colpo dei soliti ignoti, 1959. R: Nanni Loy
END:VEVENT

BEGIN:VEVENT
UID:4261bef5e3fc408e1ab319585dab1259@kinotuskanac.hr
DTSTAMP:20260423T024155Z
DTSTART:20141124T190000
DTEND:20141124T210000
SUMMARY:Dobro sam je poznavao
LOCATION:Kino Tuškanac
DESCRIPTION:Io la conoscevo bene, 1965. R: Antonio Pietrangeli
END:VEVENT

BEGIN:VEVENT
UID:c1030b281862af49870377273716296f@kinotuskanac.hr
DTSTAMP:20260423T024155Z
DTSTART:20141124T210000
DTEND:20141124T230000
SUMMARY:Operacija San Gennaro
LOCATION:Kino Tuškanac
DESCRIPTION:Operazione San Gennaro, 1966. R: Dino Risi
END:VEVENT

BEGIN:VEVENT
UID:2374de24a1ee184c2d8e80c202ee276a@kinotuskanac.hr
DTSTAMP:20260423T024155Z
DTSTART:20141215T190000
DTEND:20141215T210000
SUMMARY:Operacija San Gennaro
LOCATION:Kino Tuškanac
DESCRIPTION:Operazione San Gennaro, 1966. R: Dino Risi
END:VEVENT

BEGIN:VEVENT
UID:0aa9aa59aece05efacb9febe3afcf8c2@kinotuskanac.hr
DTSTAMP:20260423T024155Z
DTSTART:20141215T210000
DTEND:20141215T230000
SUMMARY:Dobro sam je poznavao
LOCATION:Kino Tuškanac
DESCRIPTION:Io la conoscevo bene, 1965. R: Antonio Pietrangeli
END:VEVENT

BEGIN:VEVENT
UID:6f881f3f433c005176e8ba1fad669700@kinotuskanac.hr
DTSTAMP:20260423T024155Z
DTSTART:20141220T110000
DTEND:20141220T130000
SUMMARY:Pinokijeve pustolovine
LOCATION:Kino Tuškanac
DESCRIPTION:Le avventure di Pinocchio, 1972. R: Luigi Comencini
END:VEVENT

BEGIN:VEVENT
UID:ad9942a1b9c7ab01705839c2380506bf@kinotuskanac.hr
DTSTAMP:20260423T024155Z
DTSTART:20141223T170000
DTEND:20141223T190000
SUMMARY:Po milosti božjoj
LOCATION:Kino Tuškanac
DESCRIPTION:Per grazia ricevuta, 1970. R: Nino Manfredi
END:VEVENT

BEGIN:VEVENT
UID:466615f8341813c59e68147215d7b692@kinotuskanac.hr
DTSTAMP:20260423T024155Z
DTSTART:20141217T190000
DTEND:20141217T210000
SUMMARY:Po milosti božjoj
LOCATION:Kino Tuškanac
DESCRIPTION:Per grazia ricevuta, 1970. R: Nino Manfredi
END:VEVENT

BEGIN:VEVENT
UID:559efb0e108ee3f2d9b8e12c24adbf70@kinotuskanac.hr
DTSTAMP:20260423T024155Z
DTSTART:20141217T210000
DTEND:20141217T230000
SUMMARY:Glava obitelji
LOCATION:Kino Tuškanac
DESCRIPTION:Il padre di famiglia, 1967. R: Nanni Loy
END:VEVENT

BEGIN:VEVENT
UID:1a46b4aa116133e4c6989dee21a05c94@kinotuskanac.hr
DTSTAMP:20260423T024155Z
DTSTART:20141218T190000
DTEND:20141218T210000
SUMMARY:U ime pape kralja
LOCATION:Kino Tuškanac
DESCRIPTION:In nome del papa re, 1977. R: Luigi Magni
END:VEVENT

BEGIN:VEVENT
UID:e9b449f1b6217fa25aba7d9b60de3041@kinotuskanac.hr
DTSTAMP:20260423T024155Z
DTSTART:20141218T210000
DTEND:20141218T230000
SUMMARY:Pinokijeve pustolovine
LOCATION:Kino Tuškanac
DESCRIPTION:Le avventure di Pinocchio, 1972. R: Luigi Comencini
END:VEVENT

BEGIN:VEVENT
UID:807787b2d3e18068d5d328649454be45@kinotuskanac.hr
DTSTAMP:20260423T024155Z
DTSTART:20141222T190000
DTEND:20141222T210000
SUMMARY:Glava obitelji
LOCATION:Kino Tuškanac
DESCRIPTION:Il padre di famiglia, 1967. R: Nanni Loy
END:VEVENT

BEGIN:VEVENT
UID:84f5908d88f003840a55cae6aaf7c346@kinotuskanac.hr
DTSTAMP:20260423T024155Z
DTSTART:20141222T211500
DTEND:20141222T231500
SUMMARY:U ime pape kralja
LOCATION:Kino Tuškanac
DESCRIPTION:In nome del papa re, 1977. R: Luigi Magni
END:VEVENT
END:VCALENDAR