BEGIN:VCALENDAR
VERSION:2.0
PRODID:-//Kino Tuškanac//Filmski programi//HR
URL:http://kinotuskanac/calendar/cycle/41
NAME:Kino Tuškanac ciklus Ciklus filmova Michaela Hanekea
X-WR-CALNAME:Kino Tuškanac ciklus Ciklus filmova Michaela Hanekea
TIMEZONE-ID:Europe/Zagreb
X-WR-TIMEZONE:Europe/Zagreb
REFRESH-INTERVAL;VALUE=DURATION:PT12H
X-PUBLISHED-TTL:PT12H
METHOD:PUBLISH
BEGIN:VEVENT
UID:ed85dfc9aece8b7970a29a31bee1e39b@kinotuskanac.hr
DTSTAMP:20260421T102801Z
DTSTART:20030607T150000
DTEND:20030607T170000
SUMMARY:Sedmi kontinent
LOCATION:Kino Tuškanac
DESCRIPTION:Der Siebente Kontinent, Austrija, 1989 R: Michael Haneke
END:VEVENT

BEGIN:VEVENT
UID:9e4e5db0081afee3efc7bf05538240aa@kinotuskanac.hr
DTSTAMP:20260421T102801Z
DTSTART:20030607T170000
DTEND:20030607T190000
SUMMARY:Bennyjev video
LOCATION:Kino Tuškanac
DESCRIPTION:Benny's Video, Austrija, Švicarska, 1992 R: Michael Haneke
END:VEVENT

BEGIN:VEVENT
UID:efe6c4b00ac70ad8a4c3828daa7d2b29@kinotuskanac.hr
DTSTAMP:20260421T102801Z
DTSTART:20030610T190000
DTEND:20030610T210000
SUMMARY:71 odlomak iz kronologije slučajnosti
LOCATION:Kino Tuškanac
DESCRIPTION:71 Fragmente einer Chronologie des Zufalls, Austrija, Njemačka, 1994 R: Michael Haneke
END:VEVENT

BEGIN:VEVENT
UID:451296eed6a567632d330f28375a711a@kinotuskanac.hr
DTSTAMP:20260421T102801Z
DTSTART:19700101T000000
DTEND:19700101T020000
SUMMARY:Učiteljica glasovira
LOCATION:Kino Tuškanac
DESCRIPTION:La pianiste, Austrija, Francuska, Njemačka, 2001 | Mjesto prikazivanja filma: Kulturno informativni centar KIC (Preradovićeva ul. 5) R: Michael Haneke
END:VEVENT

BEGIN:VEVENT
UID:f3558ff904c9bab1ab41838710137923@kinotuskanac.hr
DTSTAMP:20260421T102801Z
DTSTART:20030614T150000
DTEND:20030614T170000
SUMMARY:Das Schloß
LOCATION:Kino Tuškanac
DESCRIPTION:1997 R: Michael Haneke
END:VEVENT

BEGIN:VEVENT
UID:23ba57af30f685dadff4e922a457d8c7@kinotuskanac.hr
DTSTAMP:20260421T102801Z
DTSTART:20030614T170000
DTEND:20030614T190000
SUMMARY:Funny Games
LOCATION:Kino Tuškanac
DESCRIPTION:Austrija, 1997 R: Michael Haneke
END:VEVENT

BEGIN:VEVENT
UID:da04e54843c188eea9b5adaa99c5fcc2@kinotuskanac.hr
DTSTAMP:20260421T102801Z
DTSTART:20030617T210000
DTEND:20030617T230000
SUMMARY:Učiteljica glasovira
LOCATION:Kino Tuškanac
DESCRIPTION:La pianiste, Austrija, Francuska, Njemačka, 2001 | Mjesto prikazivanja filma: Kulturno informativni centar KIC (Preradovićeva ul. 5) R: Michael Haneke
END:VEVENT
END:VCALENDAR