BEGIN:VCALENDAR
VERSION:2.0
PRODID:-//Kino Tuškanac//Filmski programi//HR
URL:http://kinotuskanac/calendar/cycle/428
NAME:Kino Tuškanac ciklus Retrospektiva Francesca Rosija
X-WR-CALNAME:Kino Tuškanac ciklus Retrospektiva Francesca Rosija
TIMEZONE-ID:Europe/Zagreb
X-WR-TIMEZONE:Europe/Zagreb
REFRESH-INTERVAL;VALUE=DURATION:PT12H
X-PUBLISHED-TTL:PT12H
METHOD:PUBLISH
BEGIN:VEVENT
UID:03ca85023e20406a1bfe5785a8bfea4a@kinotuskanac.hr
DTSTAMP:20260421T204825Z
DTSTART:20150408T210000
DTEND:20150408T230000
SUMMARY:Ruke nad gradom
LOCATION:Kino Tuškanac
DESCRIPTION:Le mani sulla cittŕ, 1963. R: Francesco Rosi
END:VEVENT

BEGIN:VEVENT
UID:73b64673f867ec6f9136bc923f7169e8@kinotuskanac.hr
DTSTAMP:20260421T204825Z
DTSTART:20150409T190000
DTEND:20150409T210000
SUMMARY:Ruke nad gradom
LOCATION:Kino Tuškanac
DESCRIPTION:Le mani sulla cittŕ, 1963. R: Francesco Rosi
END:VEVENT

BEGIN:VEVENT
UID:4dc9b41d57bd97d9c213f6a26b07c55d@kinotuskanac.hr
DTSTAMP:20260421T204825Z
DTSTART:20150409T210000
DTEND:20150409T230000
SUMMARY:Izazov
LOCATION:Kino Tuškanac
DESCRIPTION:La sfida, 1957. R: Francesco Rosi
END:VEVENT

BEGIN:VEVENT
UID:d1d2f8fb903ffce69827ce73004b5263@kinotuskanac.hr
DTSTAMP:20260421T204825Z
DTSTART:20150411T190000
DTEND:20150411T210000
SUMMARY:Izazov
LOCATION:Kino Tuškanac
DESCRIPTION:La sfida, 1957. R: Francesco Rosi
END:VEVENT

BEGIN:VEVENT
UID:1b6c934f46a4f00e40d922c684776b70@kinotuskanac.hr
DTSTAMP:20260421T204825Z
DTSTART:20150422T190000
DTEND:20150422T210000
SUMMARY:Slučaj Mattei
LOCATION:Kino Tuškanac
DESCRIPTION:Il caso Mattei, 1971. R: Francesco Rosi
END:VEVENT

BEGIN:VEVENT
UID:b40b671e3b4770eebc796d951616fea5@kinotuskanac.hr
DTSTAMP:20260421T204825Z
DTSTART:20150422T210000
DTEND:20150422T230000
SUMMARY:Tri brata
LOCATION:Kino Tuškanac
DESCRIPTION:Tre fratelli, 1980. R: Francesco Rosi
END:VEVENT

BEGIN:VEVENT
UID:2823d364d17d5d35eee9efabf39e3ca6@kinotuskanac.hr
DTSTAMP:20260421T204825Z
DTSTART:20150427T190000
DTEND:20150427T210000
SUMMARY:Izuzetni leševi
LOCATION:Kino Tuškanac
DESCRIPTION:Cadaveri eccellenti, 1975. R: Francesco Rosi
END:VEVENT

BEGIN:VEVENT
UID:789cd7f8485f7f0d785c095d79c4032d@kinotuskanac.hr
DTSTAMP:20260421T204825Z
DTSTART:20150427T210000
DTEND:20150427T230000
SUMMARY:Ljudi protiv
LOCATION:Kino Tuškanac
DESCRIPTION:Uomini contro, 1970. R: Francesco Rosi
END:VEVENT

BEGIN:VEVENT
UID:f34728d9f89c653d17b6b6c91a259430@kinotuskanac.hr
DTSTAMP:20260421T204825Z
DTSTART:20150429T210000
DTEND:20150429T230000
SUMMARY:Izuzetni leševi
LOCATION:Kino Tuškanac
DESCRIPTION:Cadaveri eccellenti, 1975. R: Francesco Rosi
END:VEVENT

BEGIN:VEVENT
UID:671eb691d1678150c1586ac21656f133@kinotuskanac.hr
DTSTAMP:20260421T204825Z
DTSTART:20150430T190000
DTEND:20150430T210000
SUMMARY:Tri brata
LOCATION:Kino Tuškanac
DESCRIPTION:Tre fratelli, 1980. R: Francesco Rosi
END:VEVENT

BEGIN:VEVENT
UID:ceda471aa1845ac93d36202108f4915b@kinotuskanac.hr
DTSTAMP:20260421T204825Z
DTSTART:20150430T210000
DTEND:20150430T230000
SUMMARY:Slučaj Mattei
LOCATION:Kino Tuškanac
DESCRIPTION:Il caso Mattei, 1971. R: Francesco Rosi
END:VEVENT
END:VCALENDAR