BEGIN:VCALENDAR
VERSION:2.0
PRODID:-//Kino Tuškanac//Filmski programi//HR
URL:http://kinotuskanac/calendar/cycle/431
NAME:Kino Tuškanac ciklus Retrospektiva Claudea Chabrola
X-WR-CALNAME:Kino Tuškanac ciklus Retrospektiva Claudea Chabrola
TIMEZONE-ID:Europe/Zagreb
X-WR-TIMEZONE:Europe/Zagreb
REFRESH-INTERVAL;VALUE=DURATION:PT12H
X-PUBLISHED-TTL:PT12H
METHOD:PUBLISH
BEGIN:VEVENT
UID:7c9401bbd1ba3d4c85febd7f0291f9c1@kinotuskanac.hr
DTSTAMP:20260420T044221Z
DTSTART:20150601T190000
DTEND:20150601T210000
SUMMARY:Lijepi Serge
LOCATION:Kino Tuškanac
DESCRIPTION:Beaue Serge, 1958. R: Claude Chabrol
END:VEVENT

BEGIN:VEVENT
UID:9987da3b2cca2e6f6241d67235d0f779@kinotuskanac.hr
DTSTAMP:20260420T044221Z
DTSTART:20150603T190000
DTEND:20150603T210000
SUMMARY:Naivne djevojke
LOCATION:Kino Tuškanac
DESCRIPTION:Les bonnes femmes, 1960. R: Claude Chabrol
END:VEVENT

BEGIN:VEVENT
UID:a626ae49bb023a7f257643156f3ca95c@kinotuskanac.hr
DTSTAMP:20260420T044221Z
DTSTART:20150603T210000
DTEND:20150603T230000
SUMMARY:Lijepi Serge
LOCATION:Kino Tuškanac
DESCRIPTION:Beaue Serge, 1958. R: Claude Chabrol
END:VEVENT

BEGIN:VEVENT
UID:e734dff94640f85e04b8843b0ebf425d@kinotuskanac.hr
DTSTAMP:20260420T044221Z
DTSTART:20150605T190000
DTEND:20150605T210000
SUMMARY:Nevjerna žena
LOCATION:Kino Tuškanac
DESCRIPTION:La femme infidele, 1969. R: Claude Chabrol
END:VEVENT

BEGIN:VEVENT
UID:77119267849b4bac48de73faabe56dc6@kinotuskanac.hr
DTSTAMP:20260420T044221Z
DTSTART:20150605T210000
DTEND:20150605T230000
SUMMARY:Naivne djevojke
LOCATION:Kino Tuškanac
DESCRIPTION:Les bonnes femmes, 1960. R: Claude Chabrol
END:VEVENT

BEGIN:VEVENT
UID:9e13d16eb588dc8f8be7973dd2ee7884@kinotuskanac.hr
DTSTAMP:20260420T044221Z
DTSTART:20150606T190000
DTEND:20150606T210000
SUMMARY:Mesar
LOCATION:Kino Tuškanac
DESCRIPTION:Le boucher, 1970. R: Claude Chabrol
END:VEVENT

BEGIN:VEVENT
UID:ceb24ed027a3352c4af171c965a1a979@kinotuskanac.hr
DTSTAMP:20260420T044221Z
DTSTART:20150606T210000
DTEND:20150606T230000
SUMMARY:Nevjerna žena
LOCATION:Kino Tuškanac
DESCRIPTION:La femme infidele, 1969. R: Claude Chabrol
END:VEVENT

BEGIN:VEVENT
UID:19667fce015b8b1ce63c97fd225b13dc@kinotuskanac.hr
DTSTAMP:20260420T044221Z
DTSTART:20150615T190000
DTEND:20150615T210000
SUMMARY:Inspektor Lavardin
LOCATION:Kino Tuškanac
DESCRIPTION:Inspecteur Lavardin, 1986. R: Claude Chabrol
END:VEVENT

BEGIN:VEVENT
UID:ba832ea02bae29b56fa27cb6bccb5e26@kinotuskanac.hr
DTSTAMP:20260420T044221Z
DTSTART:20150615T210000
DTEND:20150615T230000
SUMMARY:Mesar
LOCATION:Kino Tuškanac
DESCRIPTION:Le boucher, 1970. R: Claude Chabrol
END:VEVENT

BEGIN:VEVENT
UID:22f725f11a321225131f5787049d7e24@kinotuskanac.hr
DTSTAMP:20260420T044221Z
DTSTART:20150616T190000
DTEND:20150616T210000
SUMMARY:Betty
LOCATION:Kino Tuškanac
DESCRIPTION:1992. R: Claude Chabrol
END:VEVENT

BEGIN:VEVENT
UID:7dba75186d6d8289844e29b6ac15a6f6@kinotuskanac.hr
DTSTAMP:20260420T044221Z
DTSTART:20150616T210000
DTEND:20150616T230000
SUMMARY:Inspektor Lavardin
LOCATION:Kino Tuškanac
DESCRIPTION:Inspecteur Lavardin, 1986. R: Claude Chabrol
END:VEVENT

BEGIN:VEVENT
UID:9e74a419a01fc2074e0aecdfcd5cd227@kinotuskanac.hr
DTSTAMP:20260420T044221Z
DTSTART:20150617T190000
DTEND:20150617T210000
SUMMARY:Pakao
LOCATION:Kino Tuškanac
DESCRIPTION:L' enfer, 1994. R: Claude Chabrol
END:VEVENT

BEGIN:VEVENT
UID:9f5235e84a742ad4c7d648164bdd13f4@kinotuskanac.hr
DTSTAMP:20260420T044221Z
DTSTART:20150617T210000
DTEND:20150617T230000
SUMMARY:Betty
LOCATION:Kino Tuškanac
DESCRIPTION:1992. R: Claude Chabrol
END:VEVENT

BEGIN:VEVENT
UID:400b2ead57223af05af0720cc9611a1e@kinotuskanac.hr
DTSTAMP:20260420T044221Z
DTSTART:20150618T190000
DTEND:20150618T210000
SUMMARY:Ceremonija (1955)
LOCATION:Kino Tuškanac
DESCRIPTION:La cérémonie, 1995. R: Claude Chabrol
END:VEVENT

BEGIN:VEVENT
UID:4caced4461f1ba86361444e175c78dad@kinotuskanac.hr
DTSTAMP:20260420T044221Z
DTSTART:20150618T210000
DTEND:20150618T230000
SUMMARY:Pakao
LOCATION:Kino Tuškanac
DESCRIPTION:L' enfer, 1994. R: Claude Chabrol
END:VEVENT

BEGIN:VEVENT
UID:6d6a98b2b777a26af07d406af7d96d5f@kinotuskanac.hr
DTSTAMP:20260420T044221Z
DTSTART:20150626T190000
DTEND:20150626T210000
SUMMARY:Cvijeće zla
LOCATION:Kino Tuškanac
DESCRIPTION:Fleur du mal, 2003. R: Claude Chabrol
END:VEVENT

BEGIN:VEVENT
UID:3098fa363b9003fb733c20590d71504b@kinotuskanac.hr
DTSTAMP:20260420T044221Z
DTSTART:20150626T210000
DTEND:20150626T230000
SUMMARY:Ceremonija (1955)
LOCATION:Kino Tuškanac
DESCRIPTION:La cérémonie, 1995. R: Claude Chabrol
END:VEVENT

BEGIN:VEVENT
UID:68143c7ee346381756133a3b1467ccbf@kinotuskanac.hr
DTSTAMP:20260420T044221Z
DTSTART:20150627T190000
DTEND:20150627T210000
SUMMARY:Cvijeće zla
LOCATION:Kino Tuškanac
DESCRIPTION:Fleur du mal, 2003. R: Claude Chabrol
END:VEVENT
END:VCALENDAR