BEGIN:VCALENDAR
VERSION:2.0
PRODID:-//Kino Tuškanac//Filmski programi//HR
URL:http://kinotuskanac/calendar/cycle/439
NAME:Kino Tuškanac ciklus Revija novog španjolskog filma
X-WR-CALNAME:Kino Tuškanac ciklus Revija novog španjolskog filma
TIMEZONE-ID:Europe/Zagreb
X-WR-TIMEZONE:Europe/Zagreb
REFRESH-INTERVAL;VALUE=DURATION:PT12H
X-PUBLISHED-TTL:PT12H
METHOD:PUBLISH
BEGIN:VEVENT
UID:16c099e83ce6b3d6f84ca65ecf3bc65d@kinotuskanac.hr
DTSTAMP:20260421T045350Z
DTSTART:20151207T190000
DTEND:20151207T210000
SUMMARY:Ranjena
LOCATION:Kino Tuškanac
DESCRIPTION:La herida, 2013. R: Fernando Franco
END:VEVENT

BEGIN:VEVENT
UID:78872d73241b1b56075ace71e9e1d8af@kinotuskanac.hr
DTSTAMP:20260421T045350Z
DTSTART:20151207T210000
DTEND:20151207T230000
SUMMARY:Crni dijamanti
LOCATION:Kino Tuškanac
DESCRIPTION:Diamantes negros, 2013. R: Miguel Alcantud
END:VEVENT

BEGIN:VEVENT
UID:243202092efa41ab071a84ca62553b02@kinotuskanac.hr
DTSTAMP:20260421T045350Z
DTSTART:20151208T190000
DTEND:20151208T210000
SUMMARY:Crni dijamanti
LOCATION:Kino Tuškanac
DESCRIPTION:Diamantes negros, 2013. R: Miguel Alcantud
END:VEVENT

BEGIN:VEVENT
UID:4ca71d6e019c90b0023dcdf9a7b172f3@kinotuskanac.hr
DTSTAMP:20260421T045350Z
DTSTART:20151208T210000
DTEND:20151208T230000
SUMMARY:Ranjena
LOCATION:Kino Tuškanac
DESCRIPTION:La herida, 2013. R: Fernando Franco
END:VEVENT

BEGIN:VEVENT
UID:59324f423d32b5748cf5da3be5e93d3b@kinotuskanac.hr
DTSTAMP:20260421T045350Z
DTSTART:20151209T190000
DTEND:20151209T210000
SUMMARY:Arktik
LOCATION:Kino Tuškanac
DESCRIPTION:Artico, 2014. R: Gabriel Velázquez
END:VEVENT

BEGIN:VEVENT
UID:74058e519838fd4a5ace28e4a0c6c5de@kinotuskanac.hr
DTSTAMP:20260421T045350Z
DTSTART:20151209T210000
DTEND:20151209T230000
SUMMARY:Pošast
LOCATION:Kino Tuškanac
DESCRIPTION:La plaga, 2013. R: Neus Ballús
END:VEVENT

BEGIN:VEVENT
UID:ea522504ecefb6393cec5a22de2cd0bd@kinotuskanac.hr
DTSTAMP:20260421T045350Z
DTSTART:20151210T190000
DTEND:20151210T210000
SUMMARY:Pošast
LOCATION:Kino Tuškanac
DESCRIPTION:La plaga, 2013. R: Neus Ballús
END:VEVENT

BEGIN:VEVENT
UID:ce184f009cb988862da1fbc84dcc8410@kinotuskanac.hr
DTSTAMP:20260421T045350Z
DTSTART:20151210T210000
DTEND:20151210T230000
SUMMARY:Arktik
LOCATION:Kino Tuškanac
DESCRIPTION:Artico, 2014. R: Gabriel Velázquez
END:VEVENT

BEGIN:VEVENT
UID:ac2fb94d1405f5c3b2244507f4eb5835@kinotuskanac.hr
DTSTAMP:20260421T045350Z
DTSTART:20151211T190000
DTEND:20151211T210000
SUMMARY:Ignasi M.
LOCATION:Kino Tuškanac
DESCRIPTION:2013. R: Ventura Pons
END:VEVENT

BEGIN:VEVENT
UID:233de98a0d49e8333b6415cb33b29cd6@kinotuskanac.hr
DTSTAMP:20260421T045350Z
DTSTART:20151211T210000
DTEND:20151211T230000
SUMMARY:Učiteljice republike
LOCATION:Kino Tuškanac
DESCRIPTION:Las maestras de la República, 2013. R: Pilar Solano
END:VEVENT

BEGIN:VEVENT
UID:00a4a6c6caf6d102bc33459e4dce11be@kinotuskanac.hr
DTSTAMP:20260421T045350Z
DTSTART:20151212T190000
DTEND:20151212T210000
SUMMARY:Učiteljice republike
LOCATION:Kino Tuškanac
DESCRIPTION:Las maestras de la República, 2013. R: Pilar Solano
END:VEVENT

BEGIN:VEVENT
UID:9bfc64cb4dbb6c01d05a23870c721b34@kinotuskanac.hr
DTSTAMP:20260421T045350Z
DTSTART:20151212T201500
DTEND:20151212T221500
SUMMARY:Ignasi M.
LOCATION:Kino Tuškanac
DESCRIPTION:2013. R: Ventura Pons
END:VEVENT
END:VCALENDAR