BEGIN:VCALENDAR
VERSION:2.0
PRODID:-//Kino Tuškanac//Filmski programi//HR
URL:http://kinotuskanac/calendar/cycle/443
NAME:Kino Tuškanac ciklus Poljske filmske večeri
X-WR-CALNAME:Kino Tuškanac ciklus Poljske filmske večeri
TIMEZONE-ID:Europe/Zagreb
X-WR-TIMEZONE:Europe/Zagreb
REFRESH-INTERVAL;VALUE=DURATION:PT12H
X-PUBLISHED-TTL:PT12H
METHOD:PUBLISH
BEGIN:VEVENT
UID:8a9c2118378bc31c19a9cf88095a2a62@kinotuskanac.hr
DTSTAMP:20260421T092631Z
DTSTART:20150924T190000
DTEND:20150924T210000
SUMMARY:Bogovi
LOCATION:Kino Tuškanac
DESCRIPTION:Bogowie, 2014. R: Lukasz Palkowski
END:VEVENT

BEGIN:VEVENT
UID:6da87af576143c94cfbe9300a3009d3f@kinotuskanac.hr
DTSTAMP:20260421T092631Z
DTSTART:20151019T190000
DTEND:20151019T210000
SUMMARY:Želim živjeti
LOCATION:Kino Tuškanac
DESCRIPTION:Chce się żyć, 2013. R: Maciej Pieprzyca
END:VEVENT

BEGIN:VEVENT
UID:3d0075b5b4db5e60e11b2dfda1883702@kinotuskanac.hr
DTSTAMP:20260421T092631Z
DTSTART:20151214T190000
DTEND:20151214T210000
SUMMARY:Pisma svetom Nikoli
LOCATION:Kino Tuškanac
DESCRIPTION:Listy do M., Poljska, 2011 R: Mitja Okorn
END:VEVENT

BEGIN:VEVENT
UID:44839c36149888d3a04fbe05cccc7598@kinotuskanac.hr
DTSTAMP:20260421T092631Z
DTSTART:20160222T190000
DTEND:20160222T210000
SUMMARY:33 scene iz života
LOCATION:Kino Tuškanac
DESCRIPTION:33 sceny z zycia, Poljska, 2008 R: Małgorzata Szumowska
END:VEVENT

BEGIN:VEVENT
UID:0edd2f94e5290d3c755d910b9f16546f@kinotuskanac.hr
DTSTAMP:20260421T092631Z
DTSTART:20160321T190000
DTEND:20160321T210000
SUMMARY:Ambassada
LOCATION:Kino Tuškanac
DESCRIPTION:Poljska, 2013 R: Juliusz Machulski
END:VEVENT

BEGIN:VEVENT
UID:f2793061fb9c5ee8a7e7eb46afbbf105@kinotuskanac.hr
DTSTAMP:20260421T092631Z
DTSTART:20160418T190000
DTEND:20160418T210000
SUMMARY:Upletenost
LOCATION:Kino Tuškanac
DESCRIPTION:Uwiklanie, Poljska, 2011 R: Jacek Bromski
END:VEVENT

BEGIN:VEVENT
UID:2b179f533dd665d3fbe86e3cfb2e551f@kinotuskanac.hr
DTSTAMP:20260421T092631Z
DTSTART:20160620T190000
DTEND:20160620T210000
SUMMARY:Kiler
LOCATION:Kino Tuškanac
DESCRIPTION:Poljska, 1997 R: Juliusz Machulski
END:VEVENT

BEGIN:VEVENT
UID:68927e9ba3d3875aa5c5288a7a2fd1a1@kinotuskanac.hr
DTSTAMP:20260421T092631Z
DTSTART:20161010T210000
DTEND:20161010T230000
SUMMARY:Manje zlo
LOCATION:Kino Tuškanac
DESCRIPTION:Mniejsze zło, Poljska, 2009 R: Janusz Morgenstern
END:VEVENT

BEGIN:VEVENT
UID:cb21da2e7e6f15563a4cef18e601fe6d@kinotuskanac.hr
DTSTAMP:20260421T092631Z
DTSTART:20161128T190000
DTEND:20161128T210000
SUMMARY:Katyn
LOCATION:Kino Tuškanac
DESCRIPTION:Poljska, 2007 R: Andrzej Wajda
END:VEVENT

BEGIN:VEVENT
UID:b8a0f88aa4fb5b6fd961014965c03718@kinotuskanac.hr
DTSTAMP:20260421T092631Z
DTSTART:20161223T193000
DTEND:20161223T213000
SUMMARY:Tatarak
LOCATION:Kino Tuškanac
DESCRIPTION:Poljska, 2009 R: Andrzej Wajda
END:VEVENT

BEGIN:VEVENT
UID:2ac2cc2c0d65b41f9a575d1f9c93f924@kinotuskanac.hr
DTSTAMP:20260421T092631Z
DTSTART:20170130T190000
DTEND:20170130T210000
SUMMARY:Pepeo i dijamant
LOCATION:Kino Tuškanac
DESCRIPTION:Popiól i diament, Poljska, 1958 | Mjesto prikazivanja filma: Kino Forum (SD Stjepan Radić, Jarunska ul. 2) R: Andrzej Wajda
END:VEVENT

BEGIN:VEVENT
UID:1ce3f88c50fe799084aa5f922c29f747@kinotuskanac.hr
DTSTAMP:20260421T092631Z
DTSTART:20170227T190000
DTEND:20170227T210000
SUMMARY:Čovjek od mramora
LOCATION:Kino Tuškanac
DESCRIPTION:Czlowiek z marmuru, Poljska, 1977 | Mjesto prikazivanja filma: Kino Forum (SD Stjepan Radić, Jarunska ul. 2) R: Andrzej Wajda
END:VEVENT

BEGIN:VEVENT
UID:20b49466748511fba0876512e54dfc13@kinotuskanac.hr
DTSTAMP:20260421T092631Z
DTSTART:20170327T190000
DTEND:20170327T210000
SUMMARY:Dirigent
LOCATION:Kino Tuškanac
DESCRIPTION:Dyrygent, Poljska, 1980 R: Andrzej Wajda
END:VEVENT

BEGIN:VEVENT
UID:e2d21cf942cb0df4dd07ebb47ced3765@kinotuskanac.hr
DTSTAMP:20260421T092631Z
DTSTART:20171009T190000
DTEND:20171009T210000
SUMMARY:Tijelo (2015)
LOCATION:Kino Tuškanac
DESCRIPTION:Cialo, Poljska, 2015 R: Małgorzata Szumowska
END:VEVENT

BEGIN:VEVENT
UID:03b864709d3e81aca531afa1c6e9e069@kinotuskanac.hr
DTSTAMP:20260421T092631Z
DTSTART:20171120T190000
DTEND:20171120T210000
SUMMARY:Obećana zemlja
LOCATION:Kino Tuškanac
DESCRIPTION:Ziemia obiecana, Poljska, 1975 | Mjesto prikazivanja filma: Kino Forum (SD Stjepan Radić, Jarunska ul. 2) R: Andrzej Wajda
END:VEVENT
END:VCALENDAR