BEGIN:VCALENDAR
VERSION:2.0
PRODID:-//Kino Tuškanac//Filmski programi//HR
URL:http://kinotuskanac/calendar/cycle/452
NAME:Kino Tuškanac ciklus In memoriam... Gabriele Ferzetti
X-WR-CALNAME:Kino Tuškanac ciklus In memoriam... Gabriele Ferzetti
TIMEZONE-ID:Europe/Zagreb
X-WR-TIMEZONE:Europe/Zagreb
REFRESH-INTERVAL;VALUE=DURATION:PT12H
X-PUBLISHED-TTL:PT12H
METHOD:PUBLISH
BEGIN:VEVENT
UID:4fa0517a56fea785333e4108be83b130@kinotuskanac.hr
DTSTAMP:20260425T192440Z
DTSTART:20160211T210000
DTEND:20160211T230000
SUMMARY:Prijateljice (1955)
LOCATION:Kino Tuškanac
DESCRIPTION:Le amiche, Italija, 1955 R: Michelangelo Antonioni
END:VEVENT

BEGIN:VEVENT
UID:5d4c50d77a54ed71ad441ad0173e291b@kinotuskanac.hr
DTSTAMP:20260425T192440Z
DTSTART:20160212T190000
DTEND:20160212T210000
SUMMARY:Prijateljice (1955)
LOCATION:Kino Tuškanac
DESCRIPTION:Le amiche, Italija, 1955 R: Michelangelo Antonioni
END:VEVENT

BEGIN:VEVENT
UID:cf1471d817e723876d5cfc9b3794fea7@kinotuskanac.hr
DTSTAMP:20260425T192440Z
DTSTART:20160212T210000
DTEND:20160212T230000
SUMMARY:Duga noć 1943.
LOCATION:Kino Tuškanac
DESCRIPTION:La lunga notte del '43, Italija, 1960 R: Florestano Vancini
END:VEVENT

BEGIN:VEVENT
UID:3afc056e017fa9995c0aef80feeae481@kinotuskanac.hr
DTSTAMP:20260425T192440Z
DTSTART:20160213T190000
DTEND:20160213T210000
SUMMARY:Duga noć 1943.
LOCATION:Kino Tuškanac
DESCRIPTION:La lunga notte del '43, Italija, 1960 R: Florestano Vancini
END:VEVENT
END:VCALENDAR