BEGIN:VCALENDAR
VERSION:2.0
PRODID:-//Kino Tuškanac//Filmski programi//HR
URL:http://kinotuskanac/calendar/cycle/460
NAME:Kino Tuškanac ciklus In memoriam… Arsen Dedić
X-WR-CALNAME:Kino Tuškanac ciklus In memoriam… Arsen Dedić
TIMEZONE-ID:Europe/Zagreb
X-WR-TIMEZONE:Europe/Zagreb
REFRESH-INTERVAL;VALUE=DURATION:PT12H
X-PUBLISHED-TTL:PT12H
METHOD:PUBLISH
BEGIN:VEVENT
UID:bd3479a4756dbe76ed5fdd7c1f205002@kinotuskanac.hr
DTSTAMP:20260422T014239Z
DTSTART:20160307T190000
DTEND:20160307T210000
SUMMARY:Višnja na Tašmajdanu
LOCATION:Kino Tuškanac
DESCRIPTION:1968. R: Stole Janković
END:VEVENT

BEGIN:VEVENT
UID:298ef4b3ba9e58a9272744270814d357@kinotuskanac.hr
DTSTAMP:20260422T014239Z
DTSTART:20160307T210000
DTEND:20160307T230000
SUMMARY:Belle epoque / Posljednji valcer u Sarajevu
LOCATION:Kino Tuškanac
DESCRIPTION:1990. R: Nikola Stojanović
END:VEVENT

BEGIN:VEVENT
UID:b30b6ea285ce870abcd23517032f53c5@kinotuskanac.hr
DTSTAMP:20260422T014239Z
DTSTART:20160308T190000
DTEND:20160308T210000
SUMMARY:Belle epoque / Posljednji valcer u Sarajevu
LOCATION:Kino Tuškanac
DESCRIPTION:1990. R: Nikola Stojanović
END:VEVENT

BEGIN:VEVENT
UID:98ece5a20e833a23b6011aa70604a76d@kinotuskanac.hr
DTSTAMP:20260422T014239Z
DTSTART:20160308T210000
DTEND:20160308T230000
SUMMARY:Višnja na Tašmajdanu
LOCATION:Kino Tuškanac
DESCRIPTION:1968. R: Stole Janković
END:VEVENT

BEGIN:VEVENT
UID:1a956039c9cb4615c9bd1c344a7a4113@kinotuskanac.hr
DTSTAMP:20260422T014239Z
DTSTART:20160309T210000
DTEND:20160309T230000
SUMMARY:Kad golubovi dolete
LOCATION:Kino Tuškanac
DESCRIPTION:1968. R: Vlastimir Radovanović
END:VEVENT

BEGIN:VEVENT
UID:31823417713e48dc3813c05b7040cb20@kinotuskanac.hr
DTSTAMP:20260422T014239Z
DTSTART:20160310T190000
DTEND:20160310T210000
SUMMARY:Kad golubovi dolete
LOCATION:Kino Tuškanac
DESCRIPTION:1968. R: Vlastimir Radovanović
END:VEVENT

BEGIN:VEVENT
UID:d32bf59dfb1ba5bd16a5dc3198facb21@kinotuskanac.hr
DTSTAMP:20260422T014239Z
DTSTART:20160311T190000
DTEND:20160311T210000
SUMMARY:Glembajevi
LOCATION:Kino Tuškanac
DESCRIPTION:Hrvatska, 1988 R: Antun Vrdoljak
END:VEVENT

BEGIN:VEVENT
UID:252ec4a6827b5c503ddda490b063af7b@kinotuskanac.hr
DTSTAMP:20260422T014239Z
DTSTART:20160311T210000
DTEND:20160311T230000
SUMMARY:Donator
LOCATION:Kino Tuškanac
DESCRIPTION:Jugoslavija: Hrvatska, 1989 | Mjesto prikazivanja filma: MM Centar (Studentski centar, Savska cesta 25) R: Veljko Bulajić
END:VEVENT

BEGIN:VEVENT
UID:349ab3973fc08430a26081cd57a92efa@kinotuskanac.hr
DTSTAMP:20260422T014239Z
DTSTART:20160312T190000
DTEND:20160312T210000
SUMMARY:Donator
LOCATION:Kino Tuškanac
DESCRIPTION:Jugoslavija: Hrvatska, 1989 | Mjesto prikazivanja filma: MM Centar (Studentski centar, Savska cesta 25) R: Veljko Bulajić
END:VEVENT

BEGIN:VEVENT
UID:98d4363282e1e4b2b55a5f5dc1920a2f@kinotuskanac.hr
DTSTAMP:20260422T014239Z
DTSTART:20160312T210000
DTEND:20160312T230000
SUMMARY:Glembajevi
LOCATION:Kino Tuškanac
DESCRIPTION:Hrvatska, 1988 R: Antun Vrdoljak
END:VEVENT
END:VCALENDAR