BEGIN:VCALENDAR
VERSION:2.0
PRODID:-//Kino Tuškanac//Filmski programi//HR
URL:http://kinotuskanac/calendar/cycle/461
NAME:Kino Tuškanac ciklus Pametno kino (2016.-2017.)
X-WR-CALNAME:Kino Tuškanac ciklus Pametno kino (2016.-2017.)
TIMEZONE-ID:Europe/Zagreb
X-WR-TIMEZONE:Europe/Zagreb
REFRESH-INTERVAL;VALUE=DURATION:PT12H
X-PUBLISHED-TTL:PT12H
METHOD:PUBLISH
BEGIN:VEVENT
UID:fe82ba6fa6badbd8c57b1ec20046628a@kinotuskanac.hr
DTSTAMP:20260421T113529Z
DTSTART:20160123T110000
DTEND:20160123T130000
SUMMARY:Planet 51
LOCATION:Kino Tuškanac
DESCRIPTION:2009 R: Javier Abad, Jorge Blanco
END:VEVENT

BEGIN:VEVENT
UID:d00b94049018c4ccadf6fb931d1ba063@kinotuskanac.hr
DTSTAMP:20260421T113529Z
DTSTART:20160130T110000
DTEND:20160130T130000
SUMMARY:Sedmi patuljak
LOCATION:Kino Tuškanac
DESCRIPTION:Der 7bte Zwerg, Njemačka, 2014 R: Boris Aljinović, Harald Siepermann
END:VEVENT

BEGIN:VEVENT
UID:10b2bd00f8fe8557ddfe6d800d450495@kinotuskanac.hr
DTSTAMP:20260421T113529Z
DTSTART:20160206T110000
DTEND:20160206T130000
SUMMARY:Kerity, kuća bajki
LOCATION:Kino Tuškanac
DESCRIPTION:Kerity, La Maison des Contes, Francuska  Italija, 2009 R: Dominique Monféry
END:VEVENT

BEGIN:VEVENT
UID:f239cf0ed2b61e9c8152055cbb164914@kinotuskanac.hr
DTSTAMP:20260421T113529Z
DTSTART:20160213T110000
DTEND:20160213T130000
SUMMARY:Tajna Kellsa
LOCATION:Kino Tuškanac
DESCRIPTION:Brendan and the Secret of Kells, Irska, Belgija, Francuska, 2009 R: Tomm Moore, Nora Twomey
END:VEVENT

BEGIN:VEVENT
UID:77cf85e8829190142a72d65bef5ed855@kinotuskanac.hr
DTSTAMP:20260421T113529Z
DTSTART:20160220T110000
DTEND:20160220T130000
SUMMARY:Štrumpfovi 2
LOCATION:Kino Tuškanac
DESCRIPTION:The Smurfs 2, SAD, 2013 R: Raja Gosnell
END:VEVENT

BEGIN:VEVENT
UID:0da7184e5cf1421c2dbf9ade3c9af696@kinotuskanac.hr
DTSTAMP:20260421T113529Z
DTSTART:20160227T110000
DTEND:20160227T130000
SUMMARY:Koko i duhovi
LOCATION:Kino Tuškanac
DESCRIPTION:Hrvatska, 2011 R: Daniel Kušan
END:VEVENT

BEGIN:VEVENT
UID:cd270fd75d818720fa8ad4d4e4b329af@kinotuskanac.hr
DTSTAMP:20260421T113529Z
DTSTART:20160305T110000
DTEND:20160305T130000
SUMMARY:Oblačno s ćuftama 2
LOCATION:Kino Tuškanac
DESCRIPTION:Cloudy with a Chance of Meatballs 2, SAD, 2013 R: Cody Cameron
END:VEVENT

BEGIN:VEVENT
UID:5221cf0e8777ceb1c8b1bfd3171397b6@kinotuskanac.hr
DTSTAMP:20260421T113529Z
DTSTART:20160312T110000
DTEND:20160312T130000
SUMMARY:Dječak i svijet
LOCATION:Kino Tuškanac
DESCRIPTION:Menino e o mundo, Brazil, 2013 R: Alê Abreu
END:VEVENT

BEGIN:VEVENT
UID:bdfe22bd8b3f774576cfe9908c653afc@kinotuskanac.hr
DTSTAMP:20260421T113529Z
DTSTART:20160319T110000
DTEND:20160319T130000
SUMMARY:Mumini i potjera za kometom
LOCATION:Kino Tuškanac
DESCRIPTION:Moomins and the Comet Chase, Finska/VB  Poljska, 2010 R: Maria Lindberg
END:VEVENT

BEGIN:VEVENT
UID:eb57220f215b194f40a004c08619249b@kinotuskanac.hr
DTSTAMP:20260421T113529Z
DTSTART:20160402T110000
DTEND:20160402T130000
SUMMARY:Transilvanija
LOCATION:Kino Tuškanac
DESCRIPTION:Hotel Transylvania, SAD, 2012 R: Genndy Tartakovsky
END:VEVENT

BEGIN:VEVENT
UID:e64bd2ff78fab93d9ccbd4b44ce40fc4@kinotuskanac.hr
DTSTAMP:20260421T113529Z
DTSTART:20160416T110000
DTEND:20160416T130000
SUMMARY:Hrabri mališan
LOCATION:Kino Tuškanac
DESCRIPTION:Minuscule - La vallée des fourmis perdues, Francuska, 2014 R: Hélène Giraud, Thomas Szabo
END:VEVENT

BEGIN:VEVENT
UID:1c9cae1a03ce0829aaf9cd970b68286f@kinotuskanac.hr
DTSTAMP:20260421T113529Z
DTSTART:20160430T110000
DTEND:20160430T130000
SUMMARY:Ne daj se, Floki
LOCATION:Kino Tuškanac
DESCRIPTION:Hrvatska, 2000 R: Zoran Tadić
END:VEVENT

BEGIN:VEVENT
UID:ced089a38c77ec8cf0a892fc27500c70@kinotuskanac.hr
DTSTAMP:20260421T113529Z
DTSTART:20160507T110000
DTEND:20160507T130000
SUMMARY:Transilvanija 2
LOCATION:Kino Tuškanac
DESCRIPTION:Hotel Transylvania 2, USA, 2015 R: Genndy Tartakovsky
END:VEVENT

BEGIN:VEVENT
UID:c50cd956b8a2144e960b10ec58f340d3@kinotuskanac.hr
DTSTAMP:20260421T113529Z
DTSTART:20160514T110000
DTEND:20160514T130000
SUMMARY:Jona Jona pingvin
LOCATION:Kino Tuškanac
DESCRIPTION:Yonayona penguin, Japan, 2009 R: Rintaro (Shigeyuki Hayashi)
END:VEVENT

BEGIN:VEVENT
UID:b9950f8ba5fd877c28db4ef066b654de@kinotuskanac.hr
DTSTAMP:20260421T113529Z
DTSTART:20160521T110000
DTEND:20160521T130000
SUMMARY:Mumini na Azurnoj obali
LOCATION:Kino Tuškanac
DESCRIPTION:Muumit Rivieralla, Finska, Francuska, 2014 R: Xavier Picard, Hanna Hemilä
END:VEVENT

BEGIN:VEVENT
UID:d6a6c697a99dc68788837a63cda40ca4@kinotuskanac.hr
DTSTAMP:20260421T113529Z
DTSTART:20161105T110000
DTEND:20161105T130000
SUMMARY:Mune, čuvar mjeseca
LOCATION:Kino Tuškanac
DESCRIPTION:Mune, le gardien de la lune, Francuska, 2013 R: Benoît Philippon, Alexandre Heboyan
END:VEVENT

BEGIN:VEVENT
UID:36540772a6a7e4388944c1913a4966ff@kinotuskanac.hr
DTSTAMP:20260421T113529Z
DTSTART:20161112T110000
DTEND:20161112T130000
SUMMARY:Medvjedić Paddington
LOCATION:Kino Tuškanac
DESCRIPTION:Paddington Bear, Velika Britanija, Francuska, 2014 R: Paul King
END:VEVENT

BEGIN:VEVENT
UID:0e654e1660884c1d3c4d6a94dd8c46f7@kinotuskanac.hr
DTSTAMP:20260421T113529Z
DTSTART:20161126T110000
DTEND:20161126T130000
SUMMARY:Knjiga o džungli
LOCATION:Kino Tuškanac
DESCRIPTION:The Jungle Book, SAD, 2016 R: Jon Favreau
END:VEVENT

BEGIN:VEVENT
UID:20490045c55bf2f5a5372e7295382fea@kinotuskanac.hr
DTSTAMP:20260421T113529Z
DTSTART:20161203T110000
DTEND:20161203T130000
SUMMARY:Kuća velikog mađioničara
LOCATION:Kino Tuškanac
DESCRIPTION:House of Magic, 2013 R: Ben Stassen, Jeremy Degruson
END:VEVENT

BEGIN:VEVENT
UID:b17640531a7c91598917b66152beca08@kinotuskanac.hr
DTSTAMP:20260421T113529Z
DTSTART:20161210T110000
DTEND:20161210T130000
SUMMARY:Asterix, grad bogova
LOCATION:Kino Tuškanac
DESCRIPTION:Astérix: Le domaine des dieux, Francuska, 2014 R: Alexandre Astier
END:VEVENT

BEGIN:VEVENT
UID:f6fac3aea4640bd665f0cd897844e92f@kinotuskanac.hr
DTSTAMP:20260421T113529Z
DTSTART:20161217T110000
DTEND:20161217T130000
SUMMARY:Artur Božić
LOCATION:Kino Tuškanac
DESCRIPTION:Arthur Christmas, SAD, 2011 R: Sarah Smith, Barry Cook
END:VEVENT

BEGIN:VEVENT
UID:cc7fb19c6f48dd57dde1600bf83dda90@kinotuskanac.hr
DTSTAMP:20260421T113529Z
DTSTART:20170128T110000
DTEND:20170128T130000
SUMMARY:U grmu je zeko
LOCATION:Kino Tuškanac
DESCRIPTION:Ny, pogodi!, SSSR, 1965.-1973. R: Vjeceslav Kotenočkin
END:VEVENT

BEGIN:VEVENT
UID:ece1a622101d3aff6b60925c3f5521bf@kinotuskanac.hr
DTSTAMP:20260421T113529Z
DTSTART:20170204T110000
DTEND:20170204T130000
SUMMARY:Tvrd orah
LOCATION:Kino Tuškanac
DESCRIPTION:The Nut Job, Kanada, 2014 R: Peter Lepeniotis
END:VEVENT

BEGIN:VEVENT
UID:07f5c15f125335f5c7132b659283866d@kinotuskanac.hr
DTSTAMP:20260421T113529Z
DTSTART:20170211T110000
DTEND:20170211T130000
SUMMARY:Konjić Grbonjić
LOCATION:Kino Tuškanac
DESCRIPTION:Конёк-Горбунок, SSSR, 1947 R: Ivan Ivanov-Vano
END:VEVENT

BEGIN:VEVENT
UID:a1e3122630cf23ece332768e2a29e819@kinotuskanac.hr
DTSTAMP:20260421T113529Z
DTSTART:20170218T110000
DTEND:20170218T130000
SUMMARY:Zootropola
LOCATION:Kino Tuškanac
DESCRIPTION:Zootropolis, SAD, 2016 R: Byron Howard, Rich Moore
END:VEVENT

BEGIN:VEVENT
UID:981ef4bad67d03186d919b4782715309@kinotuskanac.hr
DTSTAMP:20260421T113529Z
DTSTART:20170225T110000
DTEND:20170225T130000
SUMMARY:Inspektor Martin i banda puževa
LOCATION:Kino Tuškanac
DESCRIPTION:Hrvatska, 2012 R: Igor Lepčin
END:VEVENT

BEGIN:VEVENT
UID:04740dc8d052936026b8720a78166d61@kinotuskanac.hr
DTSTAMP:20260421T113529Z
DTSTART:20170304T110000
DTEND:20170304T130000
SUMMARY:Mornar Popaj
LOCATION:Kino Tuškanac
DESCRIPTION:Popeye the Sailor, SAD, 1944.-1945. R: Seymour Kneitel
END:VEVENT

BEGIN:VEVENT
UID:bda884600bb0e639b22d7237128f2518@kinotuskanac.hr
DTSTAMP:20260421T113529Z
DTSTART:20170311T110000
DTEND:20170311T130000
SUMMARY:Magična paučina
LOCATION:Kino Tuškanac
DESCRIPTION:Charlotte's Web, SAD, 1972 R: Charles August Nichols, Iwao Takamoto
END:VEVENT

BEGIN:VEVENT
UID:0c7cfae3d0ea6b788f078f3c9dc8d5af@kinotuskanac.hr
DTSTAMP:20260421T113529Z
DTSTART:20170318T110000
DTEND:20170318T130000
SUMMARY:Kirikou protiv vještice
LOCATION:Kino Tuškanac
DESCRIPTION:Kirikou et la sorciere, Francuska, Belgija, Luksemburg, 1998 R: Michel Ocelot
END:VEVENT

BEGIN:VEVENT
UID:73c5bc96e4883d2361b7e6c473a9aed3@kinotuskanac.hr
DTSTAMP:20260421T113529Z
DTSTART:20170401T110000
DTEND:20170401T130000
SUMMARY:Vaiana
LOCATION:Kino Tuškanac
DESCRIPTION:Moana, SAD, 2016 R: Ron Clements, John Musker
END:VEVENT

BEGIN:VEVENT
UID:82bb3e225f8fadb5f1696d73c8448903@kinotuskanac.hr
DTSTAMP:20260421T113529Z
DTSTART:20170506T110000
DTEND:20170506T130000
SUMMARY:Izbor filmova za djecu Zagreb filma
LOCATION:Kino Tuškanac
DESCRIPTION:
END:VEVENT

BEGIN:VEVENT
UID:5891a1142976eb1ef2a2f1bb70352b7f@kinotuskanac.hr
DTSTAMP:20260421T113529Z
DTSTART:20170513T110000
DTEND:20170513T130000
SUMMARY:Mala velika panda
LOCATION:Kino Tuškanac
DESCRIPTION:Little big panda, Francuska, Kina, Luksemburg, Njemačka, Španjolska, 2011 R: Michael Schoemann
END:VEVENT

BEGIN:VEVENT
UID:56154507100b04bc381a597c5411bb31@kinotuskanac.hr
DTSTAMP:20260421T113529Z
DTSTART:20170429T110000
DTEND:20170429T130000
SUMMARY:Fantomski dječak
LOCATION:Kino Tuškanac
DESCRIPTION:Phantom Boy, Belgija, Francuska, 2015 R: Jean-Loup Felicioli, Alain Gagnol
END:VEVENT

BEGIN:VEVENT
UID:b8c21ecc30c5e45d1e0ddddb40072c4e@kinotuskanac.hr
DTSTAMP:20260421T113529Z
DTSTART:20171104T110000
DTEND:20171104T130000
SUMMARY:Pat i Mat na filmu
LOCATION:Kino Tuškanac
DESCRIPTION:Pat a Mat ve filmu, Češka, 2016 R: Marek Beneš
END:VEVENT

BEGIN:VEVENT
UID:df9a5e6d62e6a8678a132a25eec5d7e1@kinotuskanac.hr
DTSTAMP:20260421T113529Z
DTSTART:20171111T110000
DTEND:20171111T130000
SUMMARY:Pat i Mat na filmu
LOCATION:Kino Tuškanac
DESCRIPTION:Pat a Mat ve filmu, Češka, 2016 R: Marek Beneš
END:VEVENT

BEGIN:VEVENT
UID:d1495fc1faf7f04435bc3956488aaf8d@kinotuskanac.hr
DTSTAMP:20260421T113529Z
DTSTART:20171125T110000
DTEND:20171125T130000
SUMMARY:Neparožderi
LOCATION:Kino Tuškanac
DESCRIPTION:Lichožrouti, Češka, Slovačka, Hrvatska, 2016 R: Galina Miklínová
END:VEVENT

BEGIN:VEVENT
UID:95fd96038baa2897ab3ab6d93dc9cfdf@kinotuskanac.hr
DTSTAMP:20260421T113529Z
DTSTART:20171202T110000
DTEND:20171202T130000
SUMMARY:Neparožderi
LOCATION:Kino Tuškanac
DESCRIPTION:Lichožrouti, Češka, Slovačka, Hrvatska, 2016 R: Galina Miklínová
END:VEVENT

BEGIN:VEVENT
UID:44c35653bf2d770a4d40829ce8e9015f@kinotuskanac.hr
DTSTAMP:20260421T113529Z
DTSTART:20171209T110000
DTEND:20171209T130000
SUMMARY:Neparožderi
LOCATION:Kino Tuškanac
DESCRIPTION:Lichožrouti, Češka, Slovačka, Hrvatska, 2016 R: Galina Miklínová
END:VEVENT

BEGIN:VEVENT
UID:4aa602bd4fb1bda30e9f3afe8305302b@kinotuskanac.hr
DTSTAMP:20260421T113529Z
DTSTART:20171216T110000
DTEND:20171216T130000
SUMMARY:Neparožderi
LOCATION:Kino Tuškanac
DESCRIPTION:Lichožrouti, Češka, Slovačka, Hrvatska, 2016 R: Galina Miklínová
END:VEVENT

BEGIN:VEVENT
UID:6473f8839e0a45a2ca69f631aa600a9a@kinotuskanac.hr
DTSTAMP:20260421T113529Z
DTSTART:20171223T110000
DTEND:20171223T130000
SUMMARY:Medvjedić Paddington 2
LOCATION:Kino Tuškanac
DESCRIPTION:Paddington 2, Velika Britanija, Francuska, 2017 R: Paul King
END:VEVENT
END:VCALENDAR