BEGIN:VCALENDAR
VERSION:2.0
PRODID:-//Kino Tuškanac//Filmski programi//HR
URL:http://kinotuskanac/calendar/cycle/464
NAME:Kino Tuškanac ciklus Pedesetogodišnjaci…
X-WR-CALNAME:Kino Tuškanac ciklus Pedesetogodišnjaci…
TIMEZONE-ID:Europe/Zagreb
X-WR-TIMEZONE:Europe/Zagreb
REFRESH-INTERVAL;VALUE=DURATION:PT12H
X-PUBLISHED-TTL:PT12H
METHOD:PUBLISH
BEGIN:VEVENT
UID:8daf1bbb2b1bf0c4eb98ae1c216c0bc6@kinotuskanac.hr
DTSTAMP:20260419T155459Z
DTSTART:20160322T190000
DTEND:20160322T210000
SUMMARY:Ivančice
LOCATION:Kino Tuškanac
DESCRIPTION:Sedmikrásky, Češka, 1966 | Mjesto prikazivanja filma: Kulturno informativni centar KIC (Preradovićeva ul. 5) R: Vera Chytilová
END:VEVENT

BEGIN:VEVENT
UID:b2e719fb40ce9841adc1bcceee8b6d95@kinotuskanac.hr
DTSTAMP:20260419T155459Z
DTSTART:20160322T210000
DTEND:20160322T230000
SUMMARY:Strogo kontrolirani vlakovi
LOCATION:Kino Tuškanac
DESCRIPTION:Ostre sledované vlaky, Čehoslovačka, 1966 R: Jirí Menzel
END:VEVENT

BEGIN:VEVENT
UID:7b5b9a3078c0a4333990226c278731ca@kinotuskanac.hr
DTSTAMP:20260419T155459Z
DTSTART:20160323T190000
DTEND:20160323T210000
SUMMARY:Povratak razmetnoga sina
LOCATION:Kino Tuškanac
DESCRIPTION:Návrat ztraceného syna, Češka, 1967 R: Evald Schorm
END:VEVENT

BEGIN:VEVENT
UID:e1393c186f0caf981ece666974a093cb@kinotuskanac.hr
DTSTAMP:20260419T155459Z
DTSTART:20160323T210000
DTEND:20160323T230000
SUMMARY:Ivančice
LOCATION:Kino Tuškanac
DESCRIPTION:Sedmikrásky, Češka, 1966 | Mjesto prikazivanja filma: Kulturno informativni centar KIC (Preradovićeva ul. 5) R: Vera Chytilová
END:VEVENT

BEGIN:VEVENT
UID:5b8be5e5af5e35427aa8d1bfae02d599@kinotuskanac.hr
DTSTAMP:20260419T155459Z
DTSTART:20160325T190000
DTEND:20160325T210000
SUMMARY:Strogo kontrolirani vlakovi
LOCATION:Kino Tuškanac
DESCRIPTION:Ostre sledované vlaky, Čehoslovačka, 1966 R: Jirí Menzel
END:VEVENT

BEGIN:VEVENT
UID:74b615336fe3b674ac0ad1b6388b8609@kinotuskanac.hr
DTSTAMP:20260419T155459Z
DTSTART:20160326T190000
DTEND:20160326T210000
SUMMARY:Povratak razmetnoga sina
LOCATION:Kino Tuškanac
DESCRIPTION:Návrat ztraceného syna, Češka, 1967 R: Evald Schorm
END:VEVENT

BEGIN:VEVENT
UID:3299649e340d02565d19cb027c63afc6@kinotuskanac.hr
DTSTAMP:20260419T155459Z
DTSTART:20160324T190000
DTEND:20160324T210000
SUMMARY:Zabrana lova na lisice
LOCATION:Kino Tuškanac
DESCRIPTION:Schonzeit für Füchse, Njemačka, 1966 R: Peter Schamoni
END:VEVENT

BEGIN:VEVENT
UID:f70c06e8c907bb3316eec9f6fc82233f@kinotuskanac.hr
DTSTAMP:20260419T155459Z
DTSTART:20160402T190000
DTEND:20160402T210000
SUMMARY:Karla
LOCATION:Kino Tuškanac
DESCRIPTION:Njemačka, 1965 R: Herrmann Zschoche
END:VEVENT

BEGIN:VEVENT
UID:ea35cc90658fc418ac2e13ee9eee8831@kinotuskanac.hr
DTSTAMP:20260419T155459Z
DTSTART:20160402T210000
DTEND:20160402T230000
SUMMARY:Oproštaj od jučer
LOCATION:Kino Tuškanac
DESCRIPTION:Abschied von gestern - (Anita G.), Njemačka, 1966 R: Alexander Kluge
END:VEVENT

BEGIN:VEVENT
UID:5cbffbb1dbbc3d3d57c9bd31ed74a0a4@kinotuskanac.hr
DTSTAMP:20260419T155459Z
DTSTART:20160404T190000
DTEND:20160404T210000
SUMMARY:Oproštaj od jučer
LOCATION:Kino Tuškanac
DESCRIPTION:Abschied von gestern - (Anita G.), Njemačka, 1966 R: Alexander Kluge
END:VEVENT

BEGIN:VEVENT
UID:7c7ebd0c855c8a9d38aeeabecd60cb8c@kinotuskanac.hr
DTSTAMP:20260419T155459Z
DTSTART:20160404T210000
DTEND:20160404T230000
SUMMARY:Karla
LOCATION:Kino Tuškanac
DESCRIPTION:Njemačka, 1965 R: Herrmann Zschoche
END:VEVENT

BEGIN:VEVENT
UID:0c3dcdcf95f0b96acfbd246f287e9523@kinotuskanac.hr
DTSTAMP:20260419T155459Z
DTSTART:20160406T190000
DTEND:20160406T210000
SUMMARY:Rođeni \'45
LOCATION:Kino Tuškanac
DESCRIPTION:Jahrgang '45, Njemačka, 1965 R: Jürgen Böttcher
END:VEVENT

BEGIN:VEVENT
UID:e78ef3f017300c8de72d985af9c2845f@kinotuskanac.hr
DTSTAMP:20260419T155459Z
DTSTART:20160406T210000
DTEND:20160406T230000
SUMMARY:Mladi Törless
LOCATION:Kino Tuškanac
DESCRIPTION:Der junge Törless, Njemačka, 1966 R: Volker Schlöndorff
END:VEVENT

BEGIN:VEVENT
UID:02590e48c4d0af06c6c147025ed1b247@kinotuskanac.hr
DTSTAMP:20260419T155459Z
DTSTART:20160407T190000
DTEND:20160407T210000
SUMMARY:Mladi Törless
LOCATION:Kino Tuškanac
DESCRIPTION:Der junge Törless, Njemačka, 1966 R: Volker Schlöndorff
END:VEVENT

BEGIN:VEVENT
UID:b6e5602176759eec56cbb392a55b8158@kinotuskanac.hr
DTSTAMP:20260419T155459Z
DTSTART:20160407T210000
DTEND:20160407T230000
SUMMARY:Rođeni \'45
LOCATION:Kino Tuškanac
DESCRIPTION:Jahrgang '45, Njemačka, 1965 R: Jürgen Böttcher
END:VEVENT

BEGIN:VEVENT
UID:ac49f9fffc0a96da857fb3883f35605d@kinotuskanac.hr
DTSTAMP:20260419T155459Z
DTSTART:20160325T210000
DTEND:20160325T230000
SUMMARY:Zabrana lova na lisice
LOCATION:Kino Tuškanac
DESCRIPTION:Schonzeit für Füchse, Njemačka, 1966 R: Peter Schamoni
END:VEVENT

BEGIN:VEVENT
UID:4580de7e9521463b57377a396090d331@kinotuskanac.hr
DTSTAMP:20260419T155459Z
DTSTART:20160420T210000
DTEND:20160420T230000
SUMMARY:Rondo
LOCATION:Kino Tuškanac
DESCRIPTION:Hrvatska, 1966 | Mjesto prikazivanja filma: Centar za kulturu i informacije Maksimir (ul. Lavoslava Švarca 18) R: Zvonimir Berković
END:VEVENT

BEGIN:VEVENT
UID:0f8f56fbdb7ca16160f6a236ca3f890c@kinotuskanac.hr
DTSTAMP:20260419T155459Z
DTSTART:20160420T190000
DTEND:20160420T210000
SUMMARY:Predstavljanje monografije Berković
LOCATION:Kino Tuškanac
DESCRIPTION:
END:VEVENT

BEGIN:VEVENT
UID:12a2728cba3c1bf7178b99d9df2e71db@kinotuskanac.hr
DTSTAMP:20260419T155459Z
DTSTART:20160620T210000
DTEND:20160620T230000
SUMMARY:Rat je završen
LOCATION:Kino Tuškanac
DESCRIPTION:La guerre est finie, Francuska, 1966 R: Alain Resnais
END:VEVENT

BEGIN:VEVENT
UID:262575b34ff0d5d20d295aad53a84f7a@kinotuskanac.hr
DTSTAMP:20260419T155459Z
DTSTART:20160629T190000
DTEND:20160629T210000
SUMMARY:Rat je završen
LOCATION:Kino Tuškanac
DESCRIPTION:La guerre est finie, Francuska, 1966 R: Alain Resnais
END:VEVENT

BEGIN:VEVENT
UID:018e95f234fd37d8163e8e773558e4d1@kinotuskanac.hr
DTSTAMP:20260419T155459Z
DTSTART:20160628T190000
DTEND:20160628T210000
SUMMARY:Tko se boji Virginije Woolf?
LOCATION:Kino Tuškanac
DESCRIPTION:Who's Afraid of Virginia Woolf?, SAD, 1966 R: Mike Nichols
END:VEVENT

BEGIN:VEVENT
UID:3d4f582b45aa0fb99100115e518c0be5@kinotuskanac.hr
DTSTAMP:20260419T155459Z
DTSTART:20160617T210000
DTEND:20160617T230000
SUMMARY:Tko se boji Virginije Woolf?
LOCATION:Kino Tuškanac
DESCRIPTION:Who's Afraid of Virginia Woolf?, SAD, 1966 R: Mike Nichols
END:VEVENT

BEGIN:VEVENT
UID:add689758914184161d3446ecf06aeac@kinotuskanac.hr
DTSTAMP:20260419T155459Z
DTSTART:20160616T210000
DTEND:20160616T230000
SUMMARY:Ljepotica dana
LOCATION:Kino Tuškanac
DESCRIPTION:Belle de jour, Francuska, 1967 R: Luis Buñuel
END:VEVENT

BEGIN:VEVENT
UID:7bcd5a3c4240be7399624412ca669148@kinotuskanac.hr
DTSTAMP:20260419T155459Z
DTSTART:20160627T190000
DTEND:20160627T210000
SUMMARY:Ljepotica dana
LOCATION:Kino Tuškanac
DESCRIPTION:Belle de jour, Francuska, 1967 R: Luis Buñuel
END:VEVENT

BEGIN:VEVENT
UID:03d353ea874f2f343d808be3614e2a81@kinotuskanac.hr
DTSTAMP:20260419T155459Z
DTSTART:20160521T190000
DTEND:20160521T210000
SUMMARY:Grk Zorba
LOCATION:Kino Tuškanac
DESCRIPTION:Alexis Zorbas, SAD, Velika Britanija, Grčka, 1964 R: Mihalis Kakogiannis
END:VEVENT

BEGIN:VEVENT
UID:a2eb9723a03cee57c7a775008558dcb9@kinotuskanac.hr
DTSTAMP:20260419T155459Z
DTSTART:20160621T191500
DTEND:20160621T211500
SUMMARY:Grk Zorba
LOCATION:Kino Tuškanac
DESCRIPTION:Alexis Zorbas, SAD, Velika Britanija, Grčka, 1964 R: Mihalis Kakogiannis
END:VEVENT

BEGIN:VEVENT
UID:8d5440329e4e2687ce5f1bf2ac84c1aa@kinotuskanac.hr
DTSTAMP:20260419T155459Z
DTSTART:20160616T190000
DTEND:20160616T210000
SUMMARY:Strgnuta zavjesa
LOCATION:Kino Tuškanac
DESCRIPTION:Torn Curtain, SAD, 1966 R: Alfred Hitchcock
END:VEVENT

BEGIN:VEVENT
UID:88aad9dfdbc911ec5492ee68cd7d760f@kinotuskanac.hr
DTSTAMP:20260419T155459Z
DTSTART:20160625T210000
DTEND:20160625T230000
SUMMARY:Strgnuta zavjesa
LOCATION:Kino Tuškanac
DESCRIPTION:Torn Curtain, SAD, 1966 R: Alfred Hitchcock
END:VEVENT

BEGIN:VEVENT
UID:bf4d3bc3e5c2722b2e071da6ee09e461@kinotuskanac.hr
DTSTAMP:20260419T155459Z
DTSTART:20160625T190000
DTEND:20160625T210000
SUMMARY:Galantne svečanosti
LOCATION:Kino Tuškanac
DESCRIPTION:Les fêtes galantes, Francuska, 1966 R: René Clair
END:VEVENT

BEGIN:VEVENT
UID:1696ce525650b81e1d98b230a92224aa@kinotuskanac.hr
DTSTAMP:20260419T155459Z
DTSTART:20160615T210000
DTEND:20160615T230000
SUMMARY:Galantne svečanosti
LOCATION:Kino Tuškanac
DESCRIPTION:Les fêtes galantes, Francuska, 1966 R: René Clair
END:VEVENT

BEGIN:VEVENT
UID:2147b65abd664f80f89bffaae00e84b0@kinotuskanac.hr
DTSTAMP:20260419T155459Z
DTSTART:20160615T190000
DTEND:20160615T210000
SUMMARY:Modesty Blaise
LOCATION:Kino Tuškanac
DESCRIPTION:Velika Britanija, 1966 R: Joseph Losey
END:VEVENT

BEGIN:VEVENT
UID:1cb453e4faafcdeb0418bb08efd4ff59@kinotuskanac.hr
DTSTAMP:20260419T155459Z
DTSTART:20160624T210000
DTEND:20160624T230000
SUMMARY:Modesty Blaise
LOCATION:Kino Tuškanac
DESCRIPTION:Velika Britanija, 1966 R: Joseph Losey
END:VEVENT

BEGIN:VEVENT
UID:a553669ef63d2f9d57683305d5eab9eb@kinotuskanac.hr
DTSTAMP:20260419T155459Z
DTSTART:20160624T191500
DTEND:20160624T211500
SUMMARY:Čovjek za sva vremena
LOCATION:Kino Tuškanac
DESCRIPTION:A man for all seasons, UK, 1966 R: Fred Zinnemann
END:VEVENT

BEGIN:VEVENT
UID:6fb2e4d402822b1c69acf6e44d01ee12@kinotuskanac.hr
DTSTAMP:20260419T155459Z
DTSTART:20160614T190000
DTEND:20160614T210000
SUMMARY:Čovjek za sva vremena
LOCATION:Kino Tuškanac
DESCRIPTION:A man for all seasons, UK, 1966 R: Fred Zinnemann
END:VEVENT

BEGIN:VEVENT
UID:829965873fee218753008918c0c979ee@kinotuskanac.hr
DTSTAMP:20260419T155459Z
DTSTART:20160531T190000
DTEND:20160531T210000
SUMMARY:Bitka za Alžir
LOCATION:Kino Tuškanac
DESCRIPTION:La battaglia di Algeri, Italija, Alžir, 1966 | Mjesto prikazivanja filma: Kino Forum (SD Stjepan Radić, Jarunska ul. 2) R: Gillo Pontecorvo
END:VEVENT

BEGIN:VEVENT
UID:2506127cf2545a1721d6e1f0a20738ee@kinotuskanac.hr
DTSTAMP:20260419T155459Z
DTSTART:20160623T210000
DTEND:20160623T230000
SUMMARY:Bitka za Alžir
LOCATION:Kino Tuškanac
DESCRIPTION:La battaglia di Algeri, Italija, Alžir, 1966 | Mjesto prikazivanja filma: Kino Forum (SD Stjepan Radić, Jarunska ul. 2) R: Gillo Pontecorvo
END:VEVENT

BEGIN:VEVENT
UID:48eb250a4004cd4bb0508ec55d237ea7@kinotuskanac.hr
DTSTAMP:20260419T155459Z
DTSTART:20160623T190000
DTEND:20160623T210000
SUMMARY:Krila
LOCATION:Kino Tuškanac
DESCRIPTION:Krilja, SSSR, 1966 R: Larisa Jefimovna Šepitko
END:VEVENT

BEGIN:VEVENT
UID:5e8f9eda31f7b56109b4ae76b88d851c@kinotuskanac.hr
DTSTAMP:20260419T155459Z
DTSTART:20160628T211500
DTEND:20160628T231500
SUMMARY:Krila
LOCATION:Kino Tuškanac
DESCRIPTION:Krilja, SSSR, 1966 R: Larisa Jefimovna Šepitko
END:VEVENT

BEGIN:VEVENT
UID:2c42d9959f20d3e373502ed425aa2a9b@kinotuskanac.hr
DTSTAMP:20260419T155459Z
DTSTART:20160617T190000
DTEND:20160617T210000
SUMMARY:Fahrenheit 451
LOCATION:Kino Tuškanac
DESCRIPTION:Velika Britanija, 1966 R: François Truffaut
END:VEVENT

BEGIN:VEVENT
UID:0c3b8f16a6db4fb1277d1c501d63c0a6@kinotuskanac.hr
DTSTAMP:20260419T155459Z
DTSTART:20160627T210000
DTEND:20160627T230000
SUMMARY:Fahrenheit 451
LOCATION:Kino Tuškanac
DESCRIPTION:Velika Britanija, 1966 R: François Truffaut
END:VEVENT
END:VCALENDAR