BEGIN:VCALENDAR
VERSION:2.0
PRODID:-//Kino Tuškanac//Filmski programi//HR
URL:http://kinotuskanac/calendar/cycle/474
NAME:Kino Tuškanac ciklus Večeri animacije
X-WR-CALNAME:Kino Tuškanac ciklus Večeri animacije
TIMEZONE-ID:Europe/Zagreb
X-WR-TIMEZONE:Europe/Zagreb
REFRESH-INTERVAL;VALUE=DURATION:PT12H
X-PUBLISHED-TTL:PT12H
METHOD:PUBLISH
BEGIN:VEVENT
UID:2cfe9503448b1f015aef9823f59b196c@kinotuskanac.hr
DTSTAMP:20260423T093021Z
DTSTART:20160330T190000
DTEND:20160330T210000
SUMMARY:3. Večer animacije: Suvremena kineska animacija
LOCATION:Kino Tuškanac
DESCRIPTION:
END:VEVENT

BEGIN:VEVENT
UID:afbe35fc469e2f20a30c54667138ee4a@kinotuskanac.hr
DTSTAMP:20260423T093021Z
DTSTART:20160504T190000
DTEND:20160504T210000
SUMMARY:4. Večer animacije: VAFI predstavlja Izrael
LOCATION:Kino Tuškanac
DESCRIPTION:
END:VEVENT

BEGIN:VEVENT
UID:b399cc47e44e119cd90b46acbcce56e4@kinotuskanac.hr
DTSTAMP:20260423T093021Z
DTSTART:20160224T190000
DTEND:20160224T210000
SUMMARY:2. Večer animacije: najbolje od ASIFA-e
LOCATION:Kino Tuškanac
DESCRIPTION:
END:VEVENT

BEGIN:VEVENT
UID:75fcacef3c5ab1b836a20a19b466eeb5@kinotuskanac.hr
DTSTAMP:20260423T093021Z
DTSTART:20160120T190000
DTEND:20160120T210000
SUMMARY:1. Večer animacije: 70 godina grčke animacije
LOCATION:Kino Tuškanac
DESCRIPTION:
END:VEVENT

BEGIN:VEVENT
UID:1df1733625e179ba475e596aaeae0997@kinotuskanac.hr
DTSTAMP:20260423T093021Z
DTSTART:20160605T190000
DTEND:20160605T210000
SUMMARY:5. Večer animacije: Meksička animacija
LOCATION:Kino Tuškanac
DESCRIPTION:
END:VEVENT

BEGIN:VEVENT
UID:5dbb8df141542186b2df801c9db4373c@kinotuskanac.hr
DTSTAMP:20260423T093021Z
DTSTART:20160928T190000
DTEND:20160928T210000
SUMMARY:ASIFA Hrvatske predstavlja nove talente
LOCATION:Kino Tuškanac
DESCRIPTION:
END:VEVENT

BEGIN:VEVENT
UID:c1d162d2c309c7ee413bea5a41e3a2e0@kinotuskanac.hr
DTSTAMP:20260423T093021Z
DTSTART:20161214T190000
DTEND:20161214T210000
SUMMARY:7. Večer animacije - Slovenija
LOCATION:Kino Tuškanac
DESCRIPTION:
END:VEVENT

BEGIN:VEVENT
UID:d69a1e7e799d597c698de6be0efd0b80@kinotuskanac.hr
DTSTAMP:20260423T093021Z
DTSTART:20170308T190000
DTEND:20170308T210000
SUMMARY:Večer animacije: Međunarodni dan žena
LOCATION:Kino Tuškanac
DESCRIPTION:
END:VEVENT

BEGIN:VEVENT
UID:8dc7d4bb00b5ab81a7dd47b93806a061@kinotuskanac.hr
DTSTAMP:20260423T093021Z
DTSTART:20170503T190000
DTEND:20170503T210000
SUMMARY:Retro animirane reklame
LOCATION:Kino Tuškanac
DESCRIPTION:
END:VEVENT

BEGIN:VEVENT
UID:cc223dcc6ac9ffded7466e6566c0cb91@kinotuskanac.hr
DTSTAMP:20260423T093021Z
DTSTART:20170927T190000
DTEND:20170927T210000
SUMMARY:Večer animacije: stop motion u animiranom filmu
LOCATION:Kino Tuškanac
DESCRIPTION:
END:VEVENT

BEGIN:VEVENT
UID:dc245bfa77a25da7b1188dccf634a187@kinotuskanac.hr
DTSTAMP:20260423T093021Z
DTSTART:20180131T190000
DTEND:20180131T210000
SUMMARY:Najbolji filmovi Međunarodnog festivala animiranog filma Stuttgart 2017
LOCATION:Kino Tuškanac
DESCRIPTION:
END:VEVENT

BEGIN:VEVENT
UID:86374fc9372d1fb6884e11ecd97bd43e@kinotuskanac.hr
DTSTAMP:20260423T093021Z
DTSTART:20180228T190000
DTEND:20180228T210000
SUMMARY:Najbolji filmovi iz Baden-Wurttemberg regije s međunarodnog festivala animiranog filma u Stuttgartu 2017.
LOCATION:Kino Tuškanac
DESCRIPTION:
END:VEVENT

BEGIN:VEVENT
UID:ab24da946acf0f7489932de6e36ff5d3@kinotuskanac.hr
DTSTAMP:20260423T093021Z
DTSTART:20180328T190000
DTEND:20180328T210000
SUMMARY:Ženska recentna domaća animacija uz razgovor s autoricama
LOCATION:Kino Tuškanac
DESCRIPTION:
END:VEVENT

BEGIN:VEVENT
UID:3c6b11c1124ee4f78dc284a5102bcbc3@kinotuskanac.hr
DTSTAMP:20260423T093021Z
DTSTART:20180425T190000
DTEND:20180425T210000
SUMMARY:Nagrađeni filmovi Annecy festivala 2017.
LOCATION:Kino Tuškanac
DESCRIPTION:
END:VEVENT

BEGIN:VEVENT
UID:e9d51b7ec5453ca593042e4524de38de@kinotuskanac.hr
DTSTAMP:20260423T093021Z
DTSTART:20180530T190000
DTEND:20180530T210000
SUMMARY:Pavao Štalter, jedan od velikana Zagreb filma
LOCATION:Kino Tuškanac
DESCRIPTION:
END:VEVENT

BEGIN:VEVENT
UID:8654543b5898b1cb612b9cd223f278a3@kinotuskanac.hr
DTSTAMP:20260423T093021Z
DTSTART:20180627T190000
DTEND:20180627T210000
SUMMARY:Chintis Lundgren, retrospektiva
LOCATION:Kino Tuškanac
DESCRIPTION:
END:VEVENT

BEGIN:VEVENT
UID:eedc6c0f10884c106191f62929ae72b1@kinotuskanac.hr
DTSTAMP:20260423T093021Z
DTSTART:20180926T190000
DTEND:20180926T210000
SUMMARY:Filmovi Koji Yamamure
LOCATION:Kino Tuškanac
DESCRIPTION:
END:VEVENT

BEGIN:VEVENT
UID:4bdffef8390cae6252c7ce528bd1b52f@kinotuskanac.hr
DTSTAMP:20260423T093021Z
DTSTART:20181219T190000
DTEND:20181219T210000
SUMMARY:Animirani glazbeni spotovi sa Supertoon-a
LOCATION:Kino Tuškanac
DESCRIPTION:
END:VEVENT
END:VCALENDAR