BEGIN:VCALENDAR
VERSION:2.0
PRODID:-//Kino Tuškanac//Filmski programi//HR
URL:http://kinotuskanac/calendar/cycle/49
NAME:Kino Tuškanac ciklus Ciklus filmova Zvonimira Berkovića
X-WR-CALNAME:Kino Tuškanac ciklus Ciklus filmova Zvonimira Berkovića
TIMEZONE-ID:Europe/Zagreb
X-WR-TIMEZONE:Europe/Zagreb
REFRESH-INTERVAL;VALUE=DURATION:PT12H
X-PUBLISHED-TTL:PT12H
METHOD:PUBLISH
BEGIN:VEVENT
UID:259731a7da7f3f6925df1d30b0129f05@kinotuskanac.hr
DTSTAMP:20260425T040316Z
DTSTART:20031202T170000
DTEND:20031202T190000
SUMMARY:Rondo
LOCATION:Kino Tuškanac
DESCRIPTION:Hrvatska, 1966 | Mjesto prikazivanja filma: Centar za kulturu i informacije Maksimir (ul. Lavoslava Švarca 18) R: Zvonimir Berković
END:VEVENT

BEGIN:VEVENT
UID:65641d1dc8ba14fb703fc26b82571d6c@kinotuskanac.hr
DTSTAMP:20260425T040316Z
DTSTART:20031209T170000
DTEND:20031209T190000
SUMMARY:Putovanje na mjesto nesreće
LOCATION:Kino Tuškanac
DESCRIPTION:1971 R: Zvonimir Berković
END:VEVENT

BEGIN:VEVENT
UID:62ea2d2a1e7a9b56cd4e3bed13ef1e38@kinotuskanac.hr
DTSTAMP:20260425T040316Z
DTSTART:20031216T170000
DTEND:20031216T190000
SUMMARY:Kontesa Dora
LOCATION:Kino Tuškanac
DESCRIPTION:Hrvatska, 1993 R: Zvonimir Berković
END:VEVENT

BEGIN:VEVENT
UID:80bce2b6e139048b9476531ec909774e@kinotuskanac.hr
DTSTAMP:20260425T040316Z
DTSTART:20031215T190000
DTEND:20031215T210000
SUMMARY:Ljubavna pisma s predumišljajem
LOCATION:Kino Tuškanac
DESCRIPTION:Hrvatska, 1985 | Mjesto prikazivanja filma: Centar za kulturu Histrionski dom (Ilica 90) R: Zvonimir Berković
END:VEVENT

BEGIN:VEVENT
UID:7f5522227bdb8372604d18d48eb423e5@kinotuskanac.hr
DTSTAMP:20260425T040316Z
DTSTART:20040603T210000
DTEND:20040603T230000
SUMMARY:Kontesa Dora
LOCATION:Kino Tuškanac
DESCRIPTION:Hrvatska, 1993 R: Zvonimir Berković
END:VEVENT
END:VCALENDAR