BEGIN:VCALENDAR
VERSION:2.0
PRODID:-//Kino Tuškanac//Filmski programi//HR
URL:http://kinotuskanac/calendar/cycle/493
NAME:Kino Tuškanac ciklus Ciklus slovenskoga filma
X-WR-CALNAME:Kino Tuškanac ciklus Ciklus slovenskoga filma
TIMEZONE-ID:Europe/Zagreb
X-WR-TIMEZONE:Europe/Zagreb
REFRESH-INTERVAL;VALUE=DURATION:PT12H
X-PUBLISHED-TTL:PT12H
METHOD:PUBLISH
BEGIN:VEVENT
UID:51e5c5e054f3c855ef18c6d7927e4bc4@kinotuskanac.hr
DTSTAMP:20260425T114543Z
DTSTART:20160919T193000
DTEND:20160919T213000
SUMMARY:Šiška deluxe
LOCATION:Kino Tuškanac
DESCRIPTION:Slovenija, 2015 R: Jan Cvitkovič
END:VEVENT

BEGIN:VEVENT
UID:07cf268130e4c5dd8a5e8d473cb5b0f2@kinotuskanac.hr
DTSTAMP:20260425T114543Z
DTSTART:20160920T190000
DTEND:20160920T210000
SUMMARY:Banditenkinder
LOCATION:Kino Tuškanac
DESCRIPTION:Slovenija, 2014 R: Maja Weiss
END:VEVENT

BEGIN:VEVENT
UID:5be0cbe180129824d22891e3a24c4659@kinotuskanac.hr
DTSTAMP:20260425T114543Z
DTSTART:20160920T210000
DTEND:20160920T230000
SUMMARY:Razredni neprijatelj
LOCATION:Kino Tuškanac
DESCRIPTION:Razredni sovražnik, Slovenija, 2013 R: Rok Biček
END:VEVENT

BEGIN:VEVENT
UID:04c78889fff4c201d6f887d5ad0bea22@kinotuskanac.hr
DTSTAMP:20260425T114543Z
DTSTART:20160921T190000
DTEND:20160921T210000
SUMMARY:Kućice
LOCATION:Kino Tuškanac
DESCRIPTION:Hiške, Slovenija R: Matjaž Ivanišin, Darko Sinko
END:VEVENT

BEGIN:VEVENT
UID:b9fc15f0b6ad970b9c49ae6152795896@kinotuskanac.hr
DTSTAMP:20260425T114543Z
DTSTART:20160921T210000
DTEND:20160921T230000
SUMMARY:Sretan do kraja
LOCATION:Kino Tuškanac
DESCRIPTION:Srečen za umret, Češka, Hrvatska, Slovenija, 2012 R: Matevž Luzar
END:VEVENT

BEGIN:VEVENT
UID:e7257aed6d8456fefcc8f9f0b6a570f5@kinotuskanac.hr
DTSTAMP:20260425T114543Z
DTSTART:20160922T190000
DTEND:20160922T210000
SUMMARY:Putnik Karpo
LOCATION:Kino Tuškanac
DESCRIPTION:Karpopotnik, Slovenija, 2013 R: Matjaž Ivanišin
END:VEVENT

BEGIN:VEVENT
UID:324f4ab7f5e10c01b078ce4367a32840@kinotuskanac.hr
DTSTAMP:20260425T114543Z
DTSTART:20160922T200000
DTEND:20160922T220000
SUMMARY:Otac (2010)
LOCATION:Kino Tuškanac
DESCRIPTION:Oča, Slovenija, 2010 R: Vlado Škafar
END:VEVENT

BEGIN:VEVENT
UID:baf5d703522e83d2a96614ee11003ff4@kinotuskanac.hr
DTSTAMP:20260425T114543Z
DTSTART:20160923T190000
DTEND:20160923T210000
SUMMARY:Borba za
LOCATION:Kino Tuškanac
DESCRIPTION:Boj za, Slovenija, 2014 R: Siniša Gačić
END:VEVENT

BEGIN:VEVENT
UID:5138e243ad754c933803388cc365ea7d@kinotuskanac.hr
DTSTAMP:20260425T114543Z
DTSTART:20160923T200000
DTEND:20160923T220000
SUMMARY:Ritam ljubavi
LOCATION:Kino Tuškanac
DESCRIPTION:Utrip ljubezni, Slovenija, 2014 R: Boris Petkovič
END:VEVENT
END:VCALENDAR