BEGIN:VCALENDAR
VERSION:2.0
PRODID:-//Kino Tuškanac//Filmski programi//HR
URL:http://kinotuskanac/calendar/cycle/50
NAME:Kino Tuškanac ciklus Ciklus filmova Wojciecha J. Hasa
X-WR-CALNAME:Kino Tuškanac ciklus Ciklus filmova Wojciecha J. Hasa
TIMEZONE-ID:Europe/Zagreb
X-WR-TIMEZONE:Europe/Zagreb
REFRESH-INTERVAL;VALUE=DURATION:PT12H
X-PUBLISHED-TTL:PT12H
METHOD:PUBLISH
BEGIN:VEVENT
UID:c104bfbfaf921379689dedb0a4f8ea4f@kinotuskanac.hr
DTSTAMP:20260421T201921Z
DTSTART:20031209T190000
DTEND:20031209T210000
SUMMARY:Čvor (1958)
LOCATION:Kino Tuškanac
DESCRIPTION:Petla, 1958 R: Wojciech Jerzy Has
END:VEVENT

BEGIN:VEVENT
UID:acca7ba238ecf5cf12554028c27484b8@kinotuskanac.hr
DTSTAMP:20260421T201921Z
DTSTART:20031209T210000
DTEND:20031209T230000
SUMMARY:Oproštaji
LOCATION:Kino Tuškanac
DESCRIPTION:Pozegnania, 1958 R: Wojciech Jerzy Has
END:VEVENT

BEGIN:VEVENT
UID:d2d54dfddc72015e64865dee5c892769@kinotuskanac.hr
DTSTAMP:20260421T201921Z
DTSTART:20031213T150000
DTEND:20031213T170000
SUMMARY:Kako biti voljena
LOCATION:Kino Tuškanac
DESCRIPTION:Jak być kochana, 1963 R: Wojciech Jerzy Has
END:VEVENT

BEGIN:VEVENT
UID:0e455ec1f6d31f44fdc9c79970c46e62@kinotuskanac.hr
DTSTAMP:20260421T201921Z
DTSTART:20031213T170000
DTEND:20031213T190000
SUMMARY:Šifre
LOCATION:Kino Tuškanac
DESCRIPTION:Szyfry, 1966 R: Wojciech Jerzy Has
END:VEVENT

BEGIN:VEVENT
UID:da73f8fcc2aa2830c926a57de9537c78@kinotuskanac.hr
DTSTAMP:20260421T201921Z
DTSTART:20031216T190000
DTEND:20031216T210000
SUMMARY:Rukopis nađen u Zaragozi
LOCATION:Kino Tuškanac
DESCRIPTION:Rekopis znaleziony w Saragossie, Poljska, 1965 R: Wojciech Jerzy Has
END:VEVENT
END:VCALENDAR