BEGIN:VCALENDAR
VERSION:2.0
PRODID:-//Kino Tuškanac//Filmski programi//HR
URL:http://kinotuskanac/calendar/cycle/531
NAME:Kino Tuškanac ciklus Filmski klub (2017)
X-WR-CALNAME:Kino Tuškanac ciklus Filmski klub (2017)
TIMEZONE-ID:Europe/Zagreb
X-WR-TIMEZONE:Europe/Zagreb
REFRESH-INTERVAL;VALUE=DURATION:PT12H
X-PUBLISHED-TTL:PT12H
METHOD:PUBLISH
BEGIN:VEVENT
UID:24bdb6039455b336d94d3a1ca2bc0405@kinotuskanac.hr
DTSTAMP:20260420T002224Z
DTSTART:20170207T180000
DTEND:20170207T200000
SUMMARY:Žena na pijesku
LOCATION:Kino Tuškanac
DESCRIPTION:Suna no onna, Japan, 1964 R: Hiroshi Teshigahara
END:VEVENT

BEGIN:VEVENT
UID:4084a2be30f8c4bf4ee6e62eddfbaa37@kinotuskanac.hr
DTSTAMP:20260420T002224Z
DTSTART:20170214T180000
DTEND:20170214T200000
SUMMARY:Prošle godine u Marienbadu
LOCATION:Kino Tuškanac
DESCRIPTION:L'année dernière à Marienbad, Francuska, Italija, 1961 R: Alain Resnais
END:VEVENT

BEGIN:VEVENT
UID:c612612ba1e3841ae733de0a8babbc53@kinotuskanac.hr
DTSTAMP:20260420T002224Z
DTSTART:20170221T180000
DTEND:20170221T200000
SUMMARY:Krava
LOCATION:Kino Tuškanac
DESCRIPTION:Gaav, Iran, 1969 R: Dariush Mehrjui
END:VEVENT

BEGIN:VEVENT
UID:aea332061038af4d25d212b935d26c27@kinotuskanac.hr
DTSTAMP:20260420T002224Z
DTSTART:20170228T180000
DTEND:20170228T200000
SUMMARY:Predstava Hamleta u Mrduši Donjoj
LOCATION:Kino Tuškanac
DESCRIPTION:1973 R: Krsto Papić
END:VEVENT

BEGIN:VEVENT
UID:41a8ffce5f19d47f3b047f61677ad539@kinotuskanac.hr
DTSTAMP:20260420T002224Z
DTSTART:20170307T180000
DTEND:20170307T200000
SUMMARY:Imam dvadeset godina
LOCATION:Kino Tuškanac
DESCRIPTION:Mne dvadtsat let, SSSR, 1962 (1965) R: Marlen Hucijev
END:VEVENT

BEGIN:VEVENT
UID:bc4bf03f19fe3736cd2396eb9a07dae4@kinotuskanac.hr
DTSTAMP:20260420T002224Z
DTSTART:20170314T180000
DTEND:20170314T200000
SUMMARY:Svjetlost
LOCATION:Kino Tuškanac
DESCRIPTION:Yeelen, Mali, 1987 R: Souleymane Cissé
END:VEVENT

BEGIN:VEVENT
UID:fc1700c9405f0bc3a1f47a0bdf7859e7@kinotuskanac.hr
DTSTAMP:20260420T002224Z
DTSTART:20170321T180000
DTEND:20170321T200000
SUMMARY:Cléo od 5 do 7
LOCATION:Kino Tuškanac
DESCRIPTION:Cléo de 5 á 7, Francuska, 1962 R: Agnès Varda
END:VEVENT

BEGIN:VEVENT
UID:a83cf48eaa03c947c63ec5bd56ba203c@kinotuskanac.hr
DTSTAMP:20260420T002224Z
DTSTART:20170328T180000
DTEND:20170328T200000
SUMMARY:Prometej s otoka Viševice
LOCATION:Kino Tuškanac
DESCRIPTION:Jadran film, 1964 R: Vatroslav Mimica
END:VEVENT

BEGIN:VEVENT
UID:26534100f0845860be1a8385cb3e7c36@kinotuskanac.hr
DTSTAMP:20260420T002224Z
DTSTART:20170404T180000
DTEND:20170404T200000
SUMMARY:Dalek
LOCATION:Kino Tuškanac
DESCRIPTION:Uzak, Turska, 2002 R: Nuri Bilge Ceylan
END:VEVENT

BEGIN:VEVENT
UID:b2d1db4c382b3a2ea6880377ff8defff@kinotuskanac.hr
DTSTAMP:20260420T002224Z
DTSTART:20170418T180000
DTEND:20170418T200000
SUMMARY:Intendant Sansho
LOCATION:Kino Tuškanac
DESCRIPTION:Sanshô dayû, Japan, 1954 R: Kenji Mizoguchi
END:VEVENT

BEGIN:VEVENT
UID:ace5f2dbc8fdef613e36254470d77524@kinotuskanac.hr
DTSTAMP:20260420T002224Z
DTSTART:20170425T180000
DTEND:20170425T200000
SUMMARY:Protest
LOCATION:Kino Tuškanac
DESCRIPTION:Jugoslavija: Hrvatska, 1967 R: Fadil Hadžić
END:VEVENT

BEGIN:VEVENT
UID:f1bbdacab620a006d2843a11bfd0b015@kinotuskanac.hr
DTSTAMP:20260420T002224Z
DTSTART:20171010T180000
DTEND:20171010T200000
SUMMARY:Jedan i dva
LOCATION:Kino Tuškanac
DESCRIPTION:Yi yi, Tajvan, 2000 R: Edward Yang
END:VEVENT

BEGIN:VEVENT
UID:92709a780ec45c7f6b0badeb2193e78a@kinotuskanac.hr
DTSTAMP:20260420T002224Z
DTSTART:20171017T180000
DTEND:20171017T200000
SUMMARY:Sunce u mreži
LOCATION:Kino Tuškanac
DESCRIPTION:Sinko v sieti, Čehoslovačka, 1962 R: Štefan Uher
END:VEVENT

BEGIN:VEVENT
UID:8566342316b6038f234cbcf7a8deebe0@kinotuskanac.hr
DTSTAMP:20260420T002224Z
DTSTART:20171024T180000
DTEND:20171024T200000
SUMMARY:Život nakon smrti
LOCATION:Kino Tuškanac
DESCRIPTION:Wandâfuru raifu, Japan, 1998 R: Hirokazu Koreeda
END:VEVENT

BEGIN:VEVENT
UID:38638b400ac6a6ff79eaf336581356c9@kinotuskanac.hr
DTSTAMP:20260420T002224Z
DTSTART:20171031T180000
DTEND:20171031T200000
SUMMARY:Mirisi, zlato i tamjan
LOCATION:Kino Tuškanac
DESCRIPTION:1971 R: Ante Babaja
END:VEVENT

BEGIN:VEVENT
UID:3ccba40617b31a085edde28a03efd5d8@kinotuskanac.hr
DTSTAMP:20260420T002224Z
DTSTART:20171128T180000
DTEND:20171128T200000
SUMMARY:Pukotina raja
LOCATION:Kino Tuškanac
DESCRIPTION:Jadran film, Zagreb, 1959 R: Vladimir Pogačić
END:VEVENT

BEGIN:VEVENT
UID:84863ff81342f563d945a3c61b8c44ec@kinotuskanac.hr
DTSTAMP:20260420T002224Z
DTSTART:20171107T180000
DTEND:20171107T200000
SUMMARY:Balada o vojniku
LOCATION:Kino Tuškanac
DESCRIPTION:Ballada o soldate, SSSR, 1959 R: Grigorij Čuhraj
END:VEVENT

BEGIN:VEVENT
UID:786b2d70505f907a6b8e356d750b928e@kinotuskanac.hr
DTSTAMP:20260420T002224Z
DTSTART:20171121T180000
DTEND:20171121T200000
SUMMARY:Zdravo, kinematografe
LOCATION:Kino Tuškanac
DESCRIPTION:Salaam Cinema, Iran, 1995 R: Mohsen Makhmalbaf
END:VEVENT

BEGIN:VEVENT
UID:2792ee83ee9dbb3c1fc527030dba0ef7@kinotuskanac.hr
DTSTAMP:20260420T002224Z
DTSTART:20171205T180000
DTEND:20171205T200000
SUMMARY:Kremator
LOCATION:Kino Tuškanac
DESCRIPTION:Spalovač mrtvol, Čehoslovačka, 1969 R: Juraj Herz
END:VEVENT

BEGIN:VEVENT
UID:32d29466b1d28ccc71508fda73b68bf3@kinotuskanac.hr
DTSTAMP:20260420T002224Z
DTSTART:20171212T190000
DTEND:20171212T210000
SUMMARY:Kad žena silazi stepenicama
LOCATION:Kino Tuškanac
DESCRIPTION:Onna go kaidan wo agaru toki, Japan, 1960 R: Mikio Naruse
END:VEVENT

BEGIN:VEVENT
UID:99185f659f49ebd14c846f6b29cf0f85@kinotuskanac.hr
DTSTAMP:20260420T002224Z
DTSTART:20171219T180000
DTEND:20171219T200000
SUMMARY:Pravo stanje stvari
LOCATION:Kino Tuškanac
DESCRIPTION:Hrvatska, 1964 R: Vladan Slijepčević
END:VEVENT
END:VCALENDAR