BEGIN:VCALENDAR
VERSION:2.0
PRODID:-//Kino Tuškanac//Filmski programi//HR
URL:http://kinotuskanac/calendar/cycle/537
NAME:Kino Tuškanac ciklus Sjećanje na...  Alan Rickman
X-WR-CALNAME:Kino Tuškanac ciklus Sjećanje na...  Alan Rickman
TIMEZONE-ID:Europe/Zagreb
X-WR-TIMEZONE:Europe/Zagreb
REFRESH-INTERVAL;VALUE=DURATION:PT12H
X-PUBLISHED-TTL:PT12H
METHOD:PUBLISH
BEGIN:VEVENT
UID:24019b2f9b98fd19f54bb6f84a42ac6c@kinotuskanac.hr
DTSTAMP:20260420T140527Z
DTSTART:20170214T190000
DTEND:20170214T210000
SUMMARY:Umri muški
LOCATION:Kino Tuškanac
DESCRIPTION:Die Hard, SAD, 1988 R: John McTiernan
END:VEVENT

BEGIN:VEVENT
UID:5b8fa17234318969f0e67d0835a4d776@kinotuskanac.hr
DTSTAMP:20260420T140527Z
DTSTART:20170222T210000
DTEND:20170222T230000
SUMMARY:Umri muški
LOCATION:Kino Tuškanac
DESCRIPTION:Die Hard, SAD, 1988 R: John McTiernan
END:VEVENT

BEGIN:VEVENT
UID:93b16f60cd2f1bd3d80908e36cf4c8e9@kinotuskanac.hr
DTSTAMP:20260420T140527Z
DTSTART:20170216T210000
DTEND:20170216T230000
SUMMARY:Dogma
LOCATION:Kino Tuškanac
DESCRIPTION:1999 R: Kevin Smith
END:VEVENT

BEGIN:VEVENT
UID:10117684179e39eb43eed89237e024de@kinotuskanac.hr
DTSTAMP:20260420T140527Z
DTSTART:20170302T210000
DTEND:20170302T230000
SUMMARY:Dogma
LOCATION:Kino Tuškanac
DESCRIPTION:1999 R: Kevin Smith
END:VEVENT

BEGIN:VEVENT
UID:4d9e4c3f6daf6e2649219aecf2a8c1a1@kinotuskanac.hr
DTSTAMP:20260420T140527Z
DTSTART:20170213T190000
DTEND:20170213T210000
SUMMARY:Parfem: kronologija jednog zločina
LOCATION:Kino Tuškanac
DESCRIPTION:Perfume: The Story of a Murderer, 2006 R: Tom Tykwer
END:VEVENT

BEGIN:VEVENT
UID:c51c98dd2012b788c1dbe0b06f824e39@kinotuskanac.hr
DTSTAMP:20260420T140527Z
DTSTART:20170224T190000
DTEND:20170224T210000
SUMMARY:Parfem: kronologija jednog zločina
LOCATION:Kino Tuškanac
DESCRIPTION:Perfume: The Story of a Murderer, 2006 R: Tom Tykwer
END:VEVENT
END:VCALENDAR