BEGIN:VCALENDAR
VERSION:2.0
PRODID:-//Kino Tuškanac//Filmski programi//HR
URL:http://kinotuskanac/calendar/cycle/538
NAME:Kino Tuškanac ciklus Sjećanje na… Michael Cimino
X-WR-CALNAME:Kino Tuškanac ciklus Sjećanje na… Michael Cimino
TIMEZONE-ID:Europe/Zagreb
X-WR-TIMEZONE:Europe/Zagreb
REFRESH-INTERVAL;VALUE=DURATION:PT12H
X-PUBLISHED-TTL:PT12H
METHOD:PUBLISH
BEGIN:VEVENT
UID:7bfc462aa48c1ad5c638bfa3a6ef3d24@kinotuskanac.hr
DTSTAMP:20260421T113600Z
DTSTART:20170217T190000
DTEND:20170217T210000
SUMMARY:Lovac na jelene
LOCATION:Kino Tuškanac
DESCRIPTION:The Deer Hunter, SAD, 1978 R: Michael Cimino
END:VEVENT

BEGIN:VEVENT
UID:3838c7ee2395b8be28913409db2abd33@kinotuskanac.hr
DTSTAMP:20260421T113600Z
DTSTART:20170225T170000
DTEND:20170225T190000
SUMMARY:Lovac na jelene
LOCATION:Kino Tuškanac
DESCRIPTION:The Deer Hunter, SAD, 1978 R: Michael Cimino
END:VEVENT

BEGIN:VEVENT
UID:65f8bbb495916be6cb71f4e6a635c7f5@kinotuskanac.hr
DTSTAMP:20260421T113600Z
DTSTART:20170218T190000
DTEND:20170218T210000
SUMMARY:Godina zmaja
LOCATION:Kino Tuškanac
DESCRIPTION:Year of the Dragon, 1985 R: Michael Cimino
END:VEVENT

BEGIN:VEVENT
UID:66a246d320d17d974495070c16a1cbce@kinotuskanac.hr
DTSTAMP:20260421T113600Z
DTSTART:20170220T190000
DTEND:20170220T210000
SUMMARY:Godina zmaja
LOCATION:Kino Tuškanac
DESCRIPTION:Year of the Dragon, 1985 R: Michael Cimino
END:VEVENT
END:VCALENDAR