BEGIN:VCALENDAR
VERSION:2.0
PRODID:-//Kino Tuškanac//Filmski programi//HR
URL:http://kinotuskanac/calendar/cycle/544
NAME:Kino Tuškanac ciklus Dani srpskoga filma
X-WR-CALNAME:Kino Tuškanac ciklus Dani srpskoga filma
TIMEZONE-ID:Europe/Zagreb
X-WR-TIMEZONE:Europe/Zagreb
REFRESH-INTERVAL;VALUE=DURATION:PT12H
X-PUBLISHED-TTL:PT12H
METHOD:PUBLISH
BEGIN:VEVENT
UID:857fac726765d84d862807bd1757192f@kinotuskanac.hr
DTSTAMP:20260419T161720Z
DTSTART:20170403T190000
DTEND:20170403T210000
SUMMARY:Maratonci trče počasni krug
LOCATION:Kino Tuškanac
DESCRIPTION:Srbija, 1982 R: Slobodan Šijan
END:VEVENT

BEGIN:VEVENT
UID:4b5a66cbcd5e744143f2b0350963226f@kinotuskanac.hr
DTSTAMP:20260419T161720Z
DTSTART:20170404T180000
DTEND:20170404T200000
SUMMARY:Nevinost bez zaštite (1942)
LOCATION:Kino Tuškanac
DESCRIPTION:1942 R: Dragoljub Aleksić
END:VEVENT

BEGIN:VEVENT
UID:ae84b968b3b811282b1b2a6c308d2e23@kinotuskanac.hr
DTSTAMP:20260419T161720Z
DTSTART:20170404T190000
DTEND:20170404T210000
SUMMARY:Vlažnost
LOCATION:Kino Tuškanac
DESCRIPTION:Srbija, 2016 R: Nikola Ljuca
END:VEVENT

BEGIN:VEVENT
UID:b4ce6afedacc0a21e3ebb1d549b7197c@kinotuskanac.hr
DTSTAMP:20260419T161720Z
DTSTART:20170404T210000
DTEND:20170404T230000
SUMMARY:S/Kidanje
LOCATION:Kino Tuškanac
DESCRIPTION:Srbija, 2013 R: Kosta Đorđević
END:VEVENT

BEGIN:VEVENT
UID:9222c2fbd4083685b864ce72a26cfcbf@kinotuskanac.hr
DTSTAMP:20260419T161720Z
DTSTART:20170405T180000
DTEND:20170405T200000
SUMMARY:Grešnica bez greha
LOCATION:Kino Tuškanac
DESCRIPTION:1930 R: Kosta Novaković
END:VEVENT

BEGIN:VEVENT
UID:62c422131b2ebdc2e388be5c6a9362ee@kinotuskanac.hr
DTSTAMP:20260419T161720Z
DTSTART:20170405T190000
DTEND:20170405T210000
SUMMARY:Praktični vodič kroz Beograd sa pevanjem i plakanjem
LOCATION:Kino Tuškanac
DESCRIPTION:Srbija, 2011 R: Bojan Vuletić
END:VEVENT

BEGIN:VEVENT
UID:f7ad2cd7b5968be48015a4775d656876@kinotuskanac.hr
DTSTAMP:20260419T161720Z
DTSTART:20170405T210000
DTEND:20170405T230000
SUMMARY:Inkarnacija
LOCATION:Kino Tuškanac
DESCRIPTION:Srbija, 2016 R: Filip Kovačević
END:VEVENT

BEGIN:VEVENT
UID:6b79501ba45fd04daf93711b49045a88@kinotuskanac.hr
DTSTAMP:20260419T161720Z
DTSTART:20170406T180000
DTEND:20170406T200000
SUMMARY:Karađorđe (Život i dela besmrtnog vožda Karađorđa)
LOCATION:Kino Tuškanac
DESCRIPTION:1911 R: Ilija Čiča Stanojević
END:VEVENT

BEGIN:VEVENT
UID:8bdd3f88029e92b7320464804e4de961@kinotuskanac.hr
DTSTAMP:20260419T161720Z
DTSTART:20170406T190000
DTEND:20170406T210000
SUMMARY:Nacionalna klasa
LOCATION:Kino Tuškanac
DESCRIPTION:Srbija, 1979 R: Goran Marković
END:VEVENT

BEGIN:VEVENT
UID:3724c811a4f2456da197af7161b515ef@kinotuskanac.hr
DTSTAMP:20260419T161720Z
DTSTART:20170406T210000
DTEND:20170406T230000
SUMMARY:Otvorena
LOCATION:Kino Tuškanac
DESCRIPTION:Srbija, 2016 R: Momir Milošević
END:VEVENT

BEGIN:VEVENT
UID:ed84c0d845f046d7af493394e3c74c66@kinotuskanac.hr
DTSTAMP:20260419T161720Z
DTSTART:20170407T170000
DTEND:20170407T190000
SUMMARY:Specijalno vaspitanje
LOCATION:Kino Tuškanac
DESCRIPTION:Jugoslavija, 1977 R: Goran Marković
END:VEVENT

BEGIN:VEVENT
UID:75c1a4b6a054c3daa314edd906af5e2d@kinotuskanac.hr
DTSTAMP:20260419T161720Z
DTSTART:20170407T190000
DTEND:20170407T210000
SUMMARY:Tilva Roš
LOCATION:Kino Tuškanac
DESCRIPTION:Srbija, 2010 | Mjesto prikazivanja filma: Kino Forum (SD Stjepan Radić, Jarunska ul. 2) R: Nikola Ležaić
END:VEVENT

BEGIN:VEVENT
UID:8e7395aa75fad16589fffcf97c600c0c@kinotuskanac.hr
DTSTAMP:20260419T161720Z
DTSTART:20170407T210000
DTEND:20170407T230000
SUMMARY:Travelator
LOCATION:Kino Tuškanac
DESCRIPTION:Srbija, 2014 R: Dušan Milić
END:VEVENT

BEGIN:VEVENT
UID:60e0ac30666f067ae287904293e08329@kinotuskanac.hr
DTSTAMP:20260419T161720Z
DTSTART:20170403T213000
DTEND:20170403T233000
SUMMARY:Plastični Isus
LOCATION:Kino Tuškanac
DESCRIPTION:Srbija, 1971 | Mjesto prikazivanja filma: MM Centar (Studentski centar, Savska cesta 25) R: Lazar Stojanović
END:VEVENT

BEGIN:VEVENT
UID:3401129a6384094e12e6142e7e487279@kinotuskanac.hr
DTSTAMP:20260419T161720Z
DTSTART:20170330T190000
DTEND:20170330T210000
SUMMARY:Ususret danima srpskoga filma
LOCATION:Kino Tuškanac
DESCRIPTION:
END:VEVENT
END:VCALENDAR