BEGIN:VCALENDAR
VERSION:2.0
PRODID:-//Kino Tuškanac//Filmski programi//HR
URL:http://kinotuskanac/calendar/cycle/550
NAME:Kino Tuškanac ciklus Ciklus francuskog filma
X-WR-CALNAME:Kino Tuškanac ciklus Ciklus francuskog filma
TIMEZONE-ID:Europe/Zagreb
X-WR-TIMEZONE:Europe/Zagreb
REFRESH-INTERVAL;VALUE=DURATION:PT12H
X-PUBLISHED-TTL:PT12H
METHOD:PUBLISH
BEGIN:VEVENT
UID:8745bf527e0120d0af2801903fd9c764@kinotuskanac.hr
DTSTAMP:20260423T143616Z
DTSTART:20170502T190000
DTEND:20170502T210000
SUMMARY:Lola
LOCATION:Kino Tuškanac
DESCRIPTION:Francuska, Italija, 1961 | Mjesto prikazivanja filma: Kulturno informativni centar KIC (Preradovićeva ul. 5) R: Jacques Demy
END:VEVENT

BEGIN:VEVENT
UID:3d4a1e12fde7d06a7d0c4e417a245778@kinotuskanac.hr
DTSTAMP:20260423T143616Z
DTSTART:20170503T190000
DTEND:20170503T210000
SUMMARY:Lift za gubilište
LOCATION:Kino Tuškanac
DESCRIPTION:Ascenseur pour l'échafaud, Francuska, 1958 R: Louis Malle
END:VEVENT

BEGIN:VEVENT
UID:6eb63edd42cbab057d5cdb5ae536c42e@kinotuskanac.hr
DTSTAMP:20260423T143616Z
DTSTART:20170508T190000
DTEND:20170508T210000
SUMMARY:Gospođice iz Rocheforta
LOCATION:Kino Tuškanac
DESCRIPTION:Les demoiselles de Rochefort, Francuska, 1967 | Mjesto prikazivanja filma: Kulturno informativni centar KIC (Preradovićeva ul. 5) R: Jacques Demy
END:VEVENT

BEGIN:VEVENT
UID:a419f7f9bf5494aab175dbae6c68657c@kinotuskanac.hr
DTSTAMP:20260423T143616Z
DTSTART:20170509T190000
DTEND:20170509T210000
SUMMARY:Loulou
LOCATION:Kino Tuškanac
DESCRIPTION:1980 R: Maurice Pialat
END:VEVENT

BEGIN:VEVENT
UID:ba1e4c3d09ef29f8f84a8ef9b21b1be0@kinotuskanac.hr
DTSTAMP:20260423T143616Z
DTSTART:20170510T190000
DTEND:20170510T210000
SUMMARY:Nadnica za strah
LOCATION:Kino Tuškanac
DESCRIPTION:Le salaire de la peur, Francuska, Italija, 1953 R: Henri-Georges Clouzot
END:VEVENT

BEGIN:VEVENT
UID:08ff6c8bcbfb9bbf4d8653bb7df4a03d@kinotuskanac.hr
DTSTAMP:20260423T143616Z
DTSTART:20170511T183000
DTEND:20170511T203000
SUMMARY:Gospođice iz Rocheforta
LOCATION:Kino Tuškanac
DESCRIPTION:Les demoiselles de Rochefort, Francuska, 1967 | Mjesto prikazivanja filma: Kulturno informativni centar KIC (Preradovićeva ul. 5) R: Jacques Demy
END:VEVENT

BEGIN:VEVENT
UID:6518549c8c7c8b6c2805d883cf57445a@kinotuskanac.hr
DTSTAMP:20260423T143616Z
DTSTART:20170512T190000
DTEND:20170512T210000
SUMMARY:Nadnica za strah
LOCATION:Kino Tuškanac
DESCRIPTION:Le salaire de la peur, Francuska, Italija, 1953 R: Henri-Georges Clouzot
END:VEVENT

BEGIN:VEVENT
UID:3e3bfaf5797e6f79fe4b85e91483352f@kinotuskanac.hr
DTSTAMP:20260423T143616Z
DTSTART:20170513T190000
DTEND:20170513T210000
SUMMARY:Loulou
LOCATION:Kino Tuškanac
DESCRIPTION:1980 R: Maurice Pialat
END:VEVENT

BEGIN:VEVENT
UID:8e824a4e26e8d973c3baa25519f43f8c@kinotuskanac.hr
DTSTAMP:20260423T143616Z
DTSTART:20170516T210000
DTEND:20170516T230000
SUMMARY:Lola
LOCATION:Kino Tuškanac
DESCRIPTION:Francuska, Italija, 1961 | Mjesto prikazivanja filma: Kulturno informativni centar KIC (Preradovićeva ul. 5) R: Jacques Demy
END:VEVENT

BEGIN:VEVENT
UID:34f3a6691590dd6a13c03128c4322f0e@kinotuskanac.hr
DTSTAMP:20260423T143616Z
DTSTART:20170517T210000
DTEND:20170517T230000
SUMMARY:Lift za gubilište
LOCATION:Kino Tuškanac
DESCRIPTION:Ascenseur pour l'échafaud, Francuska, 1958 R: Louis Malle
END:VEVENT

BEGIN:VEVENT
UID:6b55e7803235e85271d9c22ae3e1a420@kinotuskanac.hr
DTSTAMP:20260423T143616Z
DTSTART:20170519T210000
DTEND:20170519T230000
SUMMARY:Cesar i Rosalie
LOCATION:Kino Tuškanac
DESCRIPTION:César et Rosalie, 1972 R: Claude Sautet
END:VEVENT

BEGIN:VEVENT
UID:7b1619af26958aaecbf74a99dafff5e4@kinotuskanac.hr
DTSTAMP:20260423T143616Z
DTSTART:20170522T190000
DTEND:20170522T210000
SUMMARY:Cesar i Rosalie
LOCATION:Kino Tuškanac
DESCRIPTION:César et Rosalie, 1972 R: Claude Sautet
END:VEVENT

BEGIN:VEVENT
UID:334c07115f412ed54dfbeb8b9ce7dbf5@kinotuskanac.hr
DTSTAMP:20260423T143616Z
DTSTART:20170526T190000
DTEND:20170526T210000
SUMMARY:Djeca raja (1945)
LOCATION:Kino Tuškanac
DESCRIPTION:Les enfants du paradis, Francuska, 1945 R: Marcel Carné
END:VEVENT

BEGIN:VEVENT
UID:433bb0e7a6ae8c0ba3a0b6b58c59d969@kinotuskanac.hr
DTSTAMP:20260423T143616Z
DTSTART:20170623T190000
DTEND:20170623T210000
SUMMARY:Djeca raja (1945)
LOCATION:Kino Tuškanac
DESCRIPTION:Les enfants du paradis, Francuska, 1945 R: Marcel Carné
END:VEVENT

BEGIN:VEVENT
UID:170542f59092d32309bb4f0fca4bf8ab@kinotuskanac.hr
DTSTAMP:20260423T143616Z
DTSTART:20170624T190000
DTEND:20170624T210000
SUMMARY:Prezir
LOCATION:Kino Tuškanac
DESCRIPTION:Le mépris, Francuska, Italija, 1963 R: Jean-Luc Godard
END:VEVENT

BEGIN:VEVENT
UID:20c42e5f7363706efc5e440304ca315b@kinotuskanac.hr
DTSTAMP:20260423T143616Z
DTSTART:20170626T190000
DTEND:20170626T210000
SUMMARY:Camille Claudel
LOCATION:Kino Tuškanac
DESCRIPTION:1988 R: Bruno Nuytten
END:VEVENT

BEGIN:VEVENT
UID:4a61280f76a3c7d797657239c42f9d07@kinotuskanac.hr
DTSTAMP:20260423T143616Z
DTSTART:20170627T190000
DTEND:20170627T210000
SUMMARY:Ljetni sati
LOCATION:Kino Tuškanac
DESCRIPTION:L'heure d'été, 2008. R: Olivier Assayas
END:VEVENT

BEGIN:VEVENT
UID:5db7983d1837984b9e2fbf53282e73b5@kinotuskanac.hr
DTSTAMP:20260423T143616Z
DTSTART:20170627T210000
DTEND:20170627T230000
SUMMARY:Prezir
LOCATION:Kino Tuškanac
DESCRIPTION:Le mépris, Francuska, Italija, 1963 R: Jean-Luc Godard
END:VEVENT

BEGIN:VEVENT
UID:04ae642ecfc2c2f9797e2df24f671fb2@kinotuskanac.hr
DTSTAMP:20260423T143616Z
DTSTART:20170628T190000
DTEND:20170628T210000
SUMMARY:Zlatna kaciga
LOCATION:Kino Tuškanac
DESCRIPTION:Casque d'or, Francuska, 1952 R: Jacques Becker
END:VEVENT

BEGIN:VEVENT
UID:9867b56a3d7f085b44b1146e37f91594@kinotuskanac.hr
DTSTAMP:20260423T143616Z
DTSTART:20170628T210000
DTEND:20170628T230000
SUMMARY:Ljetni sati
LOCATION:Kino Tuškanac
DESCRIPTION:L'heure d'été, 2008. R: Olivier Assayas
END:VEVENT

BEGIN:VEVENT
UID:21aa3d79d843653335271faa308b4a9e@kinotuskanac.hr
DTSTAMP:20260423T143616Z
DTSTART:20170630T170000
DTEND:20170630T190000
SUMMARY:Zlatna kaciga
LOCATION:Kino Tuškanac
DESCRIPTION:Casque d'or, Francuska, 1952 R: Jacques Becker
END:VEVENT

BEGIN:VEVENT
UID:c9e717cae47a1f604acf3a056d3c7243@kinotuskanac.hr
DTSTAMP:20260423T143616Z
DTSTART:20170701T190000
DTEND:20170701T210000
SUMMARY:Camille Claudel
LOCATION:Kino Tuškanac
DESCRIPTION:1988 R: Bruno Nuytten
END:VEVENT
END:VCALENDAR