BEGIN:VCALENDAR
VERSION:2.0
PRODID:-//Kino Tuškanac//Filmski programi//HR
URL:http://kinotuskanac/calendar/cycle/557
NAME:Kino Tuškanac ciklus Borders
X-WR-CALNAME:Kino Tuškanac ciklus Borders
TIMEZONE-ID:Europe/Zagreb
X-WR-TIMEZONE:Europe/Zagreb
REFRESH-INTERVAL;VALUE=DURATION:PT12H
X-PUBLISHED-TTL:PT12H
METHOD:PUBLISH
BEGIN:VEVENT
UID:e69dcdb72d1826b4f7dc8359f65b2a27@kinotuskanac.hr
DTSTAMP:20260419T154317Z
DTSTART:20170612T170000
DTEND:20170612T190000
SUMMARY:Mare Nostrum
LOCATION:Kino Tuškanac
DESCRIPTION:Francuska, Sirija, 2016 R: Anas Khalaf, Rama Kazkaz
END:VEVENT

BEGIN:VEVENT
UID:5126129b7e1290c83456d4385996092c@kinotuskanac.hr
DTSTAMP:20260419T154317Z
DTSTART:20170612T171500
DTEND:20170612T191500
SUMMARY:Zidovi (2015)
LOCATION:Kino Tuškanac
DESCRIPTION:Muros, Španjolska, 2015 R: Pablo Iraburu, Migueltxo Molina
END:VEVENT

BEGIN:VEVENT
UID:e8149ad3698225b4400b32df2f4f7a38@kinotuskanac.hr
DTSTAMP:20260419T154317Z
DTSTART:20170612T190000
DTEND:20170612T210000
SUMMARY:Oni (2015)
LOCATION:Kino Tuškanac
DESCRIPTION:Azok, Mađarska, 2015 R: Krisztina Meggyes
END:VEVENT

BEGIN:VEVENT
UID:028d5e42d0ec72f5de10cbbfe356643d@kinotuskanac.hr
DTSTAMP:20260419T154317Z
DTSTART:20170612T194500
DTEND:20170612T214500
SUMMARY:Putovanje u Portugal
LOCATION:Kino Tuškanac
DESCRIPTION:Viagem a Portugal, Portugal, 2011 R: Sérgio Tréfaut
END:VEVENT

BEGIN:VEVENT
UID:603841a9efccb1d7bb0beee18120edc8@kinotuskanac.hr
DTSTAMP:20260419T154317Z
DTSTART:20170612T210000
DTEND:20170612T230000
SUMMARY:Lampedusa (2015)
LOCATION:Kino Tuškanac
DESCRIPTION:Austrija, 2015 R: Peter Schreiner
END:VEVENT

BEGIN:VEVENT
UID:29304a05ce715d96d4a885b6933c56dd@kinotuskanac.hr
DTSTAMP:20260419T154317Z
DTSTART:20170613T160000
DTEND:20170613T180000
SUMMARY:Bosanski dnevnici
LOCATION:Kino Tuškanac
DESCRIPTION:Diários da Bósnia, Portugal, 2005 R: Joaquim Sapinho
END:VEVENT

BEGIN:VEVENT
UID:7a5feb96aea5a5b13b6d4cf78707312c@kinotuskanac.hr
DTSTAMP:20260419T154317Z
DTSTART:20170613T180000
DTEND:20170613T200000
SUMMARY:Cvjetovi Kirkuka
LOCATION:Kino Tuškanac
DESCRIPTION:Golakani Kirkuk, Italija, Irak, Švicarska, 2010 R: Fariborz Kamkari
END:VEVENT

BEGIN:VEVENT
UID:bf86ae6614d494faf12b14066abb0710@kinotuskanac.hr
DTSTAMP:20260419T154317Z
DTSTART:20170614T170000
DTEND:20170614T190000
SUMMARY:Škola Babilonska
LOCATION:Kino Tuškanac
DESCRIPTION:La cour de Babel, Francuska, 2014 R: Julie Bertuccelli
END:VEVENT

BEGIN:VEVENT
UID:028585085428f251bd6132a05558197a@kinotuskanac.hr
DTSTAMP:20260419T154317Z
DTSTART:20170614T190000
DTEND:20170614T210000
SUMMARY:Drugi
LOCATION:Kino Tuškanac
DESCRIPTION:Der Andere, Njemačka, 2016 R: Feo Aladag
END:VEVENT

BEGIN:VEVENT
UID:18f47630f77fb83c2c76089990da1d06@kinotuskanac.hr
DTSTAMP:20260419T154317Z
DTSTART:20170614T210000
DTEND:20170614T230000
SUMMARY:Pokretna slika
LOCATION:Kino Tuškanac
DESCRIPTION:A Moving Image, UK, 2016 R: Shola Amoo
END:VEVENT

BEGIN:VEVENT
UID:fafb055e4f7ac962eab3ca27943a93b7@kinotuskanac.hr
DTSTAMP:20260419T154317Z
DTSTART:20170615T170000
DTEND:20170615T190000
SUMMARY:Paradise! Paradise!
LOCATION:Kino Tuškanac
DESCRIPTION:Austrija, 2016 R: Kurdwin Ayub
END:VEVENT

BEGIN:VEVENT
UID:be544e95398e3bbf1ed74b4c3f55fc27@kinotuskanac.hr
DTSTAMP:20260419T154317Z
DTSTART:20170615T190000
DTEND:20170615T210000
SUMMARY:Piroga
LOCATION:Kino Tuškanac
DESCRIPTION:La Pirogue, Francuska, Senegal, 2012 R: Mousa Touré
END:VEVENT

BEGIN:VEVENT
UID:f366266e784b37559100b09fc27b2c8b@kinotuskanac.hr
DTSTAMP:20260419T154317Z
DTSTART:20170615T210000
DTEND:20170615T230000
SUMMARY:Kraljice Sirije
LOCATION:Kino Tuškanac
DESCRIPTION:Queens of Syria, UK, 2014 R: Yasmin Fedda
END:VEVENT
END:VCALENDAR