BEGIN:VCALENDAR
VERSION:2.0
PRODID:-//Kino Tuškanac//Filmski programi//HR
URL:http://kinotuskanac/calendar/cycle/563
NAME:Kino Tuškanac ciklus U spomen na Zorana Tadića: Treći čovjek
X-WR-CALNAME:Kino Tuškanac ciklus U spomen na Zorana Tadića: Treći čovjek
TIMEZONE-ID:Europe/Zagreb
X-WR-TIMEZONE:Europe/Zagreb
REFRESH-INTERVAL;VALUE=DURATION:PT12H
X-PUBLISHED-TTL:PT12H
METHOD:PUBLISH
BEGIN:VEVENT
UID:c9338c191653f2b56c73368a5f7a75d2@kinotuskanac.hr
DTSTAMP:20260425T173740Z
DTSTART:20071014T200000
DTEND:20071014T220000
SUMMARY:Treći čovjek
LOCATION:Kino Tuškanac
DESCRIPTION:The Third Man, Ujedinjeno Kraljevstvo, 1949 | Mjesto prikazivanja filma: Kino Forum (SD Stjepan Radić, Jarunska ul. 2) R: Carol Reed
END:VEVENT
END:VCALENDAR