BEGIN:VCALENDAR
VERSION:2.0
PRODID:-//Kino Tuškanac//Filmski programi//HR
URL:http://kinotuskanac/calendar/cycle/566
NAME:Kino Tuškanac ciklus Ciklus braće Taviani
X-WR-CALNAME:Kino Tuškanac ciklus Ciklus braće Taviani
TIMEZONE-ID:Europe/Zagreb
X-WR-TIMEZONE:Europe/Zagreb
REFRESH-INTERVAL;VALUE=DURATION:PT12H
X-PUBLISHED-TTL:PT12H
METHOD:PUBLISH
BEGIN:VEVENT
UID:33354573a35629b7160df501412c1b2c@kinotuskanac.hr
DTSTAMP:20260423T143613Z
DTSTART:20170923T193000
DTEND:20170923T213000
SUMMARY:Farma ševa
LOCATION:Kino Tuškanac
DESCRIPTION:La masseria delle allodol, 2007 R: Paolo & Vittorio Taviani
END:VEVENT

BEGIN:VEVENT
UID:86c849388369910f4d620df82653107c@kinotuskanac.hr
DTSTAMP:20260423T143613Z
DTSTART:20170924T190000
DTEND:20170924T210000
SUMMARY:Noć svetog Lovre
LOCATION:Kino Tuškanac
DESCRIPTION:La notte di San Lorenzo, 1982 R: Paolo & Vittorio Taviani
END:VEVENT

BEGIN:VEVENT
UID:2bc0be6c98e87505d59efecf882f965d@kinotuskanac.hr
DTSTAMP:20260423T143613Z
DTSTART:20170925T190000
DTEND:20170925T210000
SUMMARY:Cezar mora umrijeti
LOCATION:Kino Tuškanac
DESCRIPTION:Cesare deve morire, 2012 R: Paolo & Vittorio Taviani
END:VEVENT

BEGIN:VEVENT
UID:ccd5766a36898f7611888cd88d77e7a6@kinotuskanac.hr
DTSTAMP:20260423T143613Z
DTSTART:20170926T180000
DTEND:20170926T200000
SUMMARY:Kaos
LOCATION:Kino Tuškanac
DESCRIPTION:Caos, 1984 R: Paolo & Vittorio Taviani
END:VEVENT
END:VCALENDAR