BEGIN:VCALENDAR
VERSION:2.0
PRODID:-//Kino Tuškanac//Filmski programi//HR
URL:http://kinotuskanac/calendar/cycle/567
NAME:Kino Tuškanac ciklus Sjećanje na Antu Peterlića
X-WR-CALNAME:Kino Tuškanac ciklus Sjećanje na Antu Peterlića
TIMEZONE-ID:Europe/Zagreb
X-WR-TIMEZONE:Europe/Zagreb
REFRESH-INTERVAL;VALUE=DURATION:PT12H
X-PUBLISHED-TTL:PT12H
METHOD:PUBLISH
BEGIN:VEVENT
UID:b32e2d2c4e0249f6ee7b98ccd7257c1f@kinotuskanac.hr
DTSTAMP:20260423T175425Z
DTSTART:20170927T200000
DTEND:20170927T220000
SUMMARY:Čekati & Slučajni život
LOCATION:Kino Tuškanac
DESCRIPTION:
END:VEVENT

BEGIN:VEVENT
UID:30b625b70e75fb20c8c8972c75f0a7c4@kinotuskanac.hr
DTSTAMP:20260423T175425Z
DTSTART:20170928T200000
DTEND:20170928T220000
SUMMARY:French Can Can
LOCATION:Kino Tuškanac
DESCRIPTION:Francuska, 1955 R: Jean Renoir
END:VEVENT
END:VCALENDAR