BEGIN:VCALENDAR
VERSION:2.0
PRODID:-//Kino Tuškanac//Filmski programi//HR
URL:http://kinotuskanac/calendar/cycle/571
NAME:Kino Tuškanac ciklus Revija novog talijanskog filma
X-WR-CALNAME:Kino Tuškanac ciklus Revija novog talijanskog filma
TIMEZONE-ID:Europe/Zagreb
X-WR-TIMEZONE:Europe/Zagreb
REFRESH-INTERVAL;VALUE=DURATION:PT12H
X-PUBLISHED-TTL:PT12H
METHOD:PUBLISH
BEGIN:VEVENT
UID:dbd50d7d8352902194af13410bbbb9e6@kinotuskanac.hr
DTSTAMP:20260423T150034Z
DTSTART:20171017T193000
DTEND:20171017T213000
SUMMARY:Otac Italije
LOCATION:Kino Tuškanac
DESCRIPTION:Il padre d'Italia, Italija, 2017 R: Fabio Mollo
END:VEVENT

BEGIN:VEVENT
UID:b78b05b36dd7eec5ee15afd7c8d912fd@kinotuskanac.hr
DTSTAMP:20260423T150034Z
DTSTART:20171018T190000
DTEND:20171018T210000
SUMMARY:U ratu za ljubav
LOCATION:Kino Tuškanac
DESCRIPTION:In guerra per amore, Italija, 2016 R: Pif (Pierfrancesco Diliberto)
END:VEVENT

BEGIN:VEVENT
UID:5dd41796767ac81290e93db84e42235d@kinotuskanac.hr
DTSTAMP:20260423T150034Z
DTSTART:20171019T190000
DTEND:20171019T210000
SUMMARY:Ljeto slobode
LOCATION:Kino Tuškanac
DESCRIPTION:L'estate addosso, Italija, 2016 R: Gabriele Muccino
END:VEVENT

BEGIN:VEVENT
UID:79b54e7696ba709bc23e4bc1116b52e8@kinotuskanac.hr
DTSTAMP:20260423T150034Z
DTSTART:20171020T190000
DTEND:20171020T210000
SUMMARY:Voda i šećer: Carlo Di Palma, boje života
LOCATION:Kino Tuškanac
DESCRIPTION:Acqua e zucchero: Carlo Di Palma, i colori della vita, Italija, 2016 R: Fariborz Kamkari
END:VEVENT

BEGIN:VEVENT
UID:fd7d81e55af8a25a4c01aef03748a265@kinotuskanac.hr
DTSTAMP:20260423T150034Z
DTSTART:20171021T190000
DTEND:20171021T210000
SUMMARY:Pitanje karme
LOCATION:Kino Tuškanac
DESCRIPTION:Questione di Karma, Italija, 2017 R: Edoardo Maria Falcone
END:VEVENT
END:VCALENDAR