BEGIN:VCALENDAR
VERSION:2.0
PRODID:-//Kino Tuškanac//Filmski programi//HR
URL:http://kinotuskanac/calendar/cycle/574
NAME:Kino Tuškanac ciklus 3. Rendez-vous au cinéma
X-WR-CALNAME:Kino Tuškanac ciklus 3. Rendez-vous au cinéma
TIMEZONE-ID:Europe/Zagreb
X-WR-TIMEZONE:Europe/Zagreb
REFRESH-INTERVAL;VALUE=DURATION:PT12H
X-PUBLISHED-TTL:PT12H
METHOD:PUBLISH
BEGIN:VEVENT
UID:5bae51528441d8312d19c0eef3d0644c@kinotuskanac.hr
DTSTAMP:20260423T143528Z
DTSTART:20171015T203000
DTEND:20171015T223000
SUMMARY:Prezir
LOCATION:Kino Tuškanac
DESCRIPTION:Le mépris, Francuska, Italija, 1963 R: Jean-Luc Godard
END:VEVENT
END:VCALENDAR