BEGIN:VCALENDAR
VERSION:2.0
PRODID:-//Kino Tuškanac//Filmski programi//HR
URL:http://kinotuskanac/calendar/cycle/596
NAME:Kino Tuškanac ciklus Nostalgija: Scenografije Željka Senečića
X-WR-CALNAME:Kino Tuškanac ciklus Nostalgija: Scenografije Željka Senečića
TIMEZONE-ID:Europe/Zagreb
X-WR-TIMEZONE:Europe/Zagreb
REFRESH-INTERVAL;VALUE=DURATION:PT12H
X-PUBLISHED-TTL:PT12H
METHOD:PUBLISH
BEGIN:VEVENT
UID:f21fc792e2ac2778ff197beae108dd63@kinotuskanac.hr
DTSTAMP:20260420T103924Z
DTSTART:20180209T190000
DTEND:20180209T210000
SUMMARY:Predstava Hamleta u Mrduši Donjoj
LOCATION:Kino Tuškanac
DESCRIPTION:1973 R: Krsto Papić
END:VEVENT

BEGIN:VEVENT
UID:71c8e78d84323352400d2ed5595ce9bd@kinotuskanac.hr
DTSTAMP:20260420T103924Z
DTSTART:20180209T210000
DTEND:20180209T230000
SUMMARY:Događaj
LOCATION:Kino Tuškanac
DESCRIPTION:Jadran film, 1969 R: Vatroslav Mimica
END:VEVENT

BEGIN:VEVENT
UID:7bae6e34b59dd07272a92118214ace8d@kinotuskanac.hr
DTSTAMP:20260420T103924Z
DTSTART:20180210T170000
DTEND:20180210T190000
SUMMARY:Imam dvije mame i dva tate
LOCATION:Kino Tuškanac
DESCRIPTION:1968 R: Krešo Golik
END:VEVENT

BEGIN:VEVENT
UID:5153b6820e736d1b1e47f63eb38aea68@kinotuskanac.hr
DTSTAMP:20260420T103924Z
DTSTART:20180210T190000
DTEND:20180210T210000
SUMMARY:Kiklop
LOCATION:Kino Tuškanac
DESCRIPTION:Hrvatska, Jugoslavija, 1982 R: Antun Vrdoljak
END:VEVENT

BEGIN:VEVENT
UID:4f25a00ffc9f6b3ac64e94ba2e91c014@kinotuskanac.hr
DTSTAMP:20260420T103924Z
DTSTART:20180211T170000
DTEND:20180211T190000
SUMMARY:Breza
LOCATION:Kino Tuškanac
DESCRIPTION:Hrvatska, 1967 R: Ante Babaja
END:VEVENT

BEGIN:VEVENT
UID:c1091246b99861c99ab882e3bf846e1f@kinotuskanac.hr
DTSTAMP:20260420T103924Z
DTSTART:20180211T190000
DTEND:20180211T210000
SUMMARY:Glembajevi
LOCATION:Kino Tuškanac
DESCRIPTION:Hrvatska, 1988 R: Antun Vrdoljak
END:VEVENT

BEGIN:VEVENT
UID:7dc94b0f52b010fac493dd4b108fe44c@kinotuskanac.hr
DTSTAMP:20260420T103924Z
DTSTART:20180212T190000
DTEND:20180212T210000
SUMMARY:Kuća
LOCATION:Kino Tuškanac
DESCRIPTION:Hrvatska, 1975 R: Bogdan Žižić
END:VEVENT

BEGIN:VEVENT
UID:f3ac363d327ebab0d7926a1bc7031e56@kinotuskanac.hr
DTSTAMP:20260420T103924Z
DTSTART:20180212T210000
DTEND:20180212T230000
SUMMARY:Rondo
LOCATION:Kino Tuškanac
DESCRIPTION:Hrvatska, 1966 | Mjesto prikazivanja filma: Centar za kulturu i informacije Maksimir (ul. Lavoslava Švarca 18) R: Zvonimir Berković
END:VEVENT
END:VCALENDAR