BEGIN:VCALENDAR
VERSION:2.0
PRODID:-//Kino Tuškanac//Filmski programi//HR
URL:http://kinotuskanac/calendar/cycle/599
NAME:Kino Tuškanac ciklus Motrišta
X-WR-CALNAME:Kino Tuškanac ciklus Motrišta
TIMEZONE-ID:Europe/Zagreb
X-WR-TIMEZONE:Europe/Zagreb
REFRESH-INTERVAL;VALUE=DURATION:PT12H
X-PUBLISHED-TTL:PT12H
METHOD:PUBLISH
BEGIN:VEVENT
UID:0b5ce577fa8f23a17793ce49175017df@kinotuskanac.hr
DTSTAMP:20260420T195840Z
DTSTART:20180118T210000
DTEND:20180118T230000
SUMMARY:Ljubavnici i despot
LOCATION:Kino Tuškanac
DESCRIPTION:The Lovers and the Despot, UK, 2016 R: Robert Cannan, Ross Adam
END:VEVENT

BEGIN:VEVENT
UID:03d02a1d806b7894c024624c80cbcad5@kinotuskanac.hr
DTSTAMP:20260420T195840Z
DTSTART:20180125T210000
DTEND:20180125T230000
SUMMARY:Ljubavnici i despot
LOCATION:Kino Tuškanac
DESCRIPTION:The Lovers and the Despot, UK, 2016 R: Robert Cannan, Ross Adam
END:VEVENT

BEGIN:VEVENT
UID:b77be0c5e95b2d034bcb347ff9e4c2cd@kinotuskanac.hr
DTSTAMP:20260420T195840Z
DTSTART:20180208T210000
DTEND:20180208T230000
SUMMARY:Slika koja nedostaje
LOCATION:Kino Tuškanac
DESCRIPTION:L’image manquante, Kambodža,  Francuska, 2013 R: Rithy Panh
END:VEVENT

BEGIN:VEVENT
UID:d3cd6180c2aa6640c0ab4dccbd027b78@kinotuskanac.hr
DTSTAMP:20260420T195840Z
DTSTART:20180213T190000
DTEND:20180213T210000
SUMMARY:Čin smaknuća
LOCATION:Kino Tuškanac
DESCRIPTION:The Act of Killing, Danska, 2012 R: Joshua Oppenheimer
END:VEVENT

BEGIN:VEVENT
UID:43eece0a491885c8e5d2c3c6bd06224e@kinotuskanac.hr
DTSTAMP:20260420T195840Z
DTSTART:20180213T211500
DTEND:20180213T231500
SUMMARY:Pogled tišine
LOCATION:Kino Tuškanac
DESCRIPTION:The Look of Silence, Danska, 2014 R: Joshua Oppenheimer
END:VEVENT

BEGIN:VEVENT
UID:18c487e0b84f44bc0b8e514def34ae2b@kinotuskanac.hr
DTSTAMP:20260420T195840Z
DTSTART:20180310T180000
DTEND:20180310T200000
SUMMARY:Kronika jednog ljeta
LOCATION:Kino Tuškanac
DESCRIPTION:Chronique d'un été, Francuska, 1961 R: Jean Rouch, Edgar Morin
END:VEVENT

BEGIN:VEVENT
UID:cb18324819edabcacb7f1a07ce0779b6@kinotuskanac.hr
DTSTAMP:20260420T195840Z
DTSTART:20180523T190000
DTEND:20180523T210000
SUMMARY:Ludilo u Titicutu
LOCATION:Kino Tuškanac
DESCRIPTION:Titicut Follies, SAD, 1967 R: Frederick Wiseman
END:VEVENT

BEGIN:VEVENT
UID:628c298f655d49a91f176bab6d2a1e7f@kinotuskanac.hr
DTSTAMP:20260420T195840Z
DTSTART:20180516T190000
DTEND:20180516T210000
SUMMARY:Nostalgija za svjetlom
LOCATION:Kino Tuškanac
DESCRIPTION:Nostalgia de la luz, Francuska, Njemačka, Čile, Španjolska, 2010 R: Patricio Guzmán
END:VEVENT

BEGIN:VEVENT
UID:5dec57897cff5552b894603407d86f05@kinotuskanac.hr
DTSTAMP:20260420T195840Z
DTSTART:20180615T190000
DTEND:20180615T210000
SUMMARY:Ja, crnac
LOCATION:Kino Tuškanac
DESCRIPTION:Moi, un noir, Francuska, 1958 R: Jean Rouch
END:VEVENT

BEGIN:VEVENT
UID:ea5422f5475255389b04ac016ed150e4@kinotuskanac.hr
DTSTAMP:20260420T195840Z
DTSTART:20180919T190000
DTEND:20180919T210000
SUMMARY:Portret Jasona
LOCATION:Kino Tuškanac
DESCRIPTION:Portrait of Jason, SAD, 1967 R: Shirley Clarke
END:VEVENT

BEGIN:VEVENT
UID:ae3abc853008d0f357757b8ed6e165d2@kinotuskanac.hr
DTSTAMP:20260420T195840Z
DTSTART:20181003T210000
DTEND:20181003T230000
SUMMARY:Srbenka
LOCATION:Kino Tuškanac
DESCRIPTION:Hrvatska, 2018 | Mjesto prikazivanja filma: Kulturno informativni centar KIC (Preradovićeva ul. 5) R: Nebojša Slijepčević
END:VEVENT

BEGIN:VEVENT
UID:66aad5a2a0e13ee738b22f0575f8de0c@kinotuskanac.hr
DTSTAMP:20260420T195840Z
DTSTART:20181003T190000
DTEND:20181003T210000
SUMMARY:Puskás Mađarska
LOCATION:Kino Tuškanac
DESCRIPTION:Puskás Hungary, Mađarska, 2009 R: Tamás Almási
END:VEVENT

BEGIN:VEVENT
UID:fec47ed4e2e30bacfda953d3174f2766@kinotuskanac.hr
DTSTAMP:20260420T195840Z
DTSTART:20181019T210000
DTEND:20181019T230000
SUMMARY:Gimnazija
LOCATION:Kino Tuškanac
DESCRIPTION:High School, SAD, 1968 R: Frederick Wiseman
END:VEVENT

BEGIN:VEVENT
UID:74bf081d4819d330d64530e0e9083736@kinotuskanac.hr
DTSTAMP:20260420T195840Z
DTSTART:20181212T190000
DTEND:20181212T210000
SUMMARY:Bez sunca
LOCATION:Kino Tuškanac
DESCRIPTION:Sans soleil, Francuska, 1983 R: Chris Marker
END:VEVENT

BEGIN:VEVENT
UID:e555088bc3eb2b288af842c8d5a5a836@kinotuskanac.hr
DTSTAMP:20260420T195840Z
DTSTART:20181212T210000
DTEND:20181212T230000
SUMMARY:Rodbina
LOCATION:Kino Tuškanac
DESCRIPTION:Rodnye, Njemačka, Latvija, Estonija, Ukrajina, 2016 R: Vitalij Manski
END:VEVENT

BEGIN:VEVENT
UID:bd0eacd20c164061535cc5b350c97d97@kinotuskanac.hr
DTSTAMP:20260420T195840Z
DTSTART:20190123T190000
DTEND:20190123T210000
SUMMARY:S istoka
LOCATION:Kino Tuškanac
DESCRIPTION:D’est, Francuska,  Belgija, 1993 R: Chantal Akerman
END:VEVENT

BEGIN:VEVENT
UID:27d7478b5a0c3c877912b6482fd1a816@kinotuskanac.hr
DTSTAMP:20260420T195840Z
DTSTART:20190213T190000
DTEND:20190213T210000
SUMMARY:Čovjek s filmskom kamerom
LOCATION:Kino Tuškanac
DESCRIPTION:Chelovek s kino-apparatom, Sovjetski Savez, 1929 R: Dziga Vertov
END:VEVENT

BEGIN:VEVENT
UID:611c18eb2d75c16e205172621f6604e2@kinotuskanac.hr
DTSTAMP:20260420T195840Z
DTSTART:20190513T210000
DTEND:20190513T230000
SUMMARY:Na vodi
LOCATION:Kino Tuškanac
DESCRIPTION:Hrvatska, 2018 R: Goran Dević
END:VEVENT

BEGIN:VEVENT
UID:a833cd8b07e7fa86ebf5976aa15bb2db@kinotuskanac.hr
DTSTAMP:20260420T195840Z
DTSTART:20190521T190000
DTEND:20190521T210000
SUMMARY:Dunjin cvijet
LOCATION:Kino Tuškanac
DESCRIPTION:El sol del membrillo, Španjolska, 1992 R: Víctor Erice
END:VEVENT

BEGIN:VEVENT
UID:f7b0dd10a5ff2f67a8dbbe4acd1b59ee@kinotuskanac.hr
DTSTAMP:20260420T195840Z
DTSTART:20190522T190000
DTEND:20190522T210000
SUMMARY:Nanook sa sjevera
LOCATION:Kino Tuškanac
DESCRIPTION:Nanook of the North, SAD, Francuska, 1922 R: Robert J. Flaherty
END:VEVENT
END:VCALENDAR