BEGIN:VCALENDAR
VERSION:2.0
PRODID:-//Kino Tuškanac//Filmski programi//HR
URL:http://kinotuskanac/calendar/cycle/602
NAME:Kino Tuškanac ciklus Panorama: Španjolski filmski kanon
X-WR-CALNAME:Kino Tuškanac ciklus Panorama: Španjolski filmski kanon
TIMEZONE-ID:Europe/Zagreb
X-WR-TIMEZONE:Europe/Zagreb
REFRESH-INTERVAL;VALUE=DURATION:PT12H
X-PUBLISHED-TTL:PT12H
METHOD:PUBLISH
BEGIN:VEVENT
UID:a7ef54a5442cea77d16af913758cb644@kinotuskanac.hr
DTSTAMP:20260423T150034Z
DTSTART:20180223T190000
DTEND:20180223T210000
SUMMARY:Viridiana
LOCATION:Kino Tuškanac
DESCRIPTION:Španjolska, Meksiko, 1961 R: Luis Buñuel
END:VEVENT

BEGIN:VEVENT
UID:4059c56d04d98b0b26cb1fab0b0d9663@kinotuskanac.hr
DTSTAMP:20260423T150034Z
DTSTART:20180223T210000
DTEND:20180223T230000
SUMMARY:Zmija u njedrima
LOCATION:Kino Tuškanac
DESCRIPTION:Cria cuervos, 1976 R: Carlos Saura
END:VEVENT

BEGIN:VEVENT
UID:b24ed31d5611f9d35bff149d2a1a5e51@kinotuskanac.hr
DTSTAMP:20260423T150034Z
DTSTART:20180224T190000
DTEND:20180224T210000
SUMMARY:Zmija u njedrima
LOCATION:Kino Tuškanac
DESCRIPTION:Cria cuervos, 1976 R: Carlos Saura
END:VEVENT

BEGIN:VEVENT
UID:6ba8fdbb0f82df85e4aed263c14642f3@kinotuskanac.hr
DTSTAMP:20260423T150034Z
DTSTART:20180224T210000
DTEND:20180224T230000
SUMMARY:Viridiana
LOCATION:Kino Tuškanac
DESCRIPTION:Španjolska, Meksiko, 1961 R: Luis Buñuel
END:VEVENT

BEGIN:VEVENT
UID:1695fd0ef21dcd9166d5efded4ab1f16@kinotuskanac.hr
DTSTAMP:20260423T150034Z
DTSTART:20180226T190000
DTEND:20180226T210000
SUMMARY:Smrt biciklista
LOCATION:Kino Tuškanac
DESCRIPTION:Muerte de un ciclista, Španjolska, Italija, 1955 R: Juan Antonio Bardem
END:VEVENT

BEGIN:VEVENT
UID:d8cd091c901216f7d57fb924b2dbd7db@kinotuskanac.hr
DTSTAMP:20260423T150034Z
DTSTART:20180226T210000
DTEND:20180226T230000
SUMMARY:Dobrodošli Mr. Marshall
LOCATION:Kino Tuškanac
DESCRIPTION:Bienvenido, Míster Marshall, Španjolska, 1953 R: Luis García Berlanga
END:VEVENT

BEGIN:VEVENT
UID:077e591d7a0c5562701adce3a9e2be3f@kinotuskanac.hr
DTSTAMP:20260423T150034Z
DTSTART:20180227T190000
DTEND:20180227T210000
SUMMARY:Dobrodošli Mr. Marshall
LOCATION:Kino Tuškanac
DESCRIPTION:Bienvenido, Míster Marshall, Španjolska, 1953 R: Luis García Berlanga
END:VEVENT

BEGIN:VEVENT
UID:e305bc9fdda8e3b5234986b1a154febb@kinotuskanac.hr
DTSTAMP:20260423T150034Z
DTSTART:20180227T210000
DTEND:20180227T230000
SUMMARY:Smrt biciklista
LOCATION:Kino Tuškanac
DESCRIPTION:Muerte de un ciclista, Španjolska, Italija, 1955 R: Juan Antonio Bardem
END:VEVENT

BEGIN:VEVENT
UID:24f9b7bfaefc59b87240c0f9a95d4bc5@kinotuskanac.hr
DTSTAMP:20260423T150034Z
DTSTART:20180228T190000
DTEND:20180228T210000
SUMMARY:Krvnik
LOCATION:Kino Tuškanac
DESCRIPTION:El verdugo, Španjolska, Italija, 1963 R: Luis García Berlanga
END:VEVENT

BEGIN:VEVENT
UID:339d61d680dba6cbf313643a3fe623f1@kinotuskanac.hr
DTSTAMP:20260423T150034Z
DTSTART:20180301T210000
DTEND:20180301T230000
SUMMARY:Krvnik
LOCATION:Kino Tuškanac
DESCRIPTION:El verdugo, Španjolska, Italija, 1963 R: Luis García Berlanga
END:VEVENT

BEGIN:VEVENT
UID:c0bcf7632a03c3f3f0fe027cb0f29da2@kinotuskanac.hr
DTSTAMP:20260423T150034Z
DTSTART:20180228T210000
DTEND:20180228T230000
SUMMARY:Život se nastavlja
LOCATION:Kino Tuškanac
DESCRIPTION:El mundo sigue, 1965 R: Fernando Fernán Gómez
END:VEVENT

BEGIN:VEVENT
UID:7b0ad19d21b99505914746ac7a7cf4dc@kinotuskanac.hr
DTSTAMP:20260423T150034Z
DTSTART:20180301T190000
DTEND:20180301T210000
SUMMARY:Život se nastavlja
LOCATION:Kino Tuškanac
DESCRIPTION:El mundo sigue, 1965 R: Fernando Fernán Gómez
END:VEVENT
END:VCALENDAR