BEGIN:VCALENDAR
VERSION:2.0
PRODID:-//Kino Tuškanac//Filmski programi//HR
URL:http://kinotuskanac/calendar/cycle/607
NAME:Kino Tuškanac ciklus Animaskop
X-WR-CALNAME:Kino Tuškanac ciklus Animaskop
TIMEZONE-ID:Europe/Zagreb
X-WR-TIMEZONE:Europe/Zagreb
REFRESH-INTERVAL;VALUE=DURATION:PT12H
X-PUBLISHED-TTL:PT12H
METHOD:PUBLISH
BEGIN:VEVENT
UID:871dc82f370454a4d306d945a42f8d3b@kinotuskanac.hr
DTSTAMP:20260421T195204Z
DTSTART:20180314T190000
DTEND:20180314T210000
SUMMARY:Divlji planet
LOCATION:Kino Tuškanac
DESCRIPTION:La planète sauvage, Francuska, Čehoslovačka, 1973 R: René Laloux
END:VEVENT

BEGIN:VEVENT
UID:cee6fae187454dff4d8064a2daa7ea3d@kinotuskanac.hr
DTSTAMP:20260421T195204Z
DTSTART:20180402T190000
DTEND:20180402T210000
SUMMARY:Čovjekova tragedija
LOCATION:Kino Tuškanac
DESCRIPTION:Az ember tragédiája, Mađarska, 2011 R: Marcell Jankovics
END:VEVENT

BEGIN:VEVENT
UID:7d4863e0d126707ba469c82e2ace99cd@kinotuskanac.hr
DTSTAMP:20260421T195204Z
DTSTART:20180516T210000
DTEND:20180516T230000
SUMMARY:Valcer s Bashirom
LOCATION:Kino Tuškanac
DESCRIPTION:Vals Im Bashir, Izrael, Francuska, Njemačka, SAD, Finska, Švicarska, Belgija, Australija, 2008 R: Ari Folman
END:VEVENT

BEGIN:VEVENT
UID:865ed846d1a36db3ae4eafd5b4ec590c@kinotuskanac.hr
DTSTAMP:20260421T195204Z
DTSTART:20180615T210000
DTEND:20180615T230000
SUMMARY:Trojke iz Bellevillea
LOCATION:Kino Tuškanac
DESCRIPTION:Les triplettes de Belleville, Francuska, Belgija, Kanada, UK, Latvija, SAD, 2003 R: Sylvain Chomet
END:VEVENT

BEGIN:VEVENT
UID:4b4c238fd6c2a4b196aabe1cdbe94134@kinotuskanac.hr
DTSTAMP:20260421T195204Z
DTSTART:20180919T210000
DTEND:20180919T230000
SUMMARY:Probuđeni život
LOCATION:Kino Tuškanac
DESCRIPTION:Waking Life, SAD, 2001 R: Richard Linklater
END:VEVENT

BEGIN:VEVENT
UID:f8b228c86f443d40be755b7c5482791e@kinotuskanac.hr
DTSTAMP:20260421T195204Z
DTSTART:20181011T210000
DTEND:20181011T230000
SUMMARY:Persepolis
LOCATION:Kino Tuškanac
DESCRIPTION:Francuska, SAD, 2007 R: Marjane Satrapi
END:VEVENT

BEGIN:VEVENT
UID:67b16e4cb946117f6abc8c5cdfa109f3@kinotuskanac.hr
DTSTAMP:20260421T195204Z
DTSTART:20190123T210000
DTEND:20190123T230000
SUMMARY:Alois Nebel
LOCATION:Kino Tuškanac
DESCRIPTION:Češka, Njemačka, 2011 R: Tomáš Lunák
END:VEVENT

BEGIN:VEVENT
UID:cebdf397b1c2466dadc41f86d30514fa@kinotuskanac.hr
DTSTAMP:20260421T195204Z
DTSTART:20190513T190000
DTEND:20190513T210000
SUMMARY:Erotika u animiranom filmu
LOCATION:Kino Tuškanac
DESCRIPTION:
END:VEVENT

BEGIN:VEVENT
UID:f5d0821640569e07351f5d73fdc11fa2@kinotuskanac.hr
DTSTAMP:20260421T195204Z
DTSTART:20190611T190000
DTEND:20190611T210000
SUMMARY:Best of Annecy 2018
LOCATION:Kino Tuškanac
DESCRIPTION:
END:VEVENT

BEGIN:VEVENT
UID:3646e783d3305079f55434d2bd93f295@kinotuskanac.hr
DTSTAMP:20260421T195204Z
DTSTART:20190930T190000
DTEND:20190930T210000
SUMMARY:Čudesni svjetovi Kojija Yamamure
LOCATION:Kino Tuškanac
DESCRIPTION:
END:VEVENT

BEGIN:VEVENT
UID:99d91c9e4264806ac6ee6d34c68244dc@kinotuskanac.hr
DTSTAMP:20260421T195204Z
DTSTART:20191016T190000
DTEND:20191016T210000
SUMMARY:Nadrealni prostori Švankmajera
LOCATION:Kino Tuškanac
DESCRIPTION:
END:VEVENT

BEGIN:VEVENT
UID:1caf16c1868088ea9d7c456b34878004@kinotuskanac.hr
DTSTAMP:20260421T195204Z
DTSTART:20191126T210000
DTEND:20191126T230000
SUMMARY:Čarobna planina
LOCATION:Kino Tuškanac
DESCRIPTION:La montagne magique, Rumunjska, Francuska, Poljska, 2015 R: Anca Damian
END:VEVENT
END:VCALENDAR