BEGIN:VCALENDAR
VERSION:2.0
PRODID:-//Kino Tuškanac//Filmski programi//HR
URL:http://kinotuskanac/calendar/cycle/61
NAME:Kino Tuškanac ciklus Ciklus glazba i film
X-WR-CALNAME:Kino Tuškanac ciklus Ciklus glazba i film
TIMEZONE-ID:Europe/Zagreb
X-WR-TIMEZONE:Europe/Zagreb
REFRESH-INTERVAL;VALUE=DURATION:PT12H
X-PUBLISHED-TTL:PT12H
METHOD:PUBLISH
BEGIN:VEVENT
UID:00bdab1d186f6886b7afa675b1c524d2@kinotuskanac.hr
DTSTAMP:20260421T133130Z
DTSTART:20040601T210000
DTEND:20040601T230000
SUMMARY:Čajkovski
LOCATION:Kino Tuškanac
DESCRIPTION:Chaikovsky, 1969 R: Igor Talankin
END:VEVENT

BEGIN:VEVENT
UID:a24d05b4668562f6c45a96fa373e971f@kinotuskanac.hr
DTSTAMP:20260421T133130Z
DTSTART:20040603T190000
DTEND:20040603T210000
SUMMARY:Proljetna simfonija
LOCATION:Kino Tuškanac
DESCRIPTION:Frühlingssinfonie, 1983 R: Peter Schamoni
END:VEVENT

BEGIN:VEVENT
UID:93c76f4200db303dd217f692d174ab42@kinotuskanac.hr
DTSTAMP:20260421T133130Z
DTSTART:20040608T190000
DTEND:20040608T210000
SUMMARY:Carmen
LOCATION:Kino Tuškanac
DESCRIPTION:1984 R: Francesco Rosi
END:VEVENT

BEGIN:VEVENT
UID:9d33f4c3f9268908e7638f9536bc9c28@kinotuskanac.hr
DTSTAMP:20260421T133130Z
DTSTART:20040605T213000
DTEND:20040605T233000
SUMMARY:Carmen
LOCATION:Kino Tuškanac
DESCRIPTION:1983 R: Carlos Saura
END:VEVENT

BEGIN:VEVENT
UID:b288211fbbf1cfb07c93d3525305663c@kinotuskanac.hr
DTSTAMP:20260421T133130Z
DTSTART:20040612T210000
DTEND:20040612T230000
SUMMARY:Lisinski
LOCATION:Kino Tuškanac
DESCRIPTION:Hrvatska, 1944 R: Oktavijan Miletić
END:VEVENT
END:VCALENDAR