BEGIN:VCALENDAR
VERSION:2.0
PRODID:-//Kino Tuškanac//Filmski programi//HR
URL:http://kinotuskanac/calendar/cycle/615
NAME:Kino Tuškanac ciklus Kurioziteti
X-WR-CALNAME:Kino Tuškanac ciklus Kurioziteti
TIMEZONE-ID:Europe/Zagreb
X-WR-TIMEZONE:Europe/Zagreb
REFRESH-INTERVAL;VALUE=DURATION:PT12H
X-PUBLISHED-TTL:PT12H
METHOD:PUBLISH
BEGIN:VEVENT
UID:96ece9e90502ead69fcdd97337da7f58@kinotuskanac.hr
DTSTAMP:20260424T182634Z
DTSTART:20180418T200000
DTEND:20180418T220000
SUMMARY:Ruska arka
LOCATION:Kino Tuškanac
DESCRIPTION:Russkij kovcheg, Rusija, Njemačka, Japan, Kanada, Finska, Danska, 2002 R: Aleksandr Sokurov
END:VEVENT

BEGIN:VEVENT
UID:b63e471841a5d06c8ba7d841f0a726f2@kinotuskanac.hr
DTSTAMP:20260424T182634Z
DTSTART:20180524T190000
DTEND:20180524T210000
SUMMARY:Araya
LOCATION:Kino Tuškanac
DESCRIPTION:Venezuela, Francuska, 1959 R: Margot Benacerraf
END:VEVENT

BEGIN:VEVENT
UID:49578eb7e8797b27329efc9fbeb426a7@kinotuskanac.hr
DTSTAMP:20260424T182634Z
DTSTART:20181030T190000
DTEND:20181030T210000
SUMMARY:Noć živih mrtvaca
LOCATION:Kino Tuškanac
DESCRIPTION:Night of the Living Dead, SAD, 1968 R: George A. Romero
END:VEVENT

BEGIN:VEVENT
UID:feef258d19901f1ec3051308018c19c4@kinotuskanac.hr
DTSTAMP:20260424T182634Z
DTSTART:20181119T190000
DTEND:20181119T210000
SUMMARY:Careva gola vojska maršira naprijed
LOCATION:Kino Tuškanac
DESCRIPTION:The Emperor's Naked Army Marches On, Japan, 1987 R: Kazuo Hara
END:VEVENT

BEGIN:VEVENT
UID:279d3c6f690514ded937f15ac78c281a@kinotuskanac.hr
DTSTAMP:20260424T182634Z
DTSTART:20181213T190000
DTEND:20181213T210000
SUMMARY:Tajna Picasso
LOCATION:Kino Tuškanac
DESCRIPTION:Le mystère Picasso, Francuska, 1956 R: Henri-Georges Clouzot
END:VEVENT

BEGIN:VEVENT
UID:3988c50db4411aacf444edca3ba160ae@kinotuskanac.hr
DTSTAMP:20260424T182634Z
DTSTART:20181213T210000
DTEND:20181213T230000
SUMMARY:Anđeo
LOCATION:Kino Tuškanac
DESCRIPTION:L'ange, Francuska, 1982 R: Patrick Bokanowski
END:VEVENT

BEGIN:VEVENT
UID:9ea0dfde9275b3924c310bd5e8cac16c@kinotuskanac.hr
DTSTAMP:20260424T182634Z
DTSTART:20190313T190000
DTEND:20190313T210000
SUMMARY:Ja sam Kuba
LOCATION:Kino Tuškanac
DESCRIPTION:Soy Cuba, Kuba, Sovjetski savez, 1964 R: Mihail Kalatozov
END:VEVENT

BEGIN:VEVENT
UID:bca131e337e8ee435f60d63b3f022f14@kinotuskanac.hr
DTSTAMP:20260424T182634Z
DTSTART:20190523T200000
DTEND:20190523T220000
SUMMARY:2001: Odiseja u svemiru
LOCATION:Kino Tuškanac
DESCRIPTION:2001: A Space Odyssey, SAD, UK, 1968 | Mjesto prikazivanja filma: Centar za kulturu Histrionski dom (Ilica 90) R: Stanley Kubrick
END:VEVENT

BEGIN:VEVENT
UID:6018e7af25b7b6a895579bc42332dbce@kinotuskanac.hr
DTSTAMP:20260424T182634Z
DTSTART:20190521T211500
DTEND:20190521T231500
SUMMARY:Ljudi nedjeljom
LOCATION:Kino Tuškanac
DESCRIPTION:Menschen am Sonntag, Njemačka, 1929 R: Robert Siodmak
END:VEVENT

BEGIN:VEVENT
UID:675cb4509820dcef63272f3abf310631@kinotuskanac.hr
DTSTAMP:20260424T182634Z
DTSTART:20190522T210000
DTEND:20190522T230000
SUMMARY:Turksib
LOCATION:Kino Tuškanac
DESCRIPTION:Sovjetski Savez, 1929 R: Viktor Turin
END:VEVENT

BEGIN:VEVENT
UID:3e4a268700080a7ecf62bbb87c7176d2@kinotuskanac.hr
DTSTAMP:20260424T182634Z
DTSTART:20190629T190000
DTEND:20190629T210000
SUMMARY:Lawrence od Arabije
LOCATION:Kino Tuškanac
DESCRIPTION:Lawrence of Arabia, UK, 1962 R: David Lean
END:VEVENT

BEGIN:VEVENT
UID:aa22420c02cc03ca232db0168cad6f04@kinotuskanac.hr
DTSTAMP:20260424T182634Z
DTSTART:20190930T210000
DTEND:20190930T230000
SUMMARY:Kuća na pijesku
LOCATION:Kino Tuškanac
DESCRIPTION:Hrvatska, 1985 | Mjesto prikazivanja filma: Kulturno informativni centar KIC (Preradovićeva ul. 5) R: Ivan Martinac
END:VEVENT

BEGIN:VEVENT
UID:bd3d1ed390dfafdd62e0622d323d6da6@kinotuskanac.hr
DTSTAMP:20260424T182634Z
DTSTART:20200212T190000
DTEND:20200212T210000
SUMMARY:Limite
LOCATION:Kino Tuškanac
DESCRIPTION:Brazil, 1931 R: Mario Peixoto
END:VEVENT

BEGIN:VEVENT
UID:9875936576c267d4fba6bca6ceed5cab@kinotuskanac.hr
DTSTAMP:20260424T182634Z
DTSTART:20231204T200000
DTEND:20231204T220000
SUMMARY:Sleep Has Her House
LOCATION:Kino Tuškanac
DESCRIPTION:UK, 2017 | Mjesto prikazivanja filma: Kino Forum (SD Stjepan Radić, Jarunska ul. 2) R: Scott Barley
END:VEVENT

BEGIN:VEVENT
UID:648d605cb2ecd8853ac14cfb1bcfe314@kinotuskanac.hr
DTSTAMP:20260424T182634Z
DTSTART:20241028T210000
DTEND:20241028T230000
SUMMARY:Golaći
LOCATION:Kino Tuškanac
DESCRIPTION:Szegénylegények, Mađarska, 1965 | Mjesto prikazivanja filma: Centar za kulturu Histrionski dom (Ilica 90) R: Miklós Jancsó
END:VEVENT

BEGIN:VEVENT
UID:69415d41133711815b2090d9b1b50932@kinotuskanac.hr
DTSTAMP:20260424T182634Z
DTSTART:20250612T210000
DTEND:20250612T230000
SUMMARY:Put u tamu
LOCATION:Kino Tuškanac
DESCRIPTION:Diqiu zuihou de yewan, Kina, Francuska, 2018 | Mjesto prikazivanja filma: Kino Forum (SD Stjepan Radić, Jarunska ul. 2) R: Bi Gan
END:VEVENT

BEGIN:VEVENT
UID:8121e9158329d328f3ba817202091faa@kinotuskanac.hr
DTSTAMP:20260424T182634Z
DTSTART:20260131T210000
DTEND:20260131T230000
SUMMARY:Sumrak
LOCATION:Kino Tuškanac
DESCRIPTION:Szürkület, Mađarska, 1990 | Mjesto prikazivanja filma: Kulturno informativni centar KIC (Preradovićeva ul. 5) R: György Fehér
END:VEVENT
END:VCALENDAR