BEGIN:VCALENDAR
VERSION:2.0
PRODID:-//Kino Tuškanac//Filmski programi//HR
URL:http://kinotuskanac/calendar/cycle/616
NAME:Kino Tuškanac ciklus Portreti: Nezaboravne uloge Ivice Vidovića
X-WR-CALNAME:Kino Tuškanac ciklus Portreti: Nezaboravne uloge Ivice Vidovića
TIMEZONE-ID:Europe/Zagreb
X-WR-TIMEZONE:Europe/Zagreb
REFRESH-INTERVAL;VALUE=DURATION:PT12H
X-PUBLISHED-TTL:PT12H
METHOD:PUBLISH
BEGIN:VEVENT
UID:c05ac23a97629e93d20c0f7c793a82a6@kinotuskanac.hr
DTSTAMP:20260423T132800Z
DTSTART:20180419T190000
DTEND:20180419T210000
SUMMARY:Kad čuješ zvona
LOCATION:Kino Tuškanac
DESCRIPTION:Jugoslavija, 1969 R: Antun Vrdoljak
END:VEVENT

BEGIN:VEVENT
UID:30e291ff663e00467f99e1d9b337d13d@kinotuskanac.hr
DTSTAMP:20260423T132800Z
DTSTART:20180419T210000
DTEND:20180419T230000
SUMMARY:Fine mrtve djevojke
LOCATION:Kino Tuškanac
DESCRIPTION:Hrvatska, 2002 R: Dalibor Matanić
END:VEVENT

BEGIN:VEVENT
UID:5d15d6aa085933ec887327b44cf0c526@kinotuskanac.hr
DTSTAMP:20260423T132800Z
DTSTART:20180420T190000
DTEND:20180420T210000
SUMMARY:Ritam zločina
LOCATION:Kino Tuškanac
DESCRIPTION:Jugoslavija: Hrvatska, 1981 | Mjesto prikazivanja filma: Kulturno informativni centar KIC (Preradovićeva ul. 5) R: Zoran Tadić
END:VEVENT

BEGIN:VEVENT
UID:36fcf0cd078fad0b44c98d53d6709d78@kinotuskanac.hr
DTSTAMP:20260423T132800Z
DTSTART:20180420T210000
DTEND:20180420T230000
SUMMARY:W. R. Misterije organizma
LOCATION:Kino Tuškanac
DESCRIPTION:Jugoslavija, SR Njemačka, 1971 R: Dušan Makavejev
END:VEVENT

BEGIN:VEVENT
UID:f2f15f9af45967812719f6c23b304442@kinotuskanac.hr
DTSTAMP:20260423T132800Z
DTSTART:20180421T190000
DTEND:20180421T210000
SUMMARY:Idu dani (1970)
LOCATION:Kino Tuškanac
DESCRIPTION:Jugoslavija: Hrvatska, 1970 R: Fadil Hadžić
END:VEVENT

BEGIN:VEVENT
UID:ffc9fb7259e0a405feb89a62fc622293@kinotuskanac.hr
DTSTAMP:20260423T132800Z
DTSTART:20180421T210000
DTEND:20180421T230000
SUMMARY:Zaseda
LOCATION:Kino Tuškanac
DESCRIPTION:Jugoslavija, 1969 R: Živojin Pavlović
END:VEVENT

BEGIN:VEVENT
UID:7af449a1c89a91363c962f2854722026@kinotuskanac.hr
DTSTAMP:20260423T132800Z
DTSTART:20180422T190000
DTEND:20180422T210000
SUMMARY:Kužiš stari moj
LOCATION:Kino Tuškanac
DESCRIPTION:Jugoslavija, 1973 R: Vanča Kljaković
END:VEVENT

BEGIN:VEVENT
UID:497df70ad0145bf3a4e4f1cc305a27bf@kinotuskanac.hr
DTSTAMP:20260423T132800Z
DTSTART:20180422T210000
DTEND:20180422T230000
SUMMARY:Čovjek koji je volio sprovode
LOCATION:Kino Tuškanac
DESCRIPTION:Jugoslavija: Hrvatska, 1989 | Mjesto prikazivanja filma: Kulturno informativni centar KIC (Preradovićeva ul. 5) R: Zoran Tadić
END:VEVENT
END:VCALENDAR