BEGIN:VCALENDAR
VERSION:2.0
PRODID:-//Kino Tuškanac//Filmski programi//HR
URL:http://kinotuskanac/calendar/cycle/62
NAME:Kino Tuškanac ciklus Producentski ciklus Marina Karmitza
X-WR-CALNAME:Kino Tuškanac ciklus Producentski ciklus Marina Karmitza
TIMEZONE-ID:Europe/Zagreb
X-WR-TIMEZONE:Europe/Zagreb
REFRESH-INTERVAL;VALUE=DURATION:PT12H
X-PUBLISHED-TTL:PT12H
METHOD:PUBLISH
BEGIN:VEVENT
UID:4bd2e2dbba0d55963b3bffec5e9d73b7@kinotuskanac.hr
DTSTAMP:20260419T194018Z
DTSTART:20040518T190000
DTEND:20040518T210000
SUMMARY:Sedam dana negdje drugdje
LOCATION:Kino Tuškanac
DESCRIPTION:Sept jours ailleurs, 1969 R: Marin Karmitz
END:VEVENT

BEGIN:VEVENT
UID:f53e4cab7f4ce0687472dbeaf7f25d2f@kinotuskanac.hr
DTSTAMP:20260419T194018Z
DTSTART:20040518T210000
DTEND:20040518T230000
SUMMARY:Ženski posli
LOCATION:Kino Tuškanac
DESCRIPTION:Une affaire de femmes, 1988 R: Claude Chabrol
END:VEVENT

BEGIN:VEVENT
UID:e380ebe2f66a0658eebd39a9ead5af46@kinotuskanac.hr
DTSTAMP:20260419T194018Z
DTSTART:20040520T190000
DTEND:20040520T210000
SUMMARY:Mélo
LOCATION:Kino Tuškanac
DESCRIPTION:1986 R: Alain Resnais
END:VEVENT

BEGIN:VEVENT
UID:3cdfcb998a620246f766238db13908a0@kinotuskanac.hr
DTSTAMP:20260419T194018Z
DTSTART:20040522T210000
DTEND:20040522T230000
SUMMARY:Vjetar će nas odnijeti
LOCATION:Kino Tuškanac
DESCRIPTION:Le vent nous emportera, Iran, Francuska, 1999 R: Abbas Kiarostami
END:VEVENT

BEGIN:VEVENT
UID:390b25ff037711710e00af45e1a71ff7@kinotuskanac.hr
DTSTAMP:20260419T194018Z
DTSTART:20040525T190000
DTEND:20040525T210000
SUMMARY:Vjetar će nas odnijeti
LOCATION:Kino Tuškanac
DESCRIPTION:Le vent nous emportera, Iran, Francuska, 1999 R: Abbas Kiarostami
END:VEVENT

BEGIN:VEVENT
UID:9bd4be8cd094a454050ddd97f772d84d@kinotuskanac.hr
DTSTAMP:20260419T194018Z
DTSTART:20040525T210000
DTEND:20040525T230000
SUMMARY:Šifra nepoznato
LOCATION:Kino Tuškanac
DESCRIPTION:Code Inconnu, Francuska, Austrija, Rumunjska, 2000 R: Michael Haneke
END:VEVENT

BEGIN:VEVENT
UID:fa6c595439578a960d353f3d4e13c833@kinotuskanac.hr
DTSTAMP:20260419T194018Z
DTSTART:20040527T210000
DTEND:20040527T230000
SUMMARY:Mala braća
LOCATION:Kino Tuškanac
DESCRIPTION:Petits fréres, 1999 R: Jacques Doillon
END:VEVENT
END:VCALENDAR