BEGIN:VCALENDAR
VERSION:2.0
PRODID:-//Kino Tuškanac//Filmski programi//HR
URL:http://kinotuskanac/calendar/cycle/622
NAME:Kino Tuškanac ciklus Subversive Film Festival: Filmozofija 1968
X-WR-CALNAME:Kino Tuškanac ciklus Subversive Film Festival: Filmozofija 1968
TIMEZONE-ID:Europe/Zagreb
X-WR-TIMEZONE:Europe/Zagreb
REFRESH-INTERVAL;VALUE=DURATION:PT12H
X-PUBLISHED-TTL:PT12H
METHOD:PUBLISH
BEGIN:VEVENT
UID:8a07f1906f133d7a05686e2a17433fc1@kinotuskanac.hr
DTSTAMP:20260420T151242Z
DTSTART:20180508T171500
DTEND:20180508T191500
SUMMARY:Brzo
LOCATION:Kino Tuškanac
DESCRIPTION:Vite, Francuska, 1969 R: Daniel Pommereulle
END:VEVENT

BEGIN:VEVENT
UID:109028d8996cf247eec32847d55f5d09@kinotuskanac.hr
DTSTAMP:20260420T151242Z
DTSTART:20180508T171500
DTEND:20180508T191500
SUMMARY:Bezglavi
LOCATION:Kino Tuškanac
DESCRIPTION:Acéphale, Francuska, 1968 R: Patrick Deval
END:VEVENT

BEGIN:VEVENT
UID:eda92a030374badf0b51bf87a66a1a54@kinotuskanac.hr
DTSTAMP:20260420T151243Z
DTSTART:20180508T210000
DTEND:20180508T230000
SUMMARY:Dražestan mjesec svibanj
LOCATION:Kino Tuškanac
DESCRIPTION:Le Joli mai, Francuska, 1963 R: Chris Marker, Pierre Lhomme
END:VEVENT

BEGIN:VEVENT
UID:aa939223355dbc1100220ac71426e590@kinotuskanac.hr
DTSTAMP:20260420T151243Z
DTSTART:20180509T181500
DTEND:20180509T201500
SUMMARY:Revolucija je samo početak: Nastavimo borbu
LOCATION:Kino Tuškanac
DESCRIPTION:La révolution n'est qu'un début: Continuons le combat, Francuska, 1968 R: Pierre Clémenti
END:VEVENT

BEGIN:VEVENT
UID:3b9cdddc29b155aaca63e77b73b637f1@kinotuskanac.hr
DTSTAMP:20260420T151243Z
DTSTART:20180509T181500
DTEND:20180509T201500
SUMMARY:Uništite se
LOCATION:Kino Tuškanac
DESCRIPTION:Détruisez-vous, Francuska, 1968 R: Serge Bard
END:VEVENT

BEGIN:VEVENT
UID:403617a6322b4b3300cdffa1cba839d5@kinotuskanac.hr
DTSTAMP:20260420T151243Z
DTSTART:20180513T214500
DTEND:20180513T234500
SUMMARY:Umrijeti sa 30 godina
LOCATION:Kino Tuškanac
DESCRIPTION:Mourir à trente ans, Francuska, 1982 R: Romain Goupil
END:VEVENT
END:VCALENDAR