BEGIN:VCALENDAR
VERSION:2.0
PRODID:-//Kino Tuškanac//Filmski programi//HR
URL:http://kinotuskanac/calendar/cycle/634
NAME:Kino Tuškanac ciklus Portreti: Film uznemirenosti Michaela Hanekea
X-WR-CALNAME:Kino Tuškanac ciklus Portreti: Film uznemirenosti Michaela Hanekea
TIMEZONE-ID:Europe/Zagreb
X-WR-TIMEZONE:Europe/Zagreb
REFRESH-INTERVAL;VALUE=DURATION:PT12H
X-PUBLISHED-TTL:PT12H
METHOD:PUBLISH
BEGIN:VEVENT
UID:abfcd130fc0cb9f3c2438ffead92f0de@kinotuskanac.hr
DTSTAMP:20260421T102800Z
DTSTART:20180903T190000
DTEND:20180903T210000
SUMMARY:Sedmi kontinent
LOCATION:Kino Tuškanac
DESCRIPTION:Der Siebente Kontinent, Austrija, 1989 R: Michael Haneke
END:VEVENT

BEGIN:VEVENT
UID:95b43c5768461a9a23ed08dba9688a97@kinotuskanac.hr
DTSTAMP:20260421T102800Z
DTSTART:20180904T190000
DTEND:20180904T210000
SUMMARY:71 odlomak iz kronologije slučajnosti
LOCATION:Kino Tuškanac
DESCRIPTION:71 Fragmente einer Chronologie des Zufalls, Austrija, Njemačka, 1994 R: Michael Haneke
END:VEVENT

BEGIN:VEVENT
UID:9ca5b3cff63b4bcaefaf2a3c2bb3c398@kinotuskanac.hr
DTSTAMP:20260421T102800Z
DTSTART:20180904T210000
DTEND:20180904T230000
SUMMARY:Šifra nepoznato
LOCATION:Kino Tuškanac
DESCRIPTION:Code Inconnu, Francuska, Austrija, Rumunjska, 2000 R: Michael Haneke
END:VEVENT

BEGIN:VEVENT
UID:3d4376d4527b360a99a582f7cfce80ce@kinotuskanac.hr
DTSTAMP:20260421T102800Z
DTSTART:20180905T190000
DTEND:20180905T210000
SUMMARY:Vrijeme vuka
LOCATION:Kino Tuškanac
DESCRIPTION:Le temps du loup, Francuska, Austrija, Njemačka, 2003 R: Michael Haneke
END:VEVENT

BEGIN:VEVENT
UID:d0116dca3ce06cc0b078bc23a3284409@kinotuskanac.hr
DTSTAMP:20260421T102800Z
DTSTART:20180906T210000
DTEND:20180906T230000
SUMMARY:Bijela vrpca
LOCATION:Kino Tuškanac
DESCRIPTION:Das weiße Band, Njemačka, Austrija, Francuska, Italija, 2009 R: Michael Haneke
END:VEVENT

BEGIN:VEVENT
UID:424796eed53382b41512755de1b105cb@kinotuskanac.hr
DTSTAMP:20260421T102800Z
DTSTART:20180906T190000
DTEND:20180906T210000
SUMMARY:Bennyjev video
LOCATION:Kino Tuškanac
DESCRIPTION:Benny's Video, Austrija, Švicarska, 1992 R: Michael Haneke
END:VEVENT

BEGIN:VEVENT
UID:a41efcc9f16f981dc7c51d2c3edef0f4@kinotuskanac.hr
DTSTAMP:20260421T102800Z
DTSTART:20180908T210000
DTEND:20180908T230000
SUMMARY:Učiteljica glasovira
LOCATION:Kino Tuškanac
DESCRIPTION:La pianiste, Austrija, Francuska, Njemačka, 2001 | Mjesto prikazivanja filma: Kulturno informativni centar KIC (Preradovićeva ul. 5) R: Michael Haneke
END:VEVENT

BEGIN:VEVENT
UID:1cd2c8b3073eaa41e6dff6046416bb4e@kinotuskanac.hr
DTSTAMP:20260421T102800Z
DTSTART:20180907T190000
DTEND:20180907T210000
SUMMARY:Funny Games
LOCATION:Kino Tuškanac
DESCRIPTION:Austrija, 1997 R: Michael Haneke
END:VEVENT

BEGIN:VEVENT
UID:a67d3f4d472089b62f3994fca3c53213@kinotuskanac.hr
DTSTAMP:20260421T102800Z
DTSTART:20180907T210000
DTEND:20180907T230000
SUMMARY:Ljubav (2012)
LOCATION:Kino Tuškanac
DESCRIPTION:Amour, Austrija, Francuska, Njemačka, 2012 R: Michael Haneke
END:VEVENT

BEGIN:VEVENT
UID:88e67ddb9d42c355e87cc8213aa75d97@kinotuskanac.hr
DTSTAMP:20260421T102800Z
DTSTART:20180908T190000
DTEND:20180908T210000
SUMMARY:Skriveno
LOCATION:Kino Tuškanac
DESCRIPTION:Caché, Francuska, Austrija, Italija, Njemačka, 2005 R: Michael Haneke
END:VEVENT

BEGIN:VEVENT
UID:89de2bda39a3f6070fd1119c826a7f68@kinotuskanac.hr
DTSTAMP:20260421T102800Z
DTSTART:20180905T210000
DTEND:20180905T230000
SUMMARY:Sretan kraj
LOCATION:Kino Tuškanac
DESCRIPTION:Happy End, Francuska, Austrija, Njemačka, 2017 R: Michael Haneke
END:VEVENT
END:VCALENDAR