BEGIN:VCALENDAR
VERSION:2.0
PRODID:-//Kino Tuškanac//Filmski programi//HR
URL:http://kinotuskanac/calendar/cycle/646
NAME:Kino Tuškanac ciklus Fokus: Noć vještica/Halloween
X-WR-CALNAME:Kino Tuškanac ciklus Fokus: Noć vještica/Halloween
TIMEZONE-ID:Europe/Zagreb
X-WR-TIMEZONE:Europe/Zagreb
REFRESH-INTERVAL;VALUE=DURATION:PT12H
X-PUBLISHED-TTL:PT12H
METHOD:PUBLISH
BEGIN:VEVENT
UID:40d7d3d1037b2b3e11c8f0d129d9aa07@kinotuskanac.hr
DTSTAMP:20260424T044742Z
DTSTART:20181031T190000
DTEND:20181031T210000
SUMMARY:Noć vještica
LOCATION:Kino Tuškanac
DESCRIPTION:Halloween, SAD, 1978 R: John Carpenter
END:VEVENT

BEGIN:VEVENT
UID:03382fd61fc14ab7ec7f7ba84035468f@kinotuskanac.hr
DTSTAMP:20260424T044742Z
DTSTART:20181031T210000
DTEND:20181031T230000
SUMMARY:Zla smrt
LOCATION:Kino Tuškanac
DESCRIPTION:The Evil Dead, SAD, 1981 R: Sam Raimi
END:VEVENT
END:VCALENDAR