BEGIN:VCALENDAR
VERSION:2.0
PRODID:-//Kino Tuškanac//Filmski programi//HR
URL:http://kinotuskanac/calendar/cycle/649
NAME:Kino Tuškanac ciklus Portreti: Seciranja prošlosti Pabla Larraína
X-WR-CALNAME:Kino Tuškanac ciklus Portreti: Seciranja prošlosti Pabla Larraína
TIMEZONE-ID:Europe/Zagreb
X-WR-TIMEZONE:Europe/Zagreb
REFRESH-INTERVAL;VALUE=DURATION:PT12H
X-PUBLISHED-TTL:PT12H
METHOD:PUBLISH
BEGIN:VEVENT
UID:623e8cb4d9bba011ecb13097342e28fc@kinotuskanac.hr
DTSTAMP:20260425T113502Z
DTSTART:20181108T190000
DTEND:20181108T210000
SUMMARY:Ne
LOCATION:Kino Tuškanac
DESCRIPTION:No, Čile, Francuska, Meksiko, SAD, 2012 R: Pablo Larraín
END:VEVENT

BEGIN:VEVENT
UID:297cffff9f010905dbb65e842f89c174@kinotuskanac.hr
DTSTAMP:20260425T113502Z
DTSTART:20181109T190000
DTEND:20181109T210000
SUMMARY:Tony Manero
LOCATION:Kino Tuškanac
DESCRIPTION:Čile, Brazil, 2008 R: Pablo Larraín
END:VEVENT

BEGIN:VEVENT
UID:1f544fed0c34b436cad7aa44e312a020@kinotuskanac.hr
DTSTAMP:20260425T113502Z
DTSTART:20181109T210000
DTEND:20181109T230000
SUMMARY:Klub
LOCATION:Kino Tuškanac
DESCRIPTION:El Club, Čile, 2015 R: Pablo Larraín
END:VEVENT

BEGIN:VEVENT
UID:1c30c10cfac00bf3b27f0b0adcccbdc1@kinotuskanac.hr
DTSTAMP:20260425T113502Z
DTSTART:20181110T190000
DTEND:20181110T210000
SUMMARY:Neruda
LOCATION:Kino Tuškanac
DESCRIPTION:Čile, Argentina, Francuska, Španjolska, SAD, 2016 R: Pablo Larraín
END:VEVENT

BEGIN:VEVENT
UID:da2d3ad06a72d609d0a052ef5ddd12d6@kinotuskanac.hr
DTSTAMP:20260425T113502Z
DTSTART:20181110T210000
DTEND:20181110T230000
SUMMARY:Post Mortem
LOCATION:Kino Tuškanac
DESCRIPTION:Čile, Njemačka, Meksiko, 2010 R: Pablo Larraín
END:VEVENT
END:VCALENDAR