BEGIN:VCALENDAR
VERSION:2.0
PRODID:-//Kino Tuškanac//Filmski programi//HR
URL:http://kinotuskanac/calendar/cycle/65
NAME:Kino Tuškanac ciklus TV serija Berlin Alexanderplatz (1979/1980)
X-WR-CALNAME:Kino Tuškanac ciklus TV serija Berlin Alexanderplatz (1979/1980)
TIMEZONE-ID:Europe/Zagreb
X-WR-TIMEZONE:Europe/Zagreb
REFRESH-INTERVAL;VALUE=DURATION:PT12H
X-PUBLISHED-TTL:PT12H
METHOD:PUBLISH
BEGIN:VEVENT
UID:78a16735673fab9fbf5b6d4b0b941472@kinotuskanac.hr
DTSTAMP:20260424T182614Z
DTSTART:20041005T190000
DTEND:20041005T210000
SUMMARY:Berlin Alexanderplatz
LOCATION:Kino Tuškanac
DESCRIPTION:Zapadna Njemačka, Italija, 1980 R: Rainer Werner Fassbinder
END:VEVENT

BEGIN:VEVENT
UID:edd01e41b458986a94b08799d309b283@kinotuskanac.hr
DTSTAMP:20260424T182614Z
DTSTART:20041007T190000
DTEND:20041007T210000
SUMMARY:Berlin Alexanderplatz
LOCATION:Kino Tuškanac
DESCRIPTION:Zapadna Njemačka, Italija, 1980 R: Rainer Werner Fassbinder
END:VEVENT

BEGIN:VEVENT
UID:9ad6f64b633060d3acc730dbe395ae0b@kinotuskanac.hr
DTSTAMP:20260424T182614Z
DTSTART:20041012T190000
DTEND:20041012T210000
SUMMARY:Berlin Alexanderplatz
LOCATION:Kino Tuškanac
DESCRIPTION:Zapadna Njemačka, Italija, 1980 R: Rainer Werner Fassbinder
END:VEVENT

BEGIN:VEVENT
UID:fce9cbc31fcdc4c25727818849879501@kinotuskanac.hr
DTSTAMP:20260424T182614Z
DTSTART:20041014T190000
DTEND:20041014T210000
SUMMARY:Berlin Alexanderplatz
LOCATION:Kino Tuškanac
DESCRIPTION:Zapadna Njemačka, Italija, 1980 R: Rainer Werner Fassbinder
END:VEVENT

BEGIN:VEVENT
UID:99d1426b263536b47249f93e93bf54bc@kinotuskanac.hr
DTSTAMP:20260424T182614Z
DTSTART:20041019T190000
DTEND:20041019T210000
SUMMARY:Berlin Alexanderplatz
LOCATION:Kino Tuškanac
DESCRIPTION:Zapadna Njemačka, Italija, 1980 R: Rainer Werner Fassbinder
END:VEVENT

BEGIN:VEVENT
UID:afb0063f742ede7e9644caa63101af53@kinotuskanac.hr
DTSTAMP:20260424T182614Z
DTSTART:20041021T190000
DTEND:20041021T210000
SUMMARY:Berlin Alexanderplatz
LOCATION:Kino Tuškanac
DESCRIPTION:Zapadna Njemačka, Italija, 1980 R: Rainer Werner Fassbinder
END:VEVENT

BEGIN:VEVENT
UID:510767fb839b7aa9027793061e175a97@kinotuskanac.hr
DTSTAMP:20260424T182614Z
DTSTART:20041026T190000
DTEND:20041026T210000
SUMMARY:Berlin Alexanderplatz
LOCATION:Kino Tuškanac
DESCRIPTION:Zapadna Njemačka, Italija, 1980 R: Rainer Werner Fassbinder
END:VEVENT

BEGIN:VEVENT
UID:3cd91569fe281d8a99b260a581468a20@kinotuskanac.hr
DTSTAMP:20260424T182614Z
DTSTART:20041028T210000
DTEND:20041028T230000
SUMMARY:Berlin Alexanderplatz
LOCATION:Kino Tuškanac
DESCRIPTION:Zapadna Njemačka, Italija, 1980 R: Rainer Werner Fassbinder
END:VEVENT

BEGIN:VEVENT
UID:d6cc7b656a078be016be8c8850e1d827@kinotuskanac.hr
DTSTAMP:20260424T182614Z
DTSTART:20121114T210000
DTEND:20121114T230000
SUMMARY:Berlin Alexanderplatz
LOCATION:Kino Tuškanac
DESCRIPTION:Zapadna Njemačka, Italija, 1980 R: Rainer Werner Fassbinder
END:VEVENT

BEGIN:VEVENT
UID:b050cfde58e581a30bd2fe4becc37606@kinotuskanac.hr
DTSTAMP:20260424T182614Z
DTSTART:20121115T190000
DTEND:20121115T210000
SUMMARY:Berlin Alexanderplatz
LOCATION:Kino Tuškanac
DESCRIPTION:Zapadna Njemačka, Italija, 1980 R: Rainer Werner Fassbinder
END:VEVENT

BEGIN:VEVENT
UID:32e0d9ba6d7602def9b002a689100263@kinotuskanac.hr
DTSTAMP:20260424T182614Z
DTSTART:20121118T190000
DTEND:20121118T210000
SUMMARY:Berlin Alexanderplatz
LOCATION:Kino Tuškanac
DESCRIPTION:Zapadna Njemačka, Italija, 1980 R: Rainer Werner Fassbinder
END:VEVENT

BEGIN:VEVENT
UID:936a9b6a9c5cee3cb0fdefbb822f7615@kinotuskanac.hr
DTSTAMP:20260424T182614Z
DTSTART:20121125T190000
DTEND:20121125T210000
SUMMARY:Berlin Alexanderplatz
LOCATION:Kino Tuškanac
DESCRIPTION:Zapadna Njemačka, Italija, 1980 R: Rainer Werner Fassbinder
END:VEVENT

BEGIN:VEVENT
UID:81f3d9d973fb24793657aec0e769d40b@kinotuskanac.hr
DTSTAMP:20260424T182614Z
DTSTART:20121202T190000
DTEND:20121202T210000
SUMMARY:Berlin Alexanderplatz
LOCATION:Kino Tuškanac
DESCRIPTION:Zapadna Njemačka, Italija, 1980 R: Rainer Werner Fassbinder
END:VEVENT

BEGIN:VEVENT
UID:abbd1f005741a0b4abf3807d61eed709@kinotuskanac.hr
DTSTAMP:20260424T182614Z
DTSTART:20121203T190000
DTEND:20121203T210000
SUMMARY:Berlin Alexanderplatz
LOCATION:Kino Tuškanac
DESCRIPTION:Zapadna Njemačka, Italija, 1980 R: Rainer Werner Fassbinder
END:VEVENT

BEGIN:VEVENT
UID:6f7864742e6b70a32aaf7dde639f8275@kinotuskanac.hr
DTSTAMP:20260424T182614Z
DTSTART:20121208T190000
DTEND:20121208T210000
SUMMARY:Berlin Alexanderplatz
LOCATION:Kino Tuškanac
DESCRIPTION:Zapadna Njemačka, Italija, 1980 R: Rainer Werner Fassbinder
END:VEVENT

BEGIN:VEVENT
UID:d9b3eac5424809c2ac438a5772b79ca2@kinotuskanac.hr
DTSTAMP:20260424T182614Z
DTSTART:20121209T190000
DTEND:20121209T210000
SUMMARY:Berlin Alexanderplatz
LOCATION:Kino Tuškanac
DESCRIPTION:Zapadna Njemačka, Italija, 1980 R: Rainer Werner Fassbinder
END:VEVENT
END:VCALENDAR