BEGIN:VCALENDAR
VERSION:2.0
PRODID:-//Kino Tuškanac//Filmski programi//HR
URL:http://kinotuskanac/calendar/cycle/660
NAME:Kino Tuškanac ciklus Fokus: Božić na filmu
X-WR-CALNAME:Kino Tuškanac ciklus Fokus: Božić na filmu
TIMEZONE-ID:Europe/Zagreb
X-WR-TIMEZONE:Europe/Zagreb
REFRESH-INTERVAL;VALUE=DURATION:PT12H
X-PUBLISHED-TTL:PT12H
METHOD:PUBLISH
BEGIN:VEVENT
UID:247c3103415c14a820885976d0e81418@kinotuskanac.hr
DTSTAMP:20260420T133713Z
DTSTART:20181226T190000
DTEND:20181226T210000
SUMMARY:Apartman
LOCATION:Kino Tuškanac
DESCRIPTION:The Apartment, SAD, 1960 | Mjesto prikazivanja filma: Centar za kulturu Histrionski dom (Ilica 90) R: Billy Wilder
END:VEVENT

BEGIN:VEVENT
UID:b91311af4898f5901eda5953f728eb66@kinotuskanac.hr
DTSTAMP:20260420T133713Z
DTSTART:20181227T190000
DTEND:20181227T210000
SUMMARY:Srest ćemo se u St. Louisu
LOCATION:Kino Tuškanac
DESCRIPTION:Meet Me in St. Louis, SAD, 1944 | Mjesto prikazivanja filma: Kulturno informativni centar KIC (Preradovićeva ul. 5) R: Vincente Minnelli
END:VEVENT

BEGIN:VEVENT
UID:044a13065cf2d16df2ec4ce14859d5df@kinotuskanac.hr
DTSTAMP:20260420T133713Z
DTSTART:20181227T210000
DTEND:20181227T230000
SUMMARY:Čudo u 34. ulici
LOCATION:Kino Tuškanac
DESCRIPTION:Miracle on 34th Street, SAD, 1947 | Mjesto prikazivanja filma: Kino Forum (SD Stjepan Radić, Jarunska ul. 2) R: George Seaton
END:VEVENT

BEGIN:VEVENT
UID:d9ba17fd725b50e95418ce86ba5670f5@kinotuskanac.hr
DTSTAMP:20260420T133713Z
DTSTART:20181228T190000
DTEND:20181228T210000
SUMMARY:Trgovina iza ugla
LOCATION:Kino Tuškanac
DESCRIPTION:The Shop Around the Corner, SAD, 1940 | Mjesto prikazivanja filma: Kulturno informativni centar KIC (Preradovićeva ul. 5) R: Ernst Lubitsch
END:VEVENT

BEGIN:VEVENT
UID:4a05f1d526b5dcc74d57112d3d421a1c@kinotuskanac.hr
DTSTAMP:20260420T133713Z
DTSTART:20181228T210000
DTEND:20181228T230000
SUMMARY:Umri muški
LOCATION:Kino Tuškanac
DESCRIPTION:Die Hard, SAD, 1988 R: John McTiernan
END:VEVENT

BEGIN:VEVENT
UID:9efd2021899601411faac5be044447e7@kinotuskanac.hr
DTSTAMP:20260420T133713Z
DTSTART:20181229T170000
DTEND:20181229T190000
SUMMARY:Božićna noćna mora
LOCATION:Kino Tuškanac
DESCRIPTION:The Nightmare Before Christmas, SAD, 1993 R: Henry Selick
END:VEVENT

BEGIN:VEVENT
UID:10975c4cac8f79e137c6803967f7037b@kinotuskanac.hr
DTSTAMP:20260420T133713Z
DTSTART:20181229T190000
DTEND:20181229T210000
SUMMARY:Brazil
LOCATION:Kino Tuškanac
DESCRIPTION:SAD, UK, 1985 R: Terry Gilliam
END:VEVENT
END:VCALENDAR