BEGIN:VCALENDAR
VERSION:2.0
PRODID:-//Kino Tuškanac//Filmski programi//HR
URL:http://kinotuskanac/calendar/cycle/662
NAME:Kino Tuškanac ciklus Portreti: Duhoviti univerzum Woodyja Allena
X-WR-CALNAME:Kino Tuškanac ciklus Portreti: Duhoviti univerzum Woodyja Allena
TIMEZONE-ID:Europe/Zagreb
X-WR-TIMEZONE:Europe/Zagreb
REFRESH-INTERVAL;VALUE=DURATION:PT12H
X-PUBLISHED-TTL:PT12H
METHOD:PUBLISH
BEGIN:VEVENT
UID:db17ea656b59df21cf4d3a6690c289a3@kinotuskanac.hr
DTSTAMP:20260424T071007Z
DTSTART:20190107T190000
DTEND:20190107T210000
SUMMARY:Zločini i prekršaji
LOCATION:Kino Tuškanac
DESCRIPTION:Crimes and Misdemeanors, SAD, 1989 R: Woody Allen
END:VEVENT

BEGIN:VEVENT
UID:34300373b580a3e3d01fda7b2fb92022@kinotuskanac.hr
DTSTAMP:20260424T071007Z
DTSTART:20190108T190000
DTEND:20190108T210000
SUMMARY:Spavač
LOCATION:Kino Tuškanac
DESCRIPTION:Sleeper, SAD, 1973 R: Woody Allen
END:VEVENT

BEGIN:VEVENT
UID:81fdfbd3afb1142b3e535ddd4ee800e6@kinotuskanac.hr
DTSTAMP:20260424T071007Z
DTSTART:20190108T210000
DTEND:20190108T230000
SUMMARY:Dani radija
LOCATION:Kino Tuškanac
DESCRIPTION:Radio Days, SAD, 1987 R: Woody Allen
END:VEVENT

BEGIN:VEVENT
UID:2a37613fa8cf906790570a89460f68a8@kinotuskanac.hr
DTSTAMP:20260424T071007Z
DTSTART:20190109T190000
DTEND:20190109T210000
SUMMARY:Sjećanja na zvjezdanu prašinu
LOCATION:Kino Tuškanac
DESCRIPTION:Stardust Memories, SAD, 1980 R: Woody Allen
END:VEVENT

BEGIN:VEVENT
UID:02dcf50fdb16c1ef43ae64770d93c57f@kinotuskanac.hr
DTSTAMP:20260424T071007Z
DTSTART:20190109T210000
DTEND:20190109T230000
SUMMARY:Muževi i žene
LOCATION:Kino Tuškanac
DESCRIPTION:Husbands and Wives, SAD, 1992 R: Woody Allen
END:VEVENT

BEGIN:VEVENT
UID:db81c3192bc5b25d84fb88e684529029@kinotuskanac.hr
DTSTAMP:20260424T071007Z
DTSTART:20190110T190000
DTEND:20190110T210000
SUMMARY:Zelig
LOCATION:Kino Tuškanac
DESCRIPTION:SAD, 1983 R: Woody Allen
END:VEVENT

BEGIN:VEVENT
UID:7f9b390f8148b11a9048b2da3f3b1c1e@kinotuskanac.hr
DTSTAMP:20260424T071007Z
DTSTART:20190110T210000
DTEND:20190110T230000
SUMMARY:Ljubav i smrt
LOCATION:Kino Tuškanac
DESCRIPTION:Love and Death, SAD, 1974 R: Woody Allen
END:VEVENT

BEGIN:VEVENT
UID:3bd40b0461111e63ccb726c77fc15e1a@kinotuskanac.hr
DTSTAMP:20260424T071007Z
DTSTART:20190111T190000
DTEND:20190111T210000
SUMMARY:Annie Hall
LOCATION:Kino Tuškanac
DESCRIPTION:SAD, 1977 | Mjesto prikazivanja filma: Centar za kulturu Histrionski dom (Ilica 90) R: Woody Allen
END:VEVENT

BEGIN:VEVENT
UID:f68cb3bd10b846e82a28158589799498@kinotuskanac.hr
DTSTAMP:20260424T071007Z
DTSTART:20190111T210000
DTEND:20190111T230000
SUMMARY:Manhattan
LOCATION:Kino Tuškanac
DESCRIPTION:SAD, 1979 | Mjesto prikazivanja filma: Centar za kulturu Histrionski dom (Ilica 90) R: Woody Allen
END:VEVENT

BEGIN:VEVENT
UID:d7d3747be2011451556ebbec8df6ce6d@kinotuskanac.hr
DTSTAMP:20260424T071007Z
DTSTART:20190112T190000
DTEND:20190112T210000
SUMMARY:Hannah i njezine sestre
LOCATION:Kino Tuškanac
DESCRIPTION:Hannah and Her Sisters, SAD, 1986 | Mjesto prikazivanja filma: Kino Forum (SD Stjepan Radić, Jarunska ul. 2) R: Woody Allen
END:VEVENT

BEGIN:VEVENT
UID:ade408697173f25bd8a1f16a00a6b89c@kinotuskanac.hr
DTSTAMP:20260424T071007Z
DTSTART:20190112T210000
DTEND:20190112T230000
SUMMARY:Purpurna ruža Kaira
LOCATION:Kino Tuškanac
DESCRIPTION:The Purple Rose of Cairo, SAD, 1985 R: Woody Allen
END:VEVENT

BEGIN:VEVENT
UID:67243405e3d9c5fe3425baf98245a8db@kinotuskanac.hr
DTSTAMP:20260424T071007Z
DTSTART:20190113T190000
DTEND:20190113T210000
SUMMARY:Broadway Danny Rose
LOCATION:Kino Tuškanac
DESCRIPTION:SAD, 1984 R: Woody Allen
END:VEVENT

BEGIN:VEVENT
UID:4c3e73f2f5f73fc92fedf66dc7775088@kinotuskanac.hr
DTSTAMP:20260424T071007Z
DTSTART:20190113T210000
DTEND:20190113T230000
SUMMARY:Interijeri
LOCATION:Kino Tuškanac
DESCRIPTION:Interiors, SAD, 1978 R: Woody Allen
END:VEVENT

BEGIN:VEVENT
UID:74b3c3e77ab4e37819cb6d9886a1eccb@kinotuskanac.hr
DTSTAMP:20260424T071007Z
DTSTART:20190114T190000
DTEND:20190114T210000
SUMMARY:Druga žena
LOCATION:Kino Tuškanac
DESCRIPTION:Another Woman, SAD, 1988 R: Woody Allen
END:VEVENT

BEGIN:VEVENT
UID:dc8fd49d74871c77f4a4e6a4503b24ee@kinotuskanac.hr
DTSTAMP:20260424T071007Z
DTSTART:20190114T210000
DTEND:20190114T230000
SUMMARY:Sve što ste oduvijek željeli znati o seksu, a niste se usudili pitati
LOCATION:Kino Tuškanac
DESCRIPTION:Everything You Always Wanted to Know About Sex * But Were Afraid to Ask, SAD, 1972 R: Woody Allen
END:VEVENT

BEGIN:VEVENT
UID:401deb7792a9106de35275937402c8e1@kinotuskanac.hr
DTSTAMP:20260424T071007Z
DTSTART:20190115T190000
DTEND:20190115T210000
SUMMARY:Banane
LOCATION:Kino Tuškanac
DESCRIPTION:Bananas, SAD, 1971 R: Woody Allen
END:VEVENT

BEGIN:VEVENT
UID:ba9f6a208fbf0e2007ee4462e9c92245@kinotuskanac.hr
DTSTAMP:20260424T071007Z
DTSTART:20190115T210000
DTEND:20190115T230000
SUMMARY:Manhattanski krimić
LOCATION:Kino Tuškanac
DESCRIPTION:Manhattan Murder Mystery, SAD, 1993 R: Woody Allen
END:VEVENT
END:VCALENDAR